BEGIN:VCALENDAR
VERSION:2.0
PRODID:-//Staabi ry - ECPv6.15.17.1//NONSGML v1.0//EN
CALSCALE:GREGORIAN
METHOD:PUBLISH
X-ORIGINAL-URL:https://staabi.fi
X-WR-CALDESC:Tapahtumat Staabi ry
REFRESH-INTERVAL;VALUE=DURATION:PT1H
X-Robots-Tag:noindex
X-PUBLISHED-TTL:PT1H
BEGIN:VTIMEZONE
TZID:Europe/Helsinki
BEGIN:DAYLIGHT
TZOFFSETFROM:+0200
TZOFFSETTO:+0300
TZNAME:EEST
DTSTART:20250330T010000
END:DAYLIGHT
BEGIN:STANDARD
TZOFFSETFROM:+0300
TZOFFSETTO:+0200
TZNAME:EET
DTSTART:20251026T010000
END:STANDARD
BEGIN:DAYLIGHT
TZOFFSETFROM:+0200
TZOFFSETTO:+0300
TZNAME:EEST
DTSTART:20260329T010000
END:DAYLIGHT
BEGIN:STANDARD
TZOFFSETFROM:+0300
TZOFFSETTO:+0200
TZNAME:EET
DTSTART:20261025T010000
END:STANDARD
BEGIN:DAYLIGHT
TZOFFSETFROM:+0200
TZOFFSETTO:+0300
TZNAME:EEST
DTSTART:20270328T010000
END:DAYLIGHT
BEGIN:STANDARD
TZOFFSETFROM:+0300
TZOFFSETTO:+0200
TZNAME:EET
DTSTART:20271031T010000
END:STANDARD
END:VTIMEZONE
BEGIN:VEVENT
DTSTART;TZID=Europe/Helsinki:20260515T170000
DTEND;TZID=Europe/Helsinki:20260515T190000
DTSTAMP:20260426T035208
CREATED:20260421T184103Z
LAST-MODIFIED:20260421T184103Z
UID:232597-1778864400-1778871600@staabi.fi
SUMMARY:Staabin valmistujaiset
DESCRIPTION:In English below \nMITÄ? Staabin valmistujaisetMISSÄ? Lyhty-tila\, Tampereen yliopistoMILLOIN? Perjantaina 15.5. Klo 17.00-19.00KENELLE? Jokaiselle staabilaiselle\, joka haluaa juhlistaa omaa tai ystävän valmistumista!MIKSI? Korkeakoulututkinto on pitkän uurastuksen tulos\, eikä valmistumista ei voi koskaan juhlistaa liikaa!MITÄ MAKSAA? Tapahtuma on ilmainenILMOITTAUTUMINEN? Google Forms MITÄ PUETAAN PÄÄLLE? Pukukoodina kesäiset juhlat! \nOletko juuri valmistunut tai valmistumassa hallintotieteiden tutkinto-ohjelmasta? \nKorkeakoulusta valmistuminen on sinnikkään työn ja uurastuksen tulos\, josta on syytä olla ylpeä. Näitä elämän etappeja ei voi juhlistaa liikaa\, jonka vuoksi Staabi järjestää jälleen omat hallintotieteiden opiskelijoille sekä tuoreille alumneille suunnatut valmistujaiset\, jossa pääsemme juhlistamaan yhdessä opintojen loppuun saattamista! Tule siis Päätalon sisäpihan Lyhty-rakennukseen nauttimaan hyvistä tarjoilusta ja seurasta muiden vastavalmistuneiden kesken tai vaikka vain juhlistamaan valmistunutta staabikaveria. \nPaikalla on myös Staabin kamera kuvaajineen\, joten halukkaat voivat ottaa mukaan tutkintotodistuksensa kansion mahdollisten valmistujaiskuvien ottamista varten. \nValmistujaiset ovat tarkoitettu kaikille vastavalmistuneille\, niin kandidaateille\, maistereille kuin tohtoreillekin\, sekä heidän staabilaisille ystävilleen. Hoks! Tervetulleita juhlaan ovat myös syyslukukaudella 2025 valmistuneet. \nIlmoittautuminen tapahtumaan tapahtuu forms-lomakkeen kautta. \nTapahtuma on fyysisesti esteetön. Lyhty sijaitsee yliopiston Päätalon sisäpihalla\, jonne pääsee joko talon ympäri kiertämällä tai aulan perällä olevista ulko-ovista. Lyhtyyn pääsee pyörätuolilla rampin kautta\, ja tilan ovet on sähköistetty aukeamaan inva-painikkeesta painamalla. Lähin inva-WC sijaitsee noin 50m päässä\, yliopiston Päätalon aulassa. \nLisätietoja alumnitoimihenkilöltä Telegramissa @rapatintti. \nGRAFFAKIITOS: Magdalena Honkasalo \nStaabin tapahtumien löytötavaroita säilytetään 1kk tapahtuman jälkeen\, jonka jälkeen ne hävitetään kierrätysmahdollisuuksia hyödyntäen. Arvotavarat toimitetaan poliisille. \nMitä tehdä\, jos näet tai koet epäasiallista käytöstä Staabin toimintaympäristössä?Tapahtumissa häirintä-\, kiusaamis ja epäasiallisissa tilanteissa yhteyshenkilönä toimivat palautetyöryhmän jäsenet. Palautetyöryhmään kuuluvat puheenjohtaja Tomi Pirinen\, yrityssuhde- ja työelämävastaava ja varapuheenjohtaja Vilma Puisto\, koulutuspoliittinen vastaava ja yhdenvertaisuusvastaava Petra Varjus sekä talousvastaava Jasper Julkunen. Mikäli palautetyöryhmän jäseniä ei ole paikalla\, voit ottaa yhteyttä muuhun hallituksen jäseneen. \n– Tapahtumien jatkoina olevat baarit eivät kuulu Staabin viralliseen toimintaympäristöön\, jolloin häiritsevästä käyttäytymisestä tulee ilmoittaa ensisijaisesti ravintolan henkilökunnalle.– Tapahtuman ulkopuolella voit ottaa yhteyttä tukihenkilöön. Staabin tukihenkilöinä toimii Aki Rokkonen ja Senni Saartoala. Tukihenkilöt käsittelevät  yhteydenotot tapahtuman ulkopuolella ja heidät tavoittaa parhaiten joko Telegramissa @akirokkonen ja @sennisaartoala tai sähköpostitse tukiaki@staabi.fi ja tukisenni@staabi.fi.– Halutessasi voit myös ottaa yhteyttä TREY:n häirintäyhdyshenkilöön sähköpostilla\, puhelimitse tai TREYn häirintälomakkeella. Yhteystiedot löytyvät TREYn verkkosivuilta.– Häiritsevästä käytöksestä voit myös ilmoittaa Staabin verkkosivuilta löytyvän häirintälomakkeen kautta. Häirintälomakkeet menevät yhdenvertaisuusvastaavalle ja ovat vain yhdenvertaisuusvastaavan luettavissa.Kokemukset ovat yksilöllisiä ja toimenpiteet tapauskohtaisia. Jokainen yhteydenotto käsitellään luottamuksellisesti ja jatkotoimenpiteisiin ryhdytään vain sinun suostumuksellasi. \n————————– \nWHAT? Staabi’s Graduation Celebration!WHERE? Lyhty space\, University of TampereWHEN? Friday\, May 15th\, starting at 5:00 PMWHO? Everyone who wants to celebrate their own or a friend’s graduation!WHY? Because you can never celebrate graduation too much!COST? FreeDRESS CODE? Summer festive attire! \nGraduating with a Bachelor’s\, Master’s or a Doctor’s degree in Administrative Sciences is the result of persistent work and effort. These milestones in life deserve to be celebrated\, which is why we are organizing Staabi’s own graduation celebration. Come to the Lyhty building in the inner courtyard of Päätalo to enjoy good food and company with other graduates or to celebrate a friend’s graduation. \nRegistration via the forms link. \nThe event is accessible\, the Lyhty-building is accessible by wheelchair via a ramp. A disabled toilet is also located nearby\, in the Main Building. \nFor more information\, contact the alumni officer on Telegram @rapatintti \nGraphic Design Credit: Magdalena Honkasalo \nLost and found items from Staabi’s events are kept for 1 month after the event\, after which they are disposed of using recycling opportunities. Valuable items are handed over to the police.What to do if you see or experience inappropriate behavior in Staabi’s operating environment? \n– For incidents of harassment\, bullying and inappropriate situations\, members of the feedback team are the contact point. The feedback team consists of Tomi Pirinen (Chairperson)\, Vilma Puisto (Corporate Relations and Working Life Contacts Manager and Vice-Chairperson)\, Petra Varjus (Educational Policy Manager and Equality Manager)\, and Jasper Julkunen. (Financial & Data Protection Manager). If the members of the feedback group are not present\, you can contact another board member.– Bars that function as afterparties of events are not part of Staabi’s official operating environment\, in which case disturbing behavior should be reported primarily to the restaurant’s staff.– Outside the event\, you can contact a support person. Staabi’s support persons are Aki Rokkonen and Senni Saartoala. The support person handle contacts outside the events and are best reached on Telegram @akirokkonen and @sennisaartoala or by e-mail tukiaki@staabi.fi and tukisenni@staabi.fi.– If you wish\, you can also contact TREY’s harassment contact person by email\, phone or using TREY’s harassment form. Contact information can be found on TREY’s website.– You can also report disruptive behavior via the harassment form found on Staabi’s website. Harassment forms go to the equality officer and can only be read by the equality officer.Experiences are individual and measures are case-specific. Every case is treated confidentially and further measures are taken only with your consent.
URL:https://staabi.fi/kalenteri/staabin-valmistujaiset-2/
ATTACH;FMTTYPE=image/png:https://staabi.fi/wp-content/uploads/2026/04/Valmistujaiset.png
END:VEVENT
END:VCALENDAR