BEGIN:VCALENDAR
VERSION:2.0
PRODID:-//Staabi ry - ECPv6.15.17.1//NONSGML v1.0//EN
CALSCALE:GREGORIAN
METHOD:PUBLISH
X-ORIGINAL-URL:https://staabi.fi
X-WR-CALDESC:Tapahtumat Staabi ry
REFRESH-INTERVAL;VALUE=DURATION:PT1H
X-Robots-Tag:noindex
X-PUBLISHED-TTL:PT1H
BEGIN:VTIMEZONE
TZID:Europe/Helsinki
BEGIN:DAYLIGHT
TZOFFSETFROM:+0200
TZOFFSETTO:+0300
TZNAME:EEST
DTSTART:20250330T010000
END:DAYLIGHT
BEGIN:STANDARD
TZOFFSETFROM:+0300
TZOFFSETTO:+0200
TZNAME:EET
DTSTART:20251026T010000
END:STANDARD
BEGIN:DAYLIGHT
TZOFFSETFROM:+0200
TZOFFSETTO:+0300
TZNAME:EEST
DTSTART:20260329T010000
END:DAYLIGHT
BEGIN:STANDARD
TZOFFSETFROM:+0300
TZOFFSETTO:+0200
TZNAME:EET
DTSTART:20261025T010000
END:STANDARD
BEGIN:DAYLIGHT
TZOFFSETFROM:+0200
TZOFFSETTO:+0300
TZNAME:EEST
DTSTART:20270328T010000
END:DAYLIGHT
BEGIN:STANDARD
TZOFFSETFROM:+0300
TZOFFSETTO:+0200
TZNAME:EET
DTSTART:20271031T010000
END:STANDARD
END:VTIMEZONE
BEGIN:VEVENT
DTSTART;VALUE=DATE:20260407
DTEND;VALUE=DATE:20260502
DTSTAMP:20260426T002815
CREATED:20260323T095932Z
LAST-MODIFIED:20260421T184339Z
UID:232491-1775520000-1777679999@staabi.fi
SUMMARY:Staabin mytologiawappu 2026
DESCRIPTION:-In English Below-  \nMITÄ? Staabin mytologiawappu 2026MILLOIN? 7.4.-1.5.WAPPUVIDEO? YouTube! \nEräänä päivänä Vergifantti löysi yliopiston kätköistä opuksen\, joka sisälsi muinaisia hallinnon myyttejä ja perimätiedon mukana tulleita wapputarinoita. Kirjassa ennustettiin\, että jonain päivänä staabit nauttisivat taas wappuviikkojen merkeissä upeista tapahtumista.  \nNäiden kirjoitusten pohjalta Staabi juhlii tänä wappuna mytologisten tarinoiden saattelemana mytologiawappua! Tule mukaan juhlimaan erilaisia tapahtumia täynnä mytologioista tuttuja hahmoja sekä tarinoita. Älä myöskään unohda ostaa itsellesi ainoaa oikeaa Staabin wappumerkkiä. Tule mukaan juhlimaan Staabin mystisimpiä wappuviikkoja kautta aikoihin! \nOlympuksen kostajaiset 7.4.Fuksit pääsevät kostamaan kastajaisista jääneitä kaunojaan! Olympuksella fuksit ovat raivoissaan\, heidät on lepytettävä! Kasaa siis joukkue yhdistämään voimansa tätä vaativaa tehtävää varten ja lähtekää päihittämään muut joukkueet tässä eeppisessä taistossa! Lisäksi päivä päättyy POP DIVA -Twistien merkeissä! \nDionysoksen drivet (huhtikuun liikuntakokeilu) 13.4.Viinin ja juhlinnan jumala Dionysos on suonut staabeille mahdollisuuden laittaa toimistolla hiotut taidot ja tekniikat kukoistamaan oikeilla vehreillä kentillä ja väylillä. Tulkaa mukaan kokeilemaan pitkiä lyöntejä golfradalle huhtikuun liikuntakokeilussa! \nWappupesis 14.4.Wappupesiksessä Staabi kohtaa Boomin perinteikkäässä taistelussa pesäpallon kuninkuudesta. Tule mukaan pelaamaan tai seuraamaan jännitysnäytelmää siitä\, ketkä nousevat wapun pesisjumaliksi! \nPwC-brunssi 16.4.Hei opiskelija – tule mukaan PwC:n vappubrunssille! Kutsumme sinut PwC:n Tampereen toimistolle brunssin merkeissä. Tapahtumassa pääset tutustumaan PwC:hen työnantajana\, kuulemaan asiantuntijoidemme uratarinoita sekä keskustelemaan esimerkiksi tilintarkastuksen\, konsultoinnin ja vero- ja lakipalveluiden parissa tehtävästä työstä. \nKalewalasitsit 17.4.Alussa sotkanmunista syntyi maa\, taivas\, tähdet ja aurinko. Mutta miten syntyivät sitsit? Oliko mukana juhlimassa niin Väinämöinen kuin pohjolan isäntä ja emäntä? Tule mukaan sitsaamaan riippumatta siitä oletko lieto fuksi tai vaka vanha alumni Staabin wapun Kalewalasitseillä! \nWappuExcu Tampereen Kaupungille 21.4.WappuExcu tulee taas ja tänä vuonna suuntamme tutustumaan Tampereen kaupungin strategiayksikköön! Vierailun aikana pääsemme kuulemaan hallintotieteilijöiden uratarinoita sekä tutustumaan Tampereen kaupungin tarjoamiin työmahdollisuuksiin!  \nJumalaisen kyykkäsetin maalaus 22.4.Olympukselta kuului käsky\, että Staabin kyykkäsetti vaatii maalaamista. Käskyn mukaan nimenomaan staabilaisten itsensä tulisi osallistua talkoisiin! Tule siis mukaan ikuistamaan omaa taiteellista näkemystä kyykkäsettiin.  \nNorsesillis 25.4.Muinaisissa riimuissa kerrottiin suuresta silliaamiaisesta\, jossa staabit voivat kokea Valhallan antimet sekä Muspelheimin löylyt. Kenties Vanaheimissä jopa kerrotaan tulevaisuutesi! Mennään siis yhdessä tutkimusretkelle salaiseen paikkaan nauttimaan skandinaavisten jumalien tapaan ja toivotaan\, että Ragnarökin tullen Thor suojelee meitä.  \nWiiden auringon wapunaaton bailut 30.4.Auringon kansa eli asteekit uskoivat\, että jumalille kuuluu antaa ravintoa\, jotta maailma ei tuhoutuisi. Juhlissa ruoan\, juomien ja musiikin kera tehtiin rituaaleja jumalille. Wiiden auringon Wapunaattona haluamme Staabissa varmistaa\, että wapun jumalat suovat meille upeat pääpäivät! \nWappupiknik 1.5.Staabin wappuviikot päättyvät perinteisesti wappupiknikillä\, jossa katsotaan teekkareiden kastetta ulkoilmassa. Upean mytologiaseikkailun päätteeksi nautitaan wappupäivästä yhdessä tarjoilujen kera! \n// \nWHAT? Staabi’s Mythology Wappu 2026WHEN? April 7 – May 1MAY DAY VIDEO? YouTube! \nOne day\, Vergifantti discovered an ancient book hidden within the university\, filled with old administrative myths and Wappu stories passed down through generations. The book foretold that one day\, Staabi members would once again enjoy amazing events during the Wappu weeks. \nInspired by these writings\, Staabi celebrates this year’s Wappu with a mythology-themed festival! Come join us for a variety of events filled with legendary characters and stories from mythologies. And don’t forget to get your hands on the one and only official Staabi Wappu badge. Join us for the most magical Wappu weeks ever! \nRevenge party of Olympus – April 7Freshmen finally get their revenge for the initiation ceremonies! On Olympus\, the freshmen are furious and must be appeased. Gather a team to combine your strengths for this demanding challenge and compete against others in this epic battle! The day ends with POP DIVA-themed twists! \nDrives of Dionysus (April sports trial) – April 13Dionysus\, the god of wine and celebration\, has granted Staabi the chance to thrive on lush fields and courses. Come try your long drives on the golf course in April’s sports experiment! \nWappu Baseball – April 14In this Wappu baseball match\, Staabi faces Boomi in an epic battle for the championship. Join in to play or come watch the thrilling showdown to see who will be crowned the baseball champion! \nPwC Brunch – April 16Hey student – join PwC’s May Day brunch! We invite you to PwC’s Tampere office for brunch. At the event\, you’ll get to know PwC as an employer\, hear career stories from our experts\, and discuss work in auditing\, consulting\, and tax & legal services. \nKalevala Sitsit – April 17In the beginning\, from the eggs of a teal were born the earth\, sky\, stars\, and sun. But how were sitsit born? Were Väinämöinen and the master and mistress of the North celebrating too? Join us for sitsit\, whether you’re a fresh new student or a seasoned alumni\, at Staabi’s Kalevala-themed Wappu sitsit! \nWappu Excursion to the City of Tampere – April 21The Wappu excursion is back! This year we’ll visit the City of Tampere’s strategy unit. During the visit\, we’ll hear career stories from administrative science professionals and learn about job opportunities offered by the city. \nPainting the Divine Kyykkä Set – April 22A command came from Olympus: Staabi’s kyykkä set must be painted—and specifically by Staabi members themselves! Come leave your artistic mark on the set. \nNorse Sillis – April 25Ancient runes told of a great herring breakfast where Staabi members could experience the offerings of Valhalla and the heat of Muspelheim’s saunas. Perhaps in Vanaheim\, your future will even be revealed. Let’s gather in a secret location and celebrate like Norse gods—and hope Thor protects us when Ragnarök comes. \nEve of Wappu Party: The Five Suns – April 30The Aztecs believed the gods must be nourished so the world would not end. Through food\, drink\, and music\, rituals were performed to honor them. On the Eve of Wappu\, Staabi will ensure that the gods of Wappu  grant us unforgettable main celebrations! \nMay Day Picnic – May 1Staabi’s Wappu weeks traditionally conclude with a picnic\, where we watch the engineering students’ baptism outdoors. After an epic mythological adventure\, we’ll enjoy Wappu together!
URL:https://staabi.fi/kalenteri/staabin-mytologiawappu-2026/
ATTACH;FMTTYPE=image/png:https://staabi.fi/wp-content/uploads/2026/03/maasterevent-eri-kuvasuhde.png
END:VEVENT
BEGIN:VEVENT
DTSTART;TZID=Europe/Helsinki:20260430T170000
DTEND;TZID=Europe/Helsinki:20260430T170000
DTSTAMP:20260426T002815
CREATED:20260416T080655Z
LAST-MODIFIED:20260416T080655Z
UID:232584-1777568400-1777568400@staabi.fi
SUMMARY:Wiiden auringon wapunaaton bailut
DESCRIPTION:IN ENGLISH BELOWMITÄ? Wapunaaton bailutMISSÄ? Hatanpään soutupaviljongilla\, os. Hatanpäänkatu 6MILLOIN? to 30.4. klo 17 alkaen\, jatkuen iltamyöhään saakkaKENELLE? Kaikille staabeilleMIKSI? On tietysti juhlistettava loppusuoralla kiitävää mytologiawappua!MITÄ MAKSAA? Ei mitäänMITÄ PUETAAN PÄÄLLE? Haalarit + 2. asteen valmistujaislakki \nVaikuttaako siltä että wappu olisi kuitenkin pikkuhiljaa loppumassa? Tämä suorastaan kataklysminen tapahtuma ennustettiin atstekkien toimesta jo muinaishistoriassa\, ja ainoa tapa pysäyttää se on rituaalinomaisesti kokoontumalla yhteen koko staabin voimin. Wapunaattona haluammekin staabissa varmistaa\, että wapun jumalat suovat upean pääpäivän\, jonka johdosta kutsumme teidät kaikki soutupaviliongille sen toteutumiseksi! \nLuvassa Soutupaviliongilla on tietysti Staabin boolia\, jumalaisten staabien leikkimielisiä palkitsemisia ja mukavaa yhdessäoloa. Kenties tarjolla on boolin lisäksi muutakin 🙂 Nappaa siis mukaan kestokuppisi ja tule nauttimaan tunnelmasta sekä toivottavasti ilta-auringosta Pyhäjärven yllä. Tätä iltaa et halua missata! Siis lämpimästi tervetuloa! \nHuomaathan\, että tapahtuma on tarkoitettu vain staabeille. \nTapahtuma ei ole täysin esteetön. Ulko-ovella on korkea kynnys\, mutta tilassa pystyy muuten hyvin liikkumaan pyörätuolilla\, ja tilasta löytyy inva-wc. \nLisätietoja tapahtumasta ja sen kestävyydestä saat tapahtumavastaavilta Valtterilta ja Pihlalta sähköpostiosoitteesta tapahtumat@staabi.fi tai Telegramissa @Valtteree tai @pihlatolppanen. \nGRAFFAKIITOS: Magdalena Honkasalo \nStaabin tapahtumien löytötavaroita säilytetään 1kk tapahtuman jälkeen\, jonka jälkeen ne hävitetään kierrätysmahdollisuuksia hyödyntäen. Märkiä tai kosteita löytötavaroita ei säilytetä. Arvotavarat toimitetaan poliisille. \nMitä tehdä\, jos näet tai koet epäasiallista käytöstä Staabin toimintaympäristössä?Tapahtumissa häirintä-\, kiusaamis ja epäasiallisissa tilanteissa yhteyshenkilönä toimivat palautetyöryhmän jäsenet. Palautetyöryhmään kuuluvat puheenjohtaja Tomi Pirinen\, yrityssuhde- ja työelämävastaava ja varapuheenjohtaja Vilma Puisto\, koulutuspoliittinen vastaava ja yhdenvertaisuusvastaava Petra Varjus sekä talousvastaava Jasper Julkunen. Mikäli palautetyöryhmän jäseniä ei ole paikalla\, voit ottaa yhteyttä muuhun hallituksen jäseneen.– Tapahtumien jatkoina olevat baarit eivät kuulu Staabin viralliseen toimintaympäristöön\, jolloin häiritsevästä käyttäytymisestä tulee ilmoittaa ensisijaisesti ravintolan henkilökunnalle.– Tapahtuman ulkopuolella voit ottaa yhteyttä tukihenkilöön. Staabin tukihenkilöinä toimii Aki Rokkonen ja Senni Saartoala. Tukihenkilöt käsittelevät  yhteydenotot tapahtuman ulkopuolella ja heidät tavoittaa parhaiten joko Telegramissa @akirokkonen ja @sennisaartoala tai sähköpostitse tukiaki@staabi.fi ja tukisenni@staabi.fi.– Halutessasi voit myös ottaa yhteyttä TREY:n häirintäyhdyshenkilöön sähköpostilla\, puhelimitse tai TREYn häirintälomakkeella. Yhteystiedot löytyvät TREYn verkkosivuilta.– Häiritsevästä käytöksestä voit myös ilmoittaa Staabin verkkosivuilta löytyvän häirintälomakkeen kautta. Häirintälomakkeet menevät yhdenvertaisuusvastaavalle ja ovat vain yhdenvertaisuusvastaavan luettavissa.Kokemukset ovat yksilöllisiä ja toimenpiteet tapauskohtaisia. Jokainen yhteydenotto käsitellään luottamuksellisesti ja jatkotoimenpiteisiin ryhdytään vain sinun suostumuksellasi. \n/// \nWHAT? pre-Wappu party!WHERE? Hatanpää’ soutupaviljonki\, Hatanpäänkatu 6WHEN? Thu 30.4. from 5 PM onwards\, continuing late into the nightFOR WHOM? For all Staabi’sWHY? Because\, of course\, we must celebrate the almost finished Mythologywappu!COST? NothingWHAT TO WEAR? Overalls + 2nd degree graduation cap \nDoes it seem like wappu might actually be coming to an end? This cataclysmic event was foretold by the aztecs in prehistory\, and the only way to stop it is to gather together in a ritual with other staabis. At wappu’s eve we at staabi want to guarantee a wonderful main day for all\, which is why we’re inviting you to soutupavilionki to make it happen \nAt soutupavilionki\, we will of course have Staabis Punch\, playful awards for staff members\, and pleasant socializing. Perhaps there will be something else besides punch 🙂 So\, grab your reusable cup and come enjoy the atmosphere and hopefully the evening sun over Pyhäjärvi. You don’t want to miss this well-being evening! So\, a warm welcome! \nPlease note that this event is intended for Staabi members only. \nThe event is not fully accessible. There is a high doorstep at the main door\, but otherwise\, the space is well-suited for wheelchair access\, and an accessible toilet  is available. \nThanks for the graphs: Magdalena Honkasalo \nFor more information about the event and its sustainability\, please contact the event coordinators Valtteri and Pihla via email at tapahtumat@staabi.fi or on Telegram @Valtteree or @pihlatolppanen. \nWhat to do if you see or experience inappropriate behavior in Staabi’s operating environment?– For incidents of harassment\, bullying and inappropriate situations\, members of the feedback team are the contact point. The feedback team consists of Tomi Pirinen (Chairperson)\, Vilma Puisto (Corporate Relations and Working Life Contacts Manager and Vice-Chairperson)\, Petra Varjus (Educational Policy Manager and Equality Manager)\, and Jasper Julkunen. (Financial & Data Protection Manager). If the members of the feedback group are not present\, you can contact another board member.– Bars that are continuations of events are not part of Staabi’s official operating environment\, in which case disturbing behavior should be reported primarily to the restaurant’s staff.– Outside the event\, you can contact a support person. Staabi’s support persons are Aki Rokkonen and Senni Saartoala. The support person handle contacts outside the events and are best reached on Telegram @akirokkonen and @sennisaartoala or by e-mail tukiaki@staabi.fi and tukisenni@staabi.fi.– If you wish\, you can also contact TREY’s harassment contact person by email\, phone or using TREY’s harassment form. Contact information can be found on TREY’s website.– You can also report disruptive behavior via the harassment form found on Staabi’s website. Harassment forms go to the equality officer and can only be read by the equality officer.Experiences are individual and measures are case-specific. Every contact is treated confidentially and further measures are taken only with your consent. \nFound items from Staabi’s events are stored for three months after the event\, after which they are disposed of using recycling opportunities. Valuables are delivered to the police.
URL:https://staabi.fi/kalenteri/wiiden-auringon-wapunaaton-bailut/
ATTACH;FMTTYPE=image/png:https://staabi.fi/wp-content/uploads/2026/04/Wapunaaton-bailut.png
END:VEVENT
BEGIN:VEVENT
DTSTART;TZID=Europe/Helsinki:20260430T170000
DTEND;TZID=Europe/Helsinki:20260430T170000
DTSTAMP:20260426T002815
CREATED:20260421T185031Z
LAST-MODIFIED:20260421T185031Z
UID:232603-1777568400-1777568400@staabi.fi
SUMMARY:Aikuisopiskelijoiden wappupiknik
DESCRIPTION:In English belowMITÄ? Aikuisopiskelijoiden wappupiknik MISSÄ? Sorsapuistossa\, Muumipeikko-patsaan lähettyvillä. Patsas on Tampere-talon pääovien lähellä. Tampere-talon osoite: Yliopistonkatu 55. MILLOIN? 30.4.2026 klo 17 alkaen KENELLE? Staabin aikuisopiskelijoille. Mukaan ovat tervetulleita kaikki aikuisemman tunnelman opiskelijatapahtumista kiinnostuneet\, ilman ikärajaa. MIKSI? Vietetään opiskelijawappua\, mutta rauhallisemmassa Sorsapuistossa pienemmällä porukalla. MITÄ MAKSAA? Tarjolla pikniknaposteltavaa\, ja omia eväitä saa tuoda lisäksi. Mukana tuodaan omat juomat. MITÄ PUETAAN PÄÄLLE? Jos omistaa haalarit\, nyt niitä saa tuulettaa! Muuten rento ja säänmukainen asu. \nHei aikuisopiskelija\, haluaisitko osallistua opiskelijoiden vuoden kohokohtaan\, Suomen suurimpaan wappuun\, mutta perinteisten tapahtumien tunnelma mietityttää? Kaipaatko rentoa illanviettoa opiskelukavereiden kanssa tai uusiin opiskelukavereihin tutustumista? Tule mukaan Staabin aikuisopiskelijoiden wappupiknikille! Nautitaan piknikeväitä\, pelaillaan rentoja puistopelejä ja hengaillaan vapaamuotoisesti puistossa.Aikuisopiskelijoiden piknik kokoontuu Tampere-talon pääovien lähettyvillä olevan Muumipeikkopatsaan läheisyydessä. Tarjolla on piknikeväitä\, mutta mukaan saa tuoda myös omia eväitä. Juomat tuodaan itse. Piknikillä on yhteisiä puistopelejä ja vapaamuotoista hengailua. Vilttejä on valmiina paikalla.Tapahtuma ei ole täysin esteetön. Kokoonnumme puiston nurmikolla. Vessa ja invavessa ovat 260 metrin päässä yliopistolla. \nLisätietoja tapahtumasta saat aikuisopiskelijatoimihenkilö Arto Alangolta: arto.alanko@tuni.fi ja Telegram: @ArtoaaaGRAFFAKIITOS: Milla UramoTapahtumien kestävyyden huomioimisesta saat halutessasi tietoa tapahtuman järjestäjältä Telegramissa: @Artoaaa. Muistathan ottaa tapahtumaan mukaan oman kestomukin! \nStaabin tapahtumien löytötavaroita säilytetään 1kk tapahtuman jälkeen\, jonka jälkeen ne hävitetään kierrätysmahdollisuuksia hyödyntäen. Arvotavarat toimitetaan poliisille. \nMitä tehdä\, jos näet tai koet epäasiallista käytöstä Staabin toimintaympäristössä? Tapahtumissa häirintä-\, kiusaamis ja epäasiallisissa tilanteissa yhteyshenkilönä toimivat palautetyöryhmän jäsenet. Palautetyöryhmään kuuluvat puheenjohtaja Tomi Pirinen\, yrityssuhde- ja työelämävastaava ja varapuheenjohtaja Vilma Puisto\, koulutuspoliittinen vastaava ja yhdenvertaisuusvastaava Petra Varjus sekä talousvastaava Jasper Julkunen. Mikäli palautetyöryhmän jäseniä ei ole paikalla\, voit ottaa yhteyttä muuhun hallituksen jäseneen. – Tapahtumien jatkoina olevat baarit eivät kuulu Staabin viralliseen toimintaympäristöön\, jolloin häiritsevästä käyttäytymisestä tulee ilmoittaa ensisijaisesti ravintolan henkilökunnalle. – Tapahtuman ulkopuolella voit ottaa yhteyttä tukihenkilöön. Staabin tukihenkilöinä toimii Aki Rokkonen ja Senni Saartoala. Tukihenkilöt käsittelevät yhteydenotot tapahtuman ulkopuolella ja heidät tavoittaa parhaiten joko Telegramissa @akirokkonen ja @sennisaartoala tai sähköpostitse tukiaki@staabi.fi ja tukisenni@staabi.fi .– Halutessasi voit myös ottaa yhteyttä TREY:n häirintäyhdyshenkilöön sähköpostilla\, puhelimitse tai TREYn häirintälomakkeella. Yhteystiedot löytyvät TREYn verkkosivuilta. – Häiritsevästä käytöksestä voit myös ilmoittaa Staabin verkkosivuilta löytyvän häirintälomakkeen kautta. Häirintälomakkeet menevät yhdenvertaisuusvastaavalle ja ovat vain yhdenvertaisuusvastaavan luettavissa. Kokemukset ovat yksilöllisiä ja toimenpiteet tapauskohtaisia. Jokainen yhteydenotto käsitellään luottamuksellisesti ja jatkotoimenpiteisiin ryhdytään vain sinun suostumuksellasi. \n————————– \nWHAT? Mayday picnic (wappu picnic) for adult students of administrative sciences WHERE? In Sorsapuisto park\, nearby main entrance of Tampere hall. Address of Tampere hall: Yliopistonkatu 55. WHEN? 30.4.2026 starting from 17.00 FOR WHOM? For adult students at Staabi ry. Anyone interested in student events with a more adult atmosphere is welcome to join\, with no age limit. WHY? We’re celebrating the greatest student festival Wappu\, but in a quieter Sorsapuisto with a smaller group. COST? Picnic snacks are available\, and you can bring your own snacks. Bring your own alcohol or non-alcohol drinks. WHAT TO WEAR? If you have student overalls\, you can wear them. Otherwise\, wear casual\, weather-appropriate clothing.Hello adult student\, would you like to participate in the highlight of the student year\, the largest Wappu in Finland? Do you miss a relaxed evening with your fellow students or getting to know new fellow students? Come join Staabi’s adult student Wappu picnic!Let’s enjoy picnic food\, play casual park games and hang out in the park. The adult student picnic will gather near the Moomin statue near the main doors of Tampere Hall. Picnic food will be available\, but you can also bring your own snacks. You can bring your own drinks. If you want to drink alcohol\, you have to bring your own drinks. Blankets will be provided on site. \nAccessibility: The event is not completely accessible. We will gather on the lawn of the park. The toilet and the disabled toilet are 260 meters away at the university\, which can be accessed with a student card. For more information about the event\, please contact adult student officer Arto Alanko: arto.alanko@tuni.fi and Telegram: @Artoaaa \nThanks for the graphs: Milla Uramo \nWhat to do if you see or experience inappropriate behavior in Staabi’s operating environment? – For incidents of harassment\, bullying and inappropriate situations\, members of the feedback team are the contact point. The feedback team consists of Tomi Pirinen (Chairperson)\, Vilma Puisto (Corporate Relations and Working Life Contacts Manager and Vice-Chairperson)\, Petra Varjus (Educational Policy Manager and Equality Manager)\, and Jasper Julkunen. (Financial & Data Protection Manager). If the members of the feedback group are not present\, you can contact another board member. – Bars that are continuations of events are not part of Staabi’s official operating environment\, in which case disturbing behavior should be reported primarily to the restaurant’s staff. – Outside the event\, you can contact a support person. Staabi’s support persons are Aki Rokkonen and Senni Saartoala. The support person handle contacts outside the events and are best reached on Telegram @akirokkonen and @sennisaartoala or by e-mail tukiaki@staabi.fi and tukisenni@staabi.fi . – If you wish\, you can also contact TREY’s harassment contact person by email\, phone or using TREY’s harassment form. Contact information can be found on TREY’s website. – You can also report disruptive behavior via the harassment form found on Staabi’s website. Harassment forms go to the equality officer and can only be read by the equality officer. Experiences are individual and measures are case-specific. Every contact is treated confidentially and further measures are taken only with your consent.
URL:https://staabi.fi/kalenteri/aikuisopiskelijoiden-wappupiknik/
ATTACH;FMTTYPE=image/png:https://staabi.fi/wp-content/uploads/2026/04/aikustenpiknik.png
END:VEVENT
END:VCALENDAR