BEGIN:VCALENDAR
VERSION:2.0
PRODID:-//Staabi ry - ECPv6.15.17.1//NONSGML v1.0//EN
CALSCALE:GREGORIAN
METHOD:PUBLISH
X-WR-CALNAME:Staabi ry
X-ORIGINAL-URL:https://staabi.fi
X-WR-CALDESC:Tapahtumat Staabi ry
REFRESH-INTERVAL;VALUE=DURATION:PT1H
X-Robots-Tag:noindex
X-PUBLISHED-TTL:PT1H
BEGIN:VTIMEZONE
TZID:Europe/Helsinki
BEGIN:DAYLIGHT
TZOFFSETFROM:+0200
TZOFFSETTO:+0300
TZNAME:EEST
DTSTART:20250330T010000
END:DAYLIGHT
BEGIN:STANDARD
TZOFFSETFROM:+0300
TZOFFSETTO:+0200
TZNAME:EET
DTSTART:20251026T010000
END:STANDARD
BEGIN:DAYLIGHT
TZOFFSETFROM:+0200
TZOFFSETTO:+0300
TZNAME:EEST
DTSTART:20260329T010000
END:DAYLIGHT
BEGIN:STANDARD
TZOFFSETFROM:+0300
TZOFFSETTO:+0200
TZNAME:EET
DTSTART:20261025T010000
END:STANDARD
BEGIN:DAYLIGHT
TZOFFSETFROM:+0200
TZOFFSETTO:+0300
TZNAME:EEST
DTSTART:20270328T010000
END:DAYLIGHT
BEGIN:STANDARD
TZOFFSETFROM:+0300
TZOFFSETTO:+0200
TZNAME:EET
DTSTART:20271031T010000
END:STANDARD
END:VTIMEZONE
BEGIN:VEVENT
DTSTART;VALUE=DATE:20260403
DTEND;VALUE=DATE:20260414
DTSTAMP:20260426T013657
CREATED:20260403T080021Z
LAST-MODIFIED:20260403T202103Z
UID:232550-1775174400-1776124799@staabi.fi
SUMMARY:Vuoden fuksi -äänestys
DESCRIPTION:MITÄ? Vuoden fuksi -äänestys\nMILLOIN? 3.4.–13.4.\nMISSÄ? Google Formsissa\nKENELLE: Fukseille ja kuluvan lukuvuoden tuutoreille \nNyt on aika äänestää Staabin historian ensimmäistä vuoden fuksia! Ilmianna siis oheisella lomakkeella henkilö\, joka mielestäsi täyttää alla määritellyt kriteerit ja mielestäsi ansaitsee tulla palkituksi vuoden fuksina. Huomioithan\, että ohjesäännön mukaisesti äänestääksesi sinun tulee olla ensimmäisen vuoden opiskelija\, kuluvan vuoden tuutori tai hallituslainen. \nStaabin huomionosoitusohjesääntöä päivitettiin yhdistyksen sääntömääräisessä kevätkokouksessa 24.3.2026\, ja huomionosoitusohjesääntöön lisättiin huomionosoitukseksi vuoden fuksin arvonimi. Ohjesäännön 28 § säädetän seuraavaa: \n”Vuoden fuksi on vuosittain ensimmäisen vuoden opiskelijoiden keskuudesta äänestetty henkilö. Äänestykseen osallistuvat ensimmäisen vuoden opiskelijat\, kuluvan lukuvuoden tuutorit\, sekä yhdistyksen hallitus. Vuoden fuksi on tunnustus\, joka voidaan myöntää henkilölle\, joka on osoittanut poikkeuksellista aktiivisuutta\, innostusta ja yhteisöllisyyttä ensimmäisen opiskeluvuotensa aikana. – – “ \nVuoden fuksina voidaankin siis palkita erityisen omistautunut ensimmäisen vuoden opiskelija\, joka on omalla toiminnallaan esimerkiksi edistänyt niin oman tuutorryhmänsä\, kuin myös laajemmin koko yhdistyksemme yhteisöllisyyttä ja yhteishenkeä. Palkittava henkilö voi esimerkiksi olla aktiivinen ja iloinen tapahtumakävijä\, joka innostaa myös kavereitaan mukaan yhteiseen toimintaan\, ja ottaa toiminnassaan tasavertaisesti kaikki mukaan. Yhtälailla vuoden fuksina voidaan palkita ahkera opiskelija\, joka omalla motivaatiollaan edesauttaa myös kavereidensa onnistumisia ja saavutuksia\, vaikka ei kävisikään vuoden jokaisissa bileissä. Vuoden fuksi voi myös olla henkilö\, joka on valmis auttamaan muita ja tarjoaa apuaan pyytämättäkin. Kenties olet nähnyt vuoden fuksin lähes jokaisessa Staabin\, kuin myös Staabin ulkopuolisessakin\, tapahtumassa nostattamassa yhteishenkeä\, tai luomassa yhteisöllisyyttä toimistolla. \nTunnustus myönnetään äänestyksessä eniten ääniä saaneelle henkilölle\, ellei yhdistyksen hallitus harkintansa tuloksena käytä ohjesäännön 29 § mukaista veto-oikeutta tilanteessa\, jossa eniten ääniä saanut henkilö ei täytä tunnustukselle ominaisia kriteereitä. Tällaisessa tilanteessa tunnustus myönnetään äänestyksessä seuraavaksi sijoittuneelle. Huomioithan myös\, että vuoden fuksista äänestetään ensimmäistä kertaa Staabin historiassa\, joten palkitsemiskriteerit ovat vielä varsin vakiintumattomat ja väljät\, sekä osittain myös tulkinnanvaraiset. \nÄänestys alkaa 3.4. ja on auki 13.4. kello 23.59 saakka. Lisätietoja äänestyksestä ja palkitsemiskriteereistä saat kunniavaliokunnan istuvan hallituksen edustajalta Tomi Piriseltä (puheenjohtaja@staabi.fi tai Telegramissa @tomipirinen). \nStaabin huomionosoitusohjesääntö löytyy tästä linkistä. \nLisätietoja henkilötietojen keräämisestä löydätte Staabin rekisteri- ja tietosuojaselosteesta tämän linkin takaa. \nGRAFFAKIITOS: Victoria Patshijew \n/ / \nWHAT? Freshman of the year -voting\nWHEN? 3 April – 13 April\nWHERE? Google Forms\nFOR WHOM: First-year students and this academic year’s tutors \nIt’s time to vote for Staabi’s first-ever Freshman of the Year! Use the form linked above to nominate the person who\, in your opinion\, meets the criteria defined below and deserves to be awarded as the Freshman of the Year. Please note that\, according to the rules*\, to vote you must be a first-year student\, a tutor for the current academic year\, or a board member. \nStaabi’s award regulation (in Fin. huomionosoitusiohjesääntö) was updated at the association’s spring meeting on 24 March 2026\, adding the honorary title of Freshman of the Year as a new form of recognition. Section 28 of the regulation stipulates the following: \n“Freshman of the Year is a person annually elected from among first-year students. Eligible voters include first-year students\, tutors of the current academic year\, and the board of the association. Freshman of the Year is an acknowledgment that may be granted to a person who has demonstrated exceptional activeness\, enthusiasm\, and sense of community during their first year of studies. – –” \nThus\, the Freshman of the Year may be someone who has shown particular dedication during their first year\, for instance by promoting the sense of community and team spirit within their own tutor group as well as more broadly within the entire association. The awarded person may be an active and cheerful event participant who inspires friends to join activities and includes everyone equally. Likewise\, the award may go to a diligent student whose motivation supports the success and achievements of their peers\, even if they don’t attend every party throughout the year. The Freshman of the Year can also be someone who is always ready to help others and offers support without being asked. Perhaps you have seen this person at nearly every event of Staabi\, boosting team spirit and fostering community also at our office. \nThe recognition is granted to the person who receives the most votes\, unless the board\, based on its consideration\, exercises the right of veto under Section 29 of the regulation in a situation where the person with the most votes does not meet the essential criteria for the award. In such a case\, the recognition will be granted to the next highest-ranked nominee. Please also note that this is the first Freshman of the Year election in Staabi’s history\, so the awarding criteria are still rather unestablished\, broad\, and partly open to interpretation. \nVoting begins on 3 April and remains open until 13 April at 23:59. For more information about the vote and the award criteria\, you may contact the representative of the Honorary Committee\, Tomi Pirinen (puheenjohtaja@staabi.fi or Telegram @tomipirinen). \nYou can find Staabi’s privacy policy here (Finnish only). \n*These rules in question refer to the huomionosoitusohjesääntö of Staabi. You can learn more here (Finnish only). \nThanks for the graphics: Victoria Patshijew
URL:https://staabi.fi/kalenteri/vuoden-fuksi-aanestys/
ATTACH;FMTTYPE=image/png:https://staabi.fi/wp-content/uploads/2026/04/VUODEN-FUKSI_tk.png
END:VEVENT
BEGIN:VEVENT
DTSTART;VALUE=DATE:20260407
DTEND;VALUE=DATE:20260502
DTSTAMP:20260426T013657
CREATED:20260323T095932Z
LAST-MODIFIED:20260421T184339Z
UID:232491-1775520000-1777679999@staabi.fi
SUMMARY:Staabin mytologiawappu 2026
DESCRIPTION:-In English Below-  \nMITÄ? Staabin mytologiawappu 2026MILLOIN? 7.4.-1.5.WAPPUVIDEO? YouTube! \nEräänä päivänä Vergifantti löysi yliopiston kätköistä opuksen\, joka sisälsi muinaisia hallinnon myyttejä ja perimätiedon mukana tulleita wapputarinoita. Kirjassa ennustettiin\, että jonain päivänä staabit nauttisivat taas wappuviikkojen merkeissä upeista tapahtumista.  \nNäiden kirjoitusten pohjalta Staabi juhlii tänä wappuna mytologisten tarinoiden saattelemana mytologiawappua! Tule mukaan juhlimaan erilaisia tapahtumia täynnä mytologioista tuttuja hahmoja sekä tarinoita. Älä myöskään unohda ostaa itsellesi ainoaa oikeaa Staabin wappumerkkiä. Tule mukaan juhlimaan Staabin mystisimpiä wappuviikkoja kautta aikoihin! \nOlympuksen kostajaiset 7.4.Fuksit pääsevät kostamaan kastajaisista jääneitä kaunojaan! Olympuksella fuksit ovat raivoissaan\, heidät on lepytettävä! Kasaa siis joukkue yhdistämään voimansa tätä vaativaa tehtävää varten ja lähtekää päihittämään muut joukkueet tässä eeppisessä taistossa! Lisäksi päivä päättyy POP DIVA -Twistien merkeissä! \nDionysoksen drivet (huhtikuun liikuntakokeilu) 13.4.Viinin ja juhlinnan jumala Dionysos on suonut staabeille mahdollisuuden laittaa toimistolla hiotut taidot ja tekniikat kukoistamaan oikeilla vehreillä kentillä ja väylillä. Tulkaa mukaan kokeilemaan pitkiä lyöntejä golfradalle huhtikuun liikuntakokeilussa! \nWappupesis 14.4.Wappupesiksessä Staabi kohtaa Boomin perinteikkäässä taistelussa pesäpallon kuninkuudesta. Tule mukaan pelaamaan tai seuraamaan jännitysnäytelmää siitä\, ketkä nousevat wapun pesisjumaliksi! \nPwC-brunssi 16.4.Hei opiskelija – tule mukaan PwC:n vappubrunssille! Kutsumme sinut PwC:n Tampereen toimistolle brunssin merkeissä. Tapahtumassa pääset tutustumaan PwC:hen työnantajana\, kuulemaan asiantuntijoidemme uratarinoita sekä keskustelemaan esimerkiksi tilintarkastuksen\, konsultoinnin ja vero- ja lakipalveluiden parissa tehtävästä työstä. \nKalewalasitsit 17.4.Alussa sotkanmunista syntyi maa\, taivas\, tähdet ja aurinko. Mutta miten syntyivät sitsit? Oliko mukana juhlimassa niin Väinämöinen kuin pohjolan isäntä ja emäntä? Tule mukaan sitsaamaan riippumatta siitä oletko lieto fuksi tai vaka vanha alumni Staabin wapun Kalewalasitseillä! \nWappuExcu Tampereen Kaupungille 21.4.WappuExcu tulee taas ja tänä vuonna suuntamme tutustumaan Tampereen kaupungin strategiayksikköön! Vierailun aikana pääsemme kuulemaan hallintotieteilijöiden uratarinoita sekä tutustumaan Tampereen kaupungin tarjoamiin työmahdollisuuksiin!  \nJumalaisen kyykkäsetin maalaus 22.4.Olympukselta kuului käsky\, että Staabin kyykkäsetti vaatii maalaamista. Käskyn mukaan nimenomaan staabilaisten itsensä tulisi osallistua talkoisiin! Tule siis mukaan ikuistamaan omaa taiteellista näkemystä kyykkäsettiin.  \nNorsesillis 25.4.Muinaisissa riimuissa kerrottiin suuresta silliaamiaisesta\, jossa staabit voivat kokea Valhallan antimet sekä Muspelheimin löylyt. Kenties Vanaheimissä jopa kerrotaan tulevaisuutesi! Mennään siis yhdessä tutkimusretkelle salaiseen paikkaan nauttimaan skandinaavisten jumalien tapaan ja toivotaan\, että Ragnarökin tullen Thor suojelee meitä.  \nWiiden auringon wapunaaton bailut 30.4.Auringon kansa eli asteekit uskoivat\, että jumalille kuuluu antaa ravintoa\, jotta maailma ei tuhoutuisi. Juhlissa ruoan\, juomien ja musiikin kera tehtiin rituaaleja jumalille. Wiiden auringon Wapunaattona haluamme Staabissa varmistaa\, että wapun jumalat suovat meille upeat pääpäivät! \nWappupiknik 1.5.Staabin wappuviikot päättyvät perinteisesti wappupiknikillä\, jossa katsotaan teekkareiden kastetta ulkoilmassa. Upean mytologiaseikkailun päätteeksi nautitaan wappupäivästä yhdessä tarjoilujen kera! \n// \nWHAT? Staabi’s Mythology Wappu 2026WHEN? April 7 – May 1MAY DAY VIDEO? YouTube! \nOne day\, Vergifantti discovered an ancient book hidden within the university\, filled with old administrative myths and Wappu stories passed down through generations. The book foretold that one day\, Staabi members would once again enjoy amazing events during the Wappu weeks. \nInspired by these writings\, Staabi celebrates this year’s Wappu with a mythology-themed festival! Come join us for a variety of events filled with legendary characters and stories from mythologies. And don’t forget to get your hands on the one and only official Staabi Wappu badge. Join us for the most magical Wappu weeks ever! \nRevenge party of Olympus – April 7Freshmen finally get their revenge for the initiation ceremonies! On Olympus\, the freshmen are furious and must be appeased. Gather a team to combine your strengths for this demanding challenge and compete against others in this epic battle! The day ends with POP DIVA-themed twists! \nDrives of Dionysus (April sports trial) – April 13Dionysus\, the god of wine and celebration\, has granted Staabi the chance to thrive on lush fields and courses. Come try your long drives on the golf course in April’s sports experiment! \nWappu Baseball – April 14In this Wappu baseball match\, Staabi faces Boomi in an epic battle for the championship. Join in to play or come watch the thrilling showdown to see who will be crowned the baseball champion! \nPwC Brunch – April 16Hey student – join PwC’s May Day brunch! We invite you to PwC’s Tampere office for brunch. At the event\, you’ll get to know PwC as an employer\, hear career stories from our experts\, and discuss work in auditing\, consulting\, and tax & legal services. \nKalevala Sitsit – April 17In the beginning\, from the eggs of a teal were born the earth\, sky\, stars\, and sun. But how were sitsit born? Were Väinämöinen and the master and mistress of the North celebrating too? Join us for sitsit\, whether you’re a fresh new student or a seasoned alumni\, at Staabi’s Kalevala-themed Wappu sitsit! \nWappu Excursion to the City of Tampere – April 21The Wappu excursion is back! This year we’ll visit the City of Tampere’s strategy unit. During the visit\, we’ll hear career stories from administrative science professionals and learn about job opportunities offered by the city. \nPainting the Divine Kyykkä Set – April 22A command came from Olympus: Staabi’s kyykkä set must be painted—and specifically by Staabi members themselves! Come leave your artistic mark on the set. \nNorse Sillis – April 25Ancient runes told of a great herring breakfast where Staabi members could experience the offerings of Valhalla and the heat of Muspelheim’s saunas. Perhaps in Vanaheim\, your future will even be revealed. Let’s gather in a secret location and celebrate like Norse gods—and hope Thor protects us when Ragnarök comes. \nEve of Wappu Party: The Five Suns – April 30The Aztecs believed the gods must be nourished so the world would not end. Through food\, drink\, and music\, rituals were performed to honor them. On the Eve of Wappu\, Staabi will ensure that the gods of Wappu  grant us unforgettable main celebrations! \nMay Day Picnic – May 1Staabi’s Wappu weeks traditionally conclude with a picnic\, where we watch the engineering students’ baptism outdoors. After an epic mythological adventure\, we’ll enjoy Wappu together!
URL:https://staabi.fi/kalenteri/staabin-mytologiawappu-2026/
ATTACH;FMTTYPE=image/png:https://staabi.fi/wp-content/uploads/2026/03/maasterevent-eri-kuvasuhde.png
END:VEVENT
END:VCALENDAR