BEGIN:VCALENDAR
VERSION:2.0
PRODID:-//Staabi ry - ECPv6.15.17.1//NONSGML v1.0//EN
CALSCALE:GREGORIAN
METHOD:PUBLISH
X-WR-CALNAME:Staabi ry
X-ORIGINAL-URL:https://staabi.fi
X-WR-CALDESC:Tapahtumat Staabi ry
REFRESH-INTERVAL;VALUE=DURATION:PT1H
X-Robots-Tag:noindex
X-PUBLISHED-TTL:PT1H
BEGIN:VTIMEZONE
TZID:Europe/Helsinki
BEGIN:DAYLIGHT
TZOFFSETFROM:+0200
TZOFFSETTO:+0300
TZNAME:EEST
DTSTART:20250330T010000
END:DAYLIGHT
BEGIN:STANDARD
TZOFFSETFROM:+0300
TZOFFSETTO:+0200
TZNAME:EET
DTSTART:20251026T010000
END:STANDARD
BEGIN:DAYLIGHT
TZOFFSETFROM:+0200
TZOFFSETTO:+0300
TZNAME:EEST
DTSTART:20260329T010000
END:DAYLIGHT
BEGIN:STANDARD
TZOFFSETFROM:+0300
TZOFFSETTO:+0200
TZNAME:EET
DTSTART:20261025T010000
END:STANDARD
BEGIN:DAYLIGHT
TZOFFSETFROM:+0200
TZOFFSETTO:+0300
TZNAME:EEST
DTSTART:20270328T010000
END:DAYLIGHT
BEGIN:STANDARD
TZOFFSETFROM:+0300
TZOFFSETTO:+0200
TZNAME:EET
DTSTART:20271031T010000
END:STANDARD
END:VTIMEZONE
BEGIN:VEVENT
DTSTART;VALUE=DATE:20260316
DTEND;VALUE=DATE:20260328
DTSTAMP:20260423T180505
CREATED:20260316T084626Z
LAST-MODIFIED:20260316T084626Z
UID:232434-1773619200-1774655999@staabi.fi
SUMMARY:HTP-tiiminvetäjähaku vuodelle 2027
DESCRIPTION:MITÄ? HTP-tiiminvetäjähaku vuodelle 2027!\nMISSÄ? Formsissa\nMILLOIN? ma 16.3.- pe 27.3.\nKENELLE? HTP:n järjestämisestä ja suunnittelusta innostuneille staabeille!\nMIKSI? Koska HTP 10v on vuoden kohokohta! \nHallintotieteilijäpäivät täyttävät 10 vuotta tammikuussa 2027 ja niitä juhlitaan Tampereella tammikuussa 2027! Juhlavuoden HTP ei kuitenkaan synny tyhjästä\, vaan tapahtumaa tekee HTP-tiimi. Nyt etsimme motivoituneita ja idearikkaita tiiminvetäjiä\, jotka haluavat olla mukana luomassa ikimuistoista tapahtumaa hallintotieteilijöille ympäri Suomen!\nTiiminvetäjänä pääset vaikuttamaan tapahtuman toteutukseen\, saat arvokasta kokemusta tapahtumajärjestämisestä ja ennen kaikkea – tutustut huikeisiin tyyppeihin niin Staabista kuin muistakin ainejärjestöistä! \nEtsimme ensisijaisesti Staabi ry:n jäseniä\, joten nyt on täydellinen hetki lähteä mukaan. Myös muistakin ainejärjestöistä voi hakea tehtävään! Haku on auki 27.3.2026 asti! \nTiimivetäjien rooliTiimivetäjät kantavat vastuun oman tiiminsä toiminnasta ja osallistuvat säännöllisesti suunnittelutiimin kokouksiin. Suunnittelutiimi puolestaan määrittelee tapahtuman isoimmat linjat. Suunnittelutiimi koostuu tiiminvetäjistä\, HTP:n päävastuuhenkilöistä (Tytti Mikkonen ja Topias Anttila) sekä Hallinoijien\, Legion ja Remburssin vastuuhenkilöistä. Tiimeissä voi olla useampi vetäjä\, joten hakemuksessa voi mainita\, jos aikoo hakea tehtävään yhdessä toisen henkilön kanssa. Tapahtuman luomisessa edetään tiimeittäin\, jotka valitaan myöhemmin. \nTIIMIT: \nViestintätiimiViestintätiimi on vastuussa tapahtuman viestinnän ja ulkoasun suunnittelusta ja toteutuksesta. Viestintään sisältyvät muun muassa sosiaalisen median julkaisujen tekeminen ennen tapahtumaa ja sen aikana. Tiimi huolehtii siitä\, että viestintä tapahtuu sujuvasti ja kattavasti kaikilla tapahtuman some-alustoilla. \nVarainhankintatiimiVarainhankintatiimi keskittyy tapahtuman rahoituksen hankkimiseen sekä yhteistyömahdollisuuksien luomiseen paikallisten ja kansallisten toimijoiden kanssa. Tapahtumalla on jo muutamia vakiintuneita yhteistyökumppaneita\, mutta tiimi etsii myös uusia kumppaneita. Työskentely on erityisesti keväällä ja alkusyksyllä intensiivistä. Tiimi voi saada myös tukea Staabin yrityssuhde- ja työelämävastaavalta Vilma Puistolta\, joka neuvoo tiimiä jo olemassa olevien yhteistyösopimusten kanssa. \nPääilta-tiimiPääillan tiimi vastaa tapahtuman viimeisen illan ohjelman suunnittelusta ja toteuttamisesta. Perinteisesti iltaa on vietetty sitsien ja vaihtoehtoisten ohjelmanumeroiden\, kuten approjen\, parissa. Tämän vuoden pääillan ohjelma voi olla kuitenkin aivan jotain uutta ja mullistavaa – vain mielikuvitus on rajana! \nAsiaohjelma-tiimiAsiaohjelman tiimi vastaa päivän aikana pidettävien ohjelmien suunnittelusta ja toteutuksesta. Aiemmin asiaohjelma on sisältänyt esimerkiksi avajaiset\, alumnipaneelit\, työpajat ja pääpuhujan esityksen. Tiimi huolehtii siitä\, että ohjelman sisällöt ovat inspiroivia ja sujuvasti toteutettuja. \nEka ilta ja Sillis-tiimiEka ilta ja sillis -tiimi suunnittelee ja toteuttaa tapahtuman ensimmäisen illan ohjelman sekä viimeisen aamun silliaamiaisen. Tiimi huolehtii siitä\, että tapahtuman alku ja loppu saavat arvoisensa käsittelyn\, ja että osallistujilla on hauskaa ja rentouttavaa ohjelmaa myös alku- ja loppuillasta. \nSuunnittelutiimiSuunnittelutiimiin kuuluvat kaikki tiiminvetäjät. Suunnittelutiimiä ja koko HTP-tapahtumaa koordinoivat päävastaavat\, joiden tehtävänä on tukea tiiminvetäjiä ja varmistaa\, että tapahtuman ohjelma etenee sujuvasti ja että kaikki yksityiskohdat on huomioitu. Päävastaavat vastaavat myös tapahtuman budjetista ja organisoinnista\, sekä yhteisten tapaamisten järjestämisestä. \nValinnat tiiminvetäjiksi tehdään hakemusten perusteella\, ja aiempi kokemus Hallintotieteilijäpäivistä katsotaan eduksi. Tärkeintä on kuitenkin innostus ja halu osallistua tapahtuman luomiseen! HTP-päävastuuhenkilöt tekevät lopulliset valinnat. Suunnittelutiimi toimii tiiviisti yhdessä ja tukee toisiaan\, joten vaikeissakin tilanteissa kukaan ei jää yksin. \nHaku on avoinna 27.03.2024 klo 23:59 saakka.Mikäli sinulla on hausta kysyttävää\, ota rohkeasti yhteyttä Telegramissa @tykkim / @anttilatopias tai sähköpostitse: hallintotieteilijapaivat@gmail.comViestintäkanavana käytämme pääasiassa Telegramia. Saat valintatuloksesi suoraan Telegramissa\, minkä jälkeen liitämme valitut suunnittelutiimin ryhmään. Odotamme sitoutumistasi tapahtumaan niin sen valmisteluvaiheessa kuin itse tapahtuman aikana. \nHUOM! ETHÄN JÄTÄ VASTAUSLOMAKETTA PITKÄKSI AIKAA AUKI. Päivitä vastauslomake ennen vastauksen lähettämistä. Vastaukset eivät välttämättä tallennu järjestelmään\, mikäli lomake on ollut pitkään auki. Suosittelemme vastauksen kirjoittamista erillisellä tekstinkäsittelyohjelmalla (esim. Word)\, josta sen voi kopioida lomakkeelle hakemusta tehdessä. Tallentuneista vastauksista tulee vahvistusviesti valitsemaasi sähköpostiin. Hakemusten täydentäminen hakuajan päättymisen jälkeen ei ole mahdollista. \n// \nWHAT? HTP Team leader recruitment for 2027WHERE? On FormsWHEN? Mon 16.3.- Fri 27.3.FOR WHO? For Staabi members who are excited about planning and organizing HTP!WHY? Because the 10th anniversary of HTP will be the highlight of the year! \nHallintotieteilijäpäivät will celebrate its 10th anniversary in January 2027\, and the festivities will take place in Tampere. This anniversary of HTP won’t come together on its own; it is created by the HTP team. We are now looking for motivated and creative team leaders who want to help build an unforgettable event for administrative sciences students from all over Finland. \nAs a team leader\, you will have the opportunity to influence the execution of the event\, gain valuable experience in event organization\, and most importantly\, get to know amazing people from Staabi and other student associations. \nWe are primarily looking for members of Staabi ry\, so now is the perfect time to get involved. Students from other associations are also welcome to apply.The application is open until 27 March 2026.  \nTeam Leaders \nTeam leaders are responsible for the work of their own team and participate regularly in planning team meetings. The planning team defines the main direction of the event. It consists of the team leaders\, the main HTP coordinators (Tytti Mikkonen and Topias Anttila)\, and representatives from Hallinoijat\, Legio\, and Remburssi.Teams may have more than one leader\, so you may mention in your application if you plan to apply together with someone else. The event will be built through team-based work\, and the teams themselves will be selected later. \nTEAMS \nCommunications TeamThe Communications Team is responsible for planning and executing the event’s communication and visual identity. This includes creating social media content before and during the event. The team ensures that communication runs smoothly and consistently across all event platforms. \nFundraising Team\nThe Fundraising Team focuses on securing funding for the event and building partnerships with local and national organizations. The event already has several established partners\, but the team will also seek new ones. Work is especially intensive in the spring and early autumn. The team may also receive support from Staabi’s Corporate Relations Officer\, Vilma Puisto\, who can advise on existing partnership agreements.\nMain Evening TeamThe Main Evening Team is responsible for planning and executing the program for the final evening of the event. Traditionally\, this evening has included sitsit and alternative activities such as appros. However\, this year’s main evening can be something entirely new — the only limit is your imagination.\nAcademic Program TeamThe Academic Program Team plans and organizes the daytime program. In previous years\, this has included the opening ceremony\, alumni panels\, workshops\, and a keynote speaker. The team ensures that the content is inspiring and smoothly executed.First Evening & Sillis TeamThe First Evening & Sillis Team plans and organizes the program for the first evening and the final morning’s sillis breakfast. The team ensures that the event begins and ends in a fitting way\, offering participants fun and relaxing activities at both ends of the event.\nPlanning teamAll team leaders are part of the planning team. The planning team and the entire HTP event are coordinated by the main organizers\, whose role is to support the team leaders\, ensure that the event progresses smoothly\, and make sure all details are taken into account. The main organizers are also responsible for the event budget\, overall organization\, and arranging joint meetings. \nTeam leader selections are based on applications\, and previous experience with HTP is considered an advantage. However\, the most important qualities are enthusiasm and a genuine desire to help create the event. The final selections are made by the HTP main organizers. The planning team works closely together and supports one another\, ensuring that no one is left alone even in challenging situations.The application is open until 27 March 2024 at 23:59. \nIf you have any questions about the application\, feel free to contact us on Telegram at @tykkim / @anttilatopias or by email at hallintotieteilijapaivat@gmail.com.Our primary communication channel is Telegram. You will receive your selection results directly via Telegram\, after which selected applicants will be added to the planning team group. We expect your commitment both during the preparation phase and throughout the event itself. \nPlease note: Do not leave the response form open for a long time. Refresh the form before submitting your answers. Responses may not be saved correctly if the form has been open for an extended period. We recommend writing your answers in a separate text editor (e.g.\, Word) and copying them into the form when submitting your application. You will receive a confirmation email once your responses have been successfully saved. It is not possible to edit applications after the deadline. 
URL:https://staabi.fi/kalenteri/htp-tiiminvetajahaku-vuodelle-2027-2/
ATTACH;FMTTYPE=image/png:https://staabi.fi/wp-content/uploads/2026/03/htp-suunnittelutiimihaku-scaled.png
END:VEVENT
BEGIN:VEVENT
DTSTART;TZID=Europe/Helsinki:20260316T160000
DTEND;TZID=Europe/Helsinki:20260316T160000
DTSTAMP:20260423T180505
CREATED:20260301T184437Z
LAST-MODIFIED:20260301T184437Z
UID:232292-1773676800-1773676800@staabi.fi
SUMMARY:Fuksit vs Tuutorit
DESCRIPTION:MITÄ? Fuksit vs Tuutorit visailu\nMISSÄ? Päätalo F001 Lyhty\nMILLOIN? Maanantai 16.3 klo 16-\nKENELLE? Staabin kaikille fukseille ja tuutoreille\nMITÄ MAKSAA? Ei mitään! \nKertooko akateeminen ikä oikeasti kaiken vai onko sivistys moninkertaistunut jo fuksivuoden aikana? Tekeekö mieli ottaa mittaa omista tuutoreista tai tuutoroitavista? Tykkäätkö ilmaisesta ruoasta? \nJos yksikään näistä asioista on totta tule kisaamaan monipuoliseen visaan\, jossa fuksit ja tuutorit mittelevät pizzan ja muiden herkkujen tuoksun saattelemana! Mukaan tarvitset vain itsesi ja aivosi sekä runsaasti positiivista kilpailumieltä. \nTapahtuma on esteetön. Lyhtyyn pääsee pyörätuolilla rampin kautta\, Inva-WC on myös lähellä yliopiston Päätalo-rakennuksessa. Lisätietoja tapahtumasta ja sen kestävyydestä saat tuutorvastaava Niklas Kärtevältä sähköpostilla tuutorointi@staabi.fi tai Telegramissa @Kaikkialla \nGRAFFAKIITOS: Taika Kostet \nStaabin tapahtumien löytötavaroita säilytetään 1kk tapahtuman jälkeen\, jonka jälkeen ne hävitetään kierrätysmahdollisuuksia hyödyntäen. Märkiä tai kosteita löytötavaroita ei säilytetä. Arvotavarat toimitetaan poliisille. \nMitä tehdä\, jos näet tai koet epäasiallista käytöstä Staabin toimintaympäristössä? \n\nTapahtumissa häirintä-\, kiusaamis ja epäasiallisissa tilanteissa yhteyshenkilönä toimivat palautetyöryhmän jäsenet. Palautetyöryhmään kuuluvat puheenjohtaja Tomi Pirinen\, yrityssuhde- ja työelämävastaava ja varapuheenjohtaja Vilma Puisto\, koulutuspoliittinen vastaava ja yhdenvertaisuusvastaava Petra Varjus sekä talousvastaava Jasper Julkunen. Mikäli palautetyöryhmän jäseniä ei ole paikalla\, voit ottaa yhteyttä muuhun hallituksen jäseneen.\nTapahtumien jatkoina olevat baarit eivät kuulu Staabin viralliseen toimintaympäristöön\, jolloin häiritsevästä käyttäytymisestä tulee ilmoittaa ensisijaisesti ravintolan henkilökunnalle.\nTapahtuman ulkopuolella voit ottaa yhteyttä tukihenkilöön. Staabin tukihenkilöinä toimii Aki Rokkonen ja Senni Saartoala. Tukihenkilöt käsittelevät  yhteydenotot tapahtuman ulkopuolella ja heidät tavoittaa parhaiten joko Telegramissa @akirokkonen ja @sennisaartoala tai sähköpostitse tukiaki@staabi.fi ja tukisenni@staabi.fi.\nHalutessasi voit myös ottaa yhteyttä TREY:n häirintäyhdyshenkilöön sähköpostilla\, puhelimitse tai TREYn häirintälomakkeella. Yhteystiedot löytyvät TREYn verkkosivuilta.\nHäiritsevästä käytöksestä voit myös ilmoittaa Staabin verkkosivuilta löytyvän häirintälomakkeen kautta. Häirintälomakkeet menevät yhdenvertaisuusvastaavalle ja ovat vain yhdenvertaisuusvastaavan luettavissa.\n\nKokemukset ovat yksilöllisiä ja toimenpiteet tapauskohtaisia. Jokainen yhteydenotto käsitellään luottamuksellisesti ja jatkotoimenpiteisiin ryhdytään vain sinun suostumuksellasi. \n  \n————————– \nWHAT? Fuksis vs Tutors quiz\nWHERE?  Päätalo F001 Lyhty\nWHEN? Monday 16.3 @16-\nFOR WHOM? For all Staabi’s fuksis and tutors\nPRICE? Free! \nIs academic age truly everything\, or has your general knowledge already multiplied during your fuksi year? Do you feel like take on your tutors or your fuksis? Do you enjoy free food and snacks? \nIf even one of these is true\, come compete in a versatile quiz where fuksis and tutors face off amidst the aroma of pizza and other treats! All you need is yourself\, your brain\, and plenty of positive competitive spirit. \nThe event is accessible. Lyhty is accessible by wheelchair via a ramp\, and there is also an accessible toilet nearby in the university’s Main Building. For more information about the event and its sustainability\, please contact tutoring responsible Niklas Kärtevä via email at tuutorointi@staabi.fi or on Telegram @Kaikkialla \nThanks for the graphics Taika Kostet \nWhat to do if you see or experience inappropriate behavior in Staabi’s operating environment? \n\nFor incidents of harassment\, bullying and inappropriate situations\, members of the feedback team are the contact point. The feedback team consists of Tomi Pirinen (Chairperson)\, Vilma Puisto (Corporate Relations and Working Life Contacts Manager and Vice-Chairperson)\, Petra Varjus (Educational Policy Manager and Equality Manager)\, and Jasper Julkunen. (Financial & Data Protection Manager). If the members of the feedback group are not present\, you can contact another board member.\nBars that function as afterparties of events are not part of Staabi’s official operating environment\, in which case disturbing behavior should be reported primarily to the restaurant’s staff.\nOutside the event\, you can contact a support person. Staabi’s support persons are Aki Rokkonen and Senni Saartoala. The support person handle contacts outside the events and are best reached on Telegram @akirokkonen and @sennisaartoala or by e-mail tukiaki@staabi.fi and tukisenni@staabi.fi.\nIf you wish\, you can also contact TREY’s harassment contact person by email\, phone or using TREY’s harassment form. Contact information can be found on TREY’s website.\nYou can also report disruptive behavior via the harassment form found on Staabi’s website. Harassment forms go to the equality officer and can only be read by the equality officer.\n\nExperiences are individual and measures are case-specific. Every contact is treated confidentially and further measures are taken only with your consent. \nFound items from Staabi’s events are stored for a month after the event\, after which they are disposed of using recycling opportunities. Wet items will be disposed of immediately. Valuables are delivered to the police.
URL:https://staabi.fi/kalenteri/fuksit-vs-tuutorit/
ATTACH;FMTTYPE=image/png:https://staabi.fi/wp-content/uploads/2026/03/fuksitvastaantuutorit.png
END:VEVENT
END:VCALENDAR