BEGIN:VCALENDAR
VERSION:2.0
PRODID:-//Staabi ry - ECPv6.15.17.1//NONSGML v1.0//EN
CALSCALE:GREGORIAN
METHOD:PUBLISH
X-ORIGINAL-URL:https://staabi.fi
X-WR-CALDESC:Tapahtumat Staabi ry
REFRESH-INTERVAL;VALUE=DURATION:PT1H
X-Robots-Tag:noindex
X-PUBLISHED-TTL:PT1H
BEGIN:VTIMEZONE
TZID:Europe/Helsinki
BEGIN:DAYLIGHT
TZOFFSETFROM:+0200
TZOFFSETTO:+0300
TZNAME:EEST
DTSTART:20250330T010000
END:DAYLIGHT
BEGIN:STANDARD
TZOFFSETFROM:+0300
TZOFFSETTO:+0200
TZNAME:EET
DTSTART:20251026T010000
END:STANDARD
BEGIN:DAYLIGHT
TZOFFSETFROM:+0200
TZOFFSETTO:+0300
TZNAME:EEST
DTSTART:20260329T010000
END:DAYLIGHT
BEGIN:STANDARD
TZOFFSETFROM:+0300
TZOFFSETTO:+0200
TZNAME:EET
DTSTART:20261025T010000
END:STANDARD
BEGIN:DAYLIGHT
TZOFFSETFROM:+0200
TZOFFSETTO:+0300
TZNAME:EEST
DTSTART:20270328T010000
END:DAYLIGHT
BEGIN:STANDARD
TZOFFSETFROM:+0300
TZOFFSETTO:+0200
TZNAME:EET
DTSTART:20271031T010000
END:STANDARD
END:VTIMEZONE
BEGIN:VEVENT
DTSTART;TZID=Europe/Helsinki:20260310T170000
DTEND;TZID=Europe/Helsinki:20260310T170000
DTSTAMP:20260423T180925
CREATED:20260222T195755Z
LAST-MODIFIED:20260222T195755Z
UID:232258-1773162000-1773162000@staabi.fi
SUMMARY:Kopoa ja croissanttia - hyvinvointiviikko
DESCRIPTION:In English below- \nMITÄ? Kopoa ja croisanttia!MISSÄ? Lyhdyssä!MILLOIN? Tiistaina 10.3. klo 17-KENELLE? Koulutuspolitiikasta kiinnostuneille Staabeille!MIKSI? Koska kopoa ja croissanttia!MITÄ MAKSAA? Ei mitään! \nHämmentääkö edelleen omien opintojen rakentaminen? Milloin lähteä vaihtoon tai harkkaan? Millaisia sivuainevalintoja tehdä? Tai kiinnostaisiko ihan vaan jutella pääaineen valinnasta eri pääaineita opiskelevien kanssa? Kopoa ja croisanttia -tapahtumassa käydään läpi juuri näitä asioita\, yhdessä mahtavien tarjoilujen! \nTapahtuma on erityisesti suunnattu ensimmäisen vuoden opiskelijoille\, mutta ohjelmassa on myös keskustelua hallintotieteiden yhteisistä opinnoista\, ja voit tulla kertomaan ajatuksiasi niistä hyvin myös vanhempana opiskelijana\, jolle aiemmin mainitut aiheet ovat jo selkeytyneet! Keskustelussa nousseita näkökulmia käytetään hyödyksi\, kun opiskelijoiden mielipiteitä edustetaan uuden opetussuunnitelman työstössä. \nTapahtuma ei vaadi ennakkoilmoittautumista. Tarjoiluissa pyritään huomioimaan yleisimmät erityisruokavaliot\, lisätietoja saat tapahtuman järjestäjältä. Tapahtuma ei ole täysin esteetön. Tilassa ei ole WC-tiloja\, mutta lähimmät löytyvät Päätalosta (myös inva-WC). Tilaan on muutama rappunen\, mutta tilaan on myös ramppi. \nLisätietoja tapahtumasta saat koulutuspoliittiselta vastaavalta Petra Varjukselta koulutuspolitiikka@staabi.fi tai telegramissa @varjuspetra. \nGRAFFAKIITOS: Magdalena Honkasalo \nStaabin tapahtumien löytötavaroita säilytetään 1kk tapahtuman jälkeen\, jonka jälkeen ne hävitetään kierrätysmahdollisuuksia hyödyntäen. Märkiä tai kosteita löytötavaroita ei säilytetä. Arvotavarat toimitetaan poliisille. \nMitä tehdä\, jos näet tai koet epäasiallista käytöstä Staabin toimintaympäristössä?– Tapahtumissa häirintä-\, kiusaamis ja epäasiallisissa tilanteissa yhteyshenkilönä toimivat palautetyöryhmän jäsenet. Palautetyöryhmään kuuluvat puheenjohtaja Tomi Pirinen\, yrityssuhde- ja työelämävastaava ja varapuheenjohtaja Vilma Puisto\, koulutuspoliittinen vastaava ja yhdenvertaisuusvastaava Petra Varjus sekä talousvastaava Jasper Julkunen. Mikäli palautetyöryhmän jäseniä ei ole paikalla\, voit ottaa yhteyttä muuhun hallituksen jäseneen.– Tapahtumien jatkoina olevat baarit eivät kuulu Staabin viralliseen toimintaympäristöön\, jolloin häiritsevästä käyttäytymisestä tulee ilmoittaa ensisijaisesti ravintolan henkilökunnalle.– Tapahtuman ulkopuolella voit ottaa yhteyttä tukihenkilöön. Staabin tukihenkilöinä toimii Aki Rokkonen ja Senni Saartoala. Tukihenkilöt käsittelevät  yhteydenotot tapahtuman ulkopuolella ja heidät tavoittaa parhaiten joko Telegramissa @akirokkonen ja @sennisaartoala tai sähköpostitse tukiaki@staabi.fi ja tukisenni@staabi.fi.– Halutessasi voit myös ottaa yhteyttä TREY:n häirintäyhdyshenkilöön sähköpostilla\, puhelimitse tai TREYn häirintälomakkeella. Yhteystiedot löytyvät TREYn verkkosivuilta.– Häiritsevästä käytöksestä voit myös ilmoittaa Staabin verkkosivuilta löytyvän häirintälomakkeen kautta. Häirintälomakkeet menevät yhdenvertaisuusvastaavalle ja ovat vain yhdenvertaisuusvastaavan luettavissa.Kokemukset ovat yksilöllisiä ja toimenpiteet tapauskohtaisia. Jokainen yhteydenotto käsitellään luottamuksellisesti ja jatkotoimenpiteisiin ryhdytään vain sinun suostumuksellasi. \n————————– \nWHAT? Educational policy and croissants!WHERE? At Lyhty!WHEN? Tuesday 10.3. at 17-FOR WHO? Staabi members interested in educational policy!WHY? Because educational policy and croissants!COST? Nothing! \nThe event is held in Finnish and is specifically aimed at students of the Finnish-language bachelor’s program. However\, everyone is welcome! \nAre you still confused about building your own studies? When to go on exchange or an internship? What kind of minor subject choices to make? Or would you just be interested in chatting about choosing a major with those studying different majors? At the Educational policy and croissants event\, we will go through exactly these things\, together with great catering! \nThe event is specifically aimed at first-year students\, but the program also includes a discussion about the common studies of administrative sciences\, and you can also come and share your thoughts as an older student for whom the previously mentioned topics are already clear! The perspectives raised in the discussion will be utilized when representing students’ opinions in the preparation of the new curriculum. \nThe event does not require pre-registration. We aim to take the most common special diets into account in the catering; more information is available from the event organizer. The event is not fully accessible. There are no toilet facilities in the space\, but the nearest ones can be found in the Main Building (also an accessible toilet). There are a few steps to the space\, but there is also a ramp to the space. \nMore information about the event can be obtained from the educational policy manager Petra Varjus at koulutuspolitiikka@staabi.fi or on Telegram @varjuspetra. \nGRAPHICS CREDIT: Magdalena Honkasalo \nWhat to do if you see or experience inappropriate behavior in Staabi’s operating environment?– For incidents of harassment\, bullying and inappropriate situations\, members of the feedback team are the contact point. The feedback team consists of Tomi Pirinen (Chairperson)\, Vilma Puisto (Corporate Relations and Working Life Contacts Manager and Vice-Chairperson)\, Petra Varjus (Educational Policy Manager and Equality Manager)\, and Jasper Julkunen. (Financial & Data Protection Manager). If the members of the feedback group are not present\, you can contact another board member.– Bars that are continuations of events are not part of Staabi’s official operating environment\, in which case disturbing behavior should be reported primarily to the restaurant’s staff.– Outside the event\, you can contact a support person. Staabi’s support persons are Aki Rokkonen and Senni Saartoala. The support person handle contacts outside the events and are best reached on Telegram @akirokkonen and @sennisaartoala or by e-mail tukiaki@staabi.fi and tukisenni@staabi.fi.– If you wish\, you can also contact TREY’s harassment contact person by email\, phone or using TREY’s harassment form. Contact information can be found on TREY’s website.– You can also report disruptive behavior via the harassment form found on Staabi’s website. Harassment forms go to the equality officer and can only be read by the equality officer.Experiences are individual and measures are case-specific. Every contact is treated confidentially and further measures are taken only with your consent. \nFound items from Staabi’s events are stored for three months after the event\, after which they are disposed of using recycling opportunities. Valuables are delivered to the police.
URL:https://staabi.fi/kalenteri/kopoa-ja-croissanttia-hyvinvointiviikko/
ATTACH;FMTTYPE=image/png:https://staabi.fi/wp-content/uploads/2026/02/Kopoa-ja-croissanttia.png
END:VEVENT
END:VCALENDAR