BEGIN:VCALENDAR
VERSION:2.0
PRODID:-//Staabi ry - ECPv6.15.17.1//NONSGML v1.0//EN
CALSCALE:GREGORIAN
METHOD:PUBLISH
X-ORIGINAL-URL:https://staabi.fi
X-WR-CALDESC:Tapahtumat Staabi ry
REFRESH-INTERVAL;VALUE=DURATION:PT1H
X-Robots-Tag:noindex
X-PUBLISHED-TTL:PT1H
BEGIN:VTIMEZONE
TZID:Europe/Helsinki
BEGIN:DAYLIGHT
TZOFFSETFROM:+0200
TZOFFSETTO:+0300
TZNAME:EEST
DTSTART:20250330T010000
END:DAYLIGHT
BEGIN:STANDARD
TZOFFSETFROM:+0300
TZOFFSETTO:+0200
TZNAME:EET
DTSTART:20251026T010000
END:STANDARD
BEGIN:DAYLIGHT
TZOFFSETFROM:+0200
TZOFFSETTO:+0300
TZNAME:EEST
DTSTART:20260329T010000
END:DAYLIGHT
BEGIN:STANDARD
TZOFFSETFROM:+0300
TZOFFSETTO:+0200
TZNAME:EET
DTSTART:20261025T010000
END:STANDARD
BEGIN:DAYLIGHT
TZOFFSETFROM:+0200
TZOFFSETTO:+0300
TZNAME:EEST
DTSTART:20270328T010000
END:DAYLIGHT
BEGIN:STANDARD
TZOFFSETFROM:+0300
TZOFFSETTO:+0200
TZNAME:EET
DTSTART:20271031T010000
END:STANDARD
END:VTIMEZONE
BEGIN:VEVENT
DTSTART;TZID=Europe/Helsinki:20260218T143000
DTEND;TZID=Europe/Helsinki:20260218T160000
DTSTAMP:20260423T170143
CREATED:20260204T100120Z
LAST-MODIFIED:20260205T115653Z
UID:232203-1771425000-1771430400@staabi.fi
SUMMARY:Helmikuun liikuntakokeilu: miekkailu
DESCRIPTION:In English below \nMITÄ? Miekkailua!\nMISSÄ? Näsijärvenkatu 8 33210 (nääshalli)\nMILLOIN? 18.2 klo 14:30-16:00\nKENELLE? Kaikille Staabeille\nMIKSI? Koska et pääse kokeilemaan miekkailua joka päivä!\nMITÄ MAKSAA? 5 euroa\nLIPUT? 9.2 klo 12 kide-app\nMITÄ PUETAAN PÄÄLLE? Sisäliikuntavaatteet\, pitkälahkeiset housut ja kengät \nOnko sinua aina kiinnostanut kokeilla miekkailua? Oletko kenties ihaillut lajia televisiosta tai halunnut haastaa kaverisi ja itsesi tässä jalossa lajissa? Nyt siihen on mahdollisuus Staabin helmikuun liikuntakokeilussa! \nLajikokeilussa pääset opastettuna tutustumaan miekkailun sääntöihin\, varusteisiin ja tekniikoihin. Viimeistään toisten Staabien haastaminen varmasti huipentaa kokeilun ikimuistoiseksi. Varusteet ja opetus on ammattimaisia ja pelkoa haavoille tai loukkaantumiselle ei ole. \nTapahtuma ei ole täysin esteetön. Rakennukseen ei voida taata esteetöntä kulkua portaiden takia ja lajin kokeileminen vaatii esteettömän terveydentilan\, jotta turvallinen ja onnistunut lajikokeilu voidaan toteuttaa.\nLisätietoja tapahtumasta saat liikuntatoimihenkilöltä TG: @aaronsammelvuo tai liikunta- ja vapaa-aikavastaavalta telegramissa @lassefabian  tai sähköpostilla liikunta@staabi.fi \nGRAFFAKIITOS: Anna Majamaa \nStaabin tapahtumien löytötavaroita säilytetään 1kk tapahtuman jälkeen\, jonka jälkeen ne hävitetään kierrätysmahdollisuuksia hyödyntäen. Märkiä tai kosteita löytötavaroita ei säilytetä. Arvotavarat toimitetaan poliisille. \nMitä tehdä\, jos näet tai koet epäasiallista käytöstä Staabin toimintaympäristössä? \n\nTapahtumissa häirintä-\, kiusaamis ja epäasiallisissa tilanteissa yhteyshenkilönä toimivat palautetyöryhmän jäsenet. Palautetyöryhmään kuuluvat puheenjohtaja Tomi Pirinen\, yrityssuhde- ja työelämävastaava ja varapuheenjohtaja Vilma Puisto\, koulutuspoliittinen vastaava ja yhdenvertaisuusvastaava Petra Varjus sekä talousvastaava Jasper Julkunen. Mikäli palautetyöryhmän jäseniä ei ole paikalla\, voit ottaa yhteyttä muuhun hallituksen jäseneen.\nTapahtumien jatkoina olevat baarit eivät kuulu Staabin viralliseen toimintaympäristöön\, jolloin häiritsevästä käyttäytymisestä tulee ilmoittaa ensisijaisesti ravintolan henkilökunnalle.\nTapahtuman ulkopuolella voit ottaa yhteyttä tukihenkilöön. Staabin tukihenkilöinä toimii Aki Rokkonen ja Senni Saartoala. Tukihenkilöt käsittelevät  yhteydenotot tapahtuman ulkopuolella ja heidät tavoittaa parhaiten joko Telegramissa @akirokkonen ja @sennisaartoala tai sähköpostitse tukiaki@staabi.fi ja tukisenni@staabi.fi.\nHalutessasi voit myös ottaa yhteyttä TREY:n häirintäyhdyshenkilöön sähköpostilla\, puhelimitse tai TREYn häirintälomakkeella. Yhteystiedot löytyvät TREYn verkkosivuilta.\nHäiritsevästä käytöksestä voit myös ilmoittaa Staabin verkkosivuilta löytyvän häirintälomakkeen kautta. Häirintälomakkeet menevät yhdenvertaisuusvastaavalle ja ovat vain yhdenvertaisuusvastaavan luettavissa. Kokemukset ovat yksilöllisiä ja toimenpiteet tapauskohtaisia. Jokainen yhteydenotto käsitellään luottamuksellisesti ja jatkotoimenpiteisiin ryhdytään vain sinun suostumuksellasi.\n\n// \nWHAT? Fencing!\nWHERE?  Näsijärvenkatu 8 33210 (nääshalli)\nWHEN? February 18th\, 2:30–4:00 PM\nTO WHOM? All Staabi members\nWHY? Because you don’t get to try fencing every day!\nCOST? 5 euros\nTICKETS? 9.2 klo 12 Kide-app\nWHAT TO WEAR? Indoor sports clothing\, preferably long legged pants and shoes \nHave you always been interested in trying fencing? Have you perhaps admired the sport on television or wanted to challenge your friends—and yourself—in this noble discipline? Now you have the chance in Staabi’s February sports try-out! \nIn this trial session\, you’ll get a guided introduction to the rules\, equipment\, and techniques of fencing. Challenging fellow Staabis will surely make the experience unforgettable. The equipment and instruction are professional\, and there is no risk of cuts or injuries. \nThe event is not fully accessible. Due to stairs\, barrier-free access to the building cannot be guaranteed\, and trying the sport requires an unobstructed state of health in order to ensure a safe and successful experience.\nFor more information about the event\, contact the sports officer (via Telegram) or the Sports and Leisure Coordinator on Telegram at @lassefabian\, or by email at liikunta@staabi.fi. \nThanks for the graphs: Anna Majamaa \nWhat to do if you see or experience inappropriate behavior in Staabi’s operating environment? \n\nFor incidents of harassment\, bullying and inappropriate situations\, members of the feedback team are the contact point. The feedback team consists of Tomi Pirinen (Chairperson)\, Vilma Puisto (Corporate Relations and Working Life Contacts Manager and Vice-Chairperson)\, Petra Varjus (Educational Policy Manager and Equality Manager)\, and Jasper Julkunen. (Financial & Data Protection Manager). If the members of the feedback group are not present\, you can contact another board member.\nBars that are continuations of events are not part of Staabi’s official operating environment\, in which case disturbing behavior should be reported primarily to the restaurant’s staff.\nOutside the event\, you can contact a support person. Staabi’s support persons are Aki Rokkonen and Senni Saartoala. The support person handle contacts outside the events and are best reached on Telegram @akirokkonen and @sennisaartoala or by e-mail tukiaki@staabi.fi and tukisenni@staabi.fi.\nIf you wish\, you can also contact TREY’s harassment contact person by email\, phone or using TREY’s harassment form. Contact information can be found on TREY’s website.\nYou can also report disruptive behavior via the harassment form found on Staabi’s website. Harassment forms go to the equality officer and can only be read by the equality officer. Experiences are individual and measures are case-specific. Every contact is treated confidentially and further measures are taken only with your consent.\n\nFound items from Staabi’s events are stored for three months after the event\, after which they are disposed of using recycling opportunities. Valuables are delivered to the police.
URL:https://staabi.fi/kalenteri/helmikuun-liikuntakokeilu-miekkailu/
ATTACH;FMTTYPE=image/png:https://staabi.fi/wp-content/uploads/2026/02/miekkailu.png
END:VEVENT
END:VCALENDAR