BEGIN:VCALENDAR
VERSION:2.0
PRODID:-//Staabi ry - ECPv6.15.17.1//NONSGML v1.0//EN
CALSCALE:GREGORIAN
METHOD:PUBLISH
X-WR-CALNAME:Staabi ry
X-ORIGINAL-URL:https://staabi.fi
X-WR-CALDESC:Tapahtumat Staabi ry
REFRESH-INTERVAL;VALUE=DURATION:PT1H
X-Robots-Tag:noindex
X-PUBLISHED-TTL:PT1H
BEGIN:VTIMEZONE
TZID:Europe/Helsinki
BEGIN:DAYLIGHT
TZOFFSETFROM:+0200
TZOFFSETTO:+0300
TZNAME:EEST
DTSTART:20250330T010000
END:DAYLIGHT
BEGIN:STANDARD
TZOFFSETFROM:+0300
TZOFFSETTO:+0200
TZNAME:EET
DTSTART:20251026T010000
END:STANDARD
BEGIN:DAYLIGHT
TZOFFSETFROM:+0200
TZOFFSETTO:+0300
TZNAME:EEST
DTSTART:20260329T010000
END:DAYLIGHT
BEGIN:STANDARD
TZOFFSETFROM:+0300
TZOFFSETTO:+0200
TZNAME:EET
DTSTART:20261025T010000
END:STANDARD
BEGIN:DAYLIGHT
TZOFFSETFROM:+0200
TZOFFSETTO:+0300
TZNAME:EEST
DTSTART:20270328T010000
END:DAYLIGHT
BEGIN:STANDARD
TZOFFSETFROM:+0300
TZOFFSETTO:+0200
TZNAME:EET
DTSTART:20271031T010000
END:STANDARD
END:VTIMEZONE
BEGIN:VEVENT
DTSTART;VALUE=DATE:20260119
DTEND;VALUE=DATE:20260203
DTSTAMP:20260423T153115
CREATED:20260119T075837Z
LAST-MODIFIED:20260119T140426Z
UID:232182-1768780800-1770076799@staabi.fi
SUMMARY:Hallintotieteiden Tuutorhaku 19.1.- 2.2.
DESCRIPTION:In English belowMITÄ? Hallintotieteiden tuutorhakuMILLOIN? 19.1.-2.2.2026MISSÄ? TREYn Microsoft Forms \nHallintotieteiden tuutorhaku on auki! Voit hakea kandivaiheen tuutoriksi\, kandivaiheen aikuisopiskelijatuutoriksi\, maisterituutoriksi tai kansainväliseksi tuutoriksi. Hakuaika on 19.1.–2.2.2026. Hakemaan pääset täyttämällä TREYn tuutorhakulomakkeen. Huomioi\, että syksyn 2026 vaihto-opiskelijoille haemme tuutoreita myöhemmin keväällä maaliskuussa. \nMuista korostaa hakemuksessa sitä\, oletko kiinnostunut aikuisopiskelija- vai kandi- ja maisterivaiheen tuutoroinnista! Tätä ei siis suoraan kysytä\, joten se tulisi itse ilmaista jossain kohtaa hakemusta. Kerro myös oletko kiinnostunut toimimaan kontaktituutorina. Kontaktituutori toimii yhteyshenkilönä tuutorvastaavan ja tuutorryhmän välillä. \nUuden opiskelijan ensiaskeleet yliopistossa antavat suunnan yhteisöön kiinnittymiseen\, opinnoissa menestymiseen ja hyvinvointiin. Tuutorina olet tärkeässä roolissa tukemassa fukseja heidän saapuessaan Tampereen yliopistoon. Pääset mahdollistamaan uusille opiskelijoille ikimuistoisia hetkiä\, jotka kantavat heitä opiskeluvuosien halki. Voit samalla kehittää itse esimerkiksi vuorovaikutus- ja projektinhallintataitojasi. Saat arvokkaita kokemuksia\, riemukkaita muistoja\, uusia ystäviä ja opintopisteitä. Hyppää siis rohkeasti mukaan! \nEtsimme motivoituneita tuutoreita\, jotka ovat sitoutuneet toimimaan tehtävässään koko lukuvuoden 2026–2027. Tuutoreiksi halutaan monipuolisesti erilaisia persoonia. Aiempi kokemus tuutoroinnista tai vastaavasta tehtävästä ei ole välttämätöntä\, sillä tuutorit koulutetaan tehtäviinsä kevään aikana. Tuutoreilta odotetaankin aktiivista osallistumista kevään tuutorkoulutuksiin\, kevään ja kesän yhteisiin tapaamisiin\, tuutoroinnin suunnitteluun ja syksyn tapahtumiin. Koulutuksia järjestetään keväällä sekä Staabin että TREYn toimesta. TREYn koulutusten ajankohdat ovat jo nähtävissä heidän nettisivuillaan. \nTuutorointi alkaa siis jo keväällä ja jatkuu aina lukuvuoden loppuun asti. Toivommekin tuutoreilta sitoutuneisuutta\, läsnäoloa sekä aitoa halua toimia uusien opiskelijoiden tukena ja turvana koko lukuvuoden ajan. Syksyn 2026 orientaatiojakso alkaa 17.8\, jolloin tuutoreiden odotetaan olevan Tampereella tapaamassa uusia opiskelijoita.Perinteisesti hakemuksia on tullut paljon ja karsintaa on jouduttu tekemään. Varaa siis hakemuksen täyttämiseen riittävästi aikaa ja lue hakuohjeet huolellisesti. Valinnoista ilmoitetaan hakijoille helmikuun loppuun mennessä. Huomioithan myös\, että Staabissa tuutorvalintoja ohjaa tuutoroinnin ohjesääntö\, joka löytyy Staabin verkkosivuilta kohdasta ”ohjaavat dokumentit”. \nMikäli sinulla on kysyttävää kansalliseen tuutorointiin liittyen\, voit laittaa viestiä hallituksen tuutorvastaavalle osoitteeseen tuutorointi@staabi.fi tai Telegramissa @Kaikkialla.Kansainväliseen tuutorointiin liittyen voit olla yhteydessä kansainväliseen tuutortoimihenkilöön Aliina Radickeen osoitteessa internationaltutoring@staabi.fi tai Telegramissa @aliinaradicke————-WHAT? Staabi’s tutor recruitmentWHEN? 19.1.-2.2.2026WHERE? On Microsoft Forms \nApply to be a national or international degree tutor!The application period for international and national degree programme tutors is January 19 – February 2\, 2026. Fill in TREY’s tutor application. Please note that we will be searching tutors for autumn 2026 exchange students later in the spring in March. \nSuccessful studies\, integration into the community and well-being are all strongly rooted in the first steps a student takes on the university campus. New students are supported in these by tutors. We are looking for a fresh batch of tutors for the international and national students of degree programmes starting their studies here in August 2026. By taking part\, you can develop your organization and interaction skills while getting to know new people from all over the world. You will be able to create unforgettable moments for your freshers while gathering valuable experiences\, joyful memories\, new friends and study credits so hop on board! \nPlease note that all tutors are expected to take part in tutor trainings in March-April\, so prepare time in your calendar for them. Timetable for the trainings can be found on TREY’s website. \nTutor selections will be made by Staabi after the conclusion of the application period. Follow your e-mail after the application period. Chosen tutors will be notified. The Welcome Week for new students starts on August 17\, 2026\, and all tutors are expected to be present in Tampere. \nIf you have any questions\, feel free to contact internationaltutoring@staabi.fi or @aliinaradicke on Telegram.
URL:https://staabi.fi/kalenteri/hallintotieteiden-tuutorhaku-19-1-2-2/
ATTACH;FMTTYPE=image/png:https://staabi.fi/wp-content/uploads/2026/01/Tuutorihaku-900x600px_FIN.png
END:VEVENT
BEGIN:VEVENT
DTSTART;TZID=Europe/Helsinki:20260128T170000
DTEND;TZID=Europe/Helsinki:20260128T170000
DTSTAMP:20260423T153115
CREATED:20260114T103824Z
LAST-MODIFIED:20260114T103824Z
UID:232162-1769619600-1769619600@staabi.fi
SUMMARY:Lautapeli-ilta
DESCRIPTION:In English belowMITÄ? Staabin lautapeli-iltaMISSÄ? Staabin toimistolla\, Päätalo A027bMILLOIN? 28.01.2026 klo: 17:00KENELLE? Lautapelimyönteisille staabeille jotka pitävät rennosta hengailusta.MIKSI? Koska kaiken muun lomassa on hyvä rentoutua hyvien pelien ääreen!MITÄ MAKSAA? Ei mitään!MITÄ PUETAAN PÄÄLLE? Jotain rentoa vaatetta \nOnko jouluna pelatuista lautapeleistä tullut jo vieroitusoireita? Onko kaiken aherruksen ja juhlimisen välissä tarvetta rennolle hengailulle? Oletko aina halunnut haastaa muiden staabien tietämystä esimerkiksi Smart 10:ssä? Nyt siihen on mahdollisuus\, sillä Staabilaisten yhteinen lautapeli-ilta tulee taas! Toimistolla on useita erilaisia pelejä jai voit myös mahdollisuuksien mukaan tuoda omia lautapelejä\, joita olet aina halunnut pelata muiden staabien kanssa. Tarjolla on kahvia ja pientä purtavaa\, sekä tietenkin hyvää seuraa. \nTapahtuma ei ole täysin esteetön. Toimiston sisäänkäynnissä on kynnys. Tilan läheisyydessä on inva wc. \nLisätietoja tapahtumasta saat liikunta- ja vapaa-aikavastaavalta Lasse Lepolalta Telegramissa: @lassefabian tai sähköpostilla: liikunta@staabi.fi\, tai vapaa-aika toimihenkilöltä Valtteri Vuoriselta Telegramissa: @vm173 \nGRAFFAKIITOS: Anna Majamaa \nStaabin tapahtumien löytötavaroita säilytetään 1kk tapahtuman jälkeen\, jonka jälkeen ne hävitetään kierrätysmahdollisuuksia hyödyntäen. Arvotavarat toimitetaan poliisille. \nMitä tehdä\, jos näet tai koet epäasiallista käytöstä Staabin toimintaympäristössä? \n\nTapahtumissa häirintä-\, kiusaamis ja epäasiallisissa tilanteissa yhteyshenkilönä toimivat palautetyöryhmän jäsenet. Palautetyöryhmään kuuluvat puheenjohtaja Tomi Pirinen\, yrityssuhde- ja työelämävastaava sekä varapuheenjohtaja Vilma puisto\, koulutuspoliittinen- ja yhdenvertaisuusvastaava Petra Varjus sekä talousvastaava Jasper Julkunen. Mikäli palautetyöryhmän jäseniä ei ole paikalla\, voit ottaa yhteyttä muuhun hallituksen jäseneen.\nTapahtuman ulkopuolella voit ottaa yhteyttä tukihenkilöön. Staabin tukihenkilöinä toimii Aki Rokkonen  ja Senni Saartoala. Tukihenkilöt käsittelevät  yhteydenotot tapahtuman ulkopuolella ja heidät tavoittaa parhaiten  Telegramissa @akirokkonen ja @Sennisaartoala\nHalutessasi voit myös ottaa yhteyttä TREY:n häirintäyhdyshenkilöön sähköpostilla\, puhelimitse tai TREYn häirintälomakkeella. Yhteystiedot löytyvät TREYn verkkosivuilta.\nHäiritsevästä käytöksestä voit myös ilmoittaa Staabin verkkosivuilta löytyvän häirintälomakkeen kautta. Häirintälomakkeet menevät yhdenvertaisuusvastaavalle ja ovat vain yhdenvertaisuusvastaavan luettavissa. Kokemukset ovat yksilöllisiä ja toimenpiteet tapauskohtaisia. Jokainen yhteydenotto käsitellään luottamuksellisesti ja jatkotoimenpiteisiin ryhdytään vain sinun suostumuksellasi.\n\n———————–\nWHAT? Staabi’s board game nightWHERE? Staabi’s office\, Päätalo A027bWHEN? 28.1.2026 at 17:00FOR WHOM? Staabi members who enjoy board games and a relaxed hang out.WHY? Because in the midst of everything else\, it’s good to unwind with great games!WHAT DOES IT COST? Nothing!WHAT TO WEAR? Something comfortable and casual \nHave the board games you played over Christmas already left you with withdrawal symptoms? In between all the hard work and celebrations\, do you feel the need for some laid-back hanging out? Have you always wanted to challenge other Staabi members’ knowledge in games like Smart 10? Now you can—Staabi’s shared board game night is back! \nThere will be a variety of games available at the office. You are also welcome\, if possible\, to bring your own board games that you’ve always wanted to play with other Staabi members. Coffee and small snacks will be available and\, of course\, great company. \nThe event is not fully accessible. There is a threshold at the entrance to the office. There is an invalid toilet near the facility. \nFor more information about the event\, contact Lasse Lepola\, Sports and Free Time Manager\, via Telegram @lassefabian or by email: liikunta@staabi.fi or Valtteri Vuorinen\, Free time official\, via Telegram @vm173. \nThanks for the graphs\, Anna Majamaa \nFound items from Staabi’s events are stored for one month after the event\, after which they are disposed of using recycling opportunities. Valuables are delivered to the police. \nWhat to do if you see or experience inappropriate behavior in Staabi’s operating environment? \n\nFor incidents of harassment\, bullying and inappropriate situations\, members of the feedback team are the contact point. The feedback team consists of Tomi Pirinen (Chairperson)\, Petra Varjus (Educational Politics and equality Manager)\, Jasper Julkunen  (Finance Manager)\, and Vilma puisto (Corporate relations and working life manager and Vice-Chairperson). If the members of the feedback group are not present\, you can contact another board member.\nOutside the event\, you can contact a support person. Staabi’s support persons are Aki Rokkonen and Senni Saartoala. The support person handle contacts outside the events and are best reached on Telegram @akirokkonen  and @Sennisaartoala\nIf you wish\, you can also contact TREY’s harassment contact person by email\, phone or using TREY’s harassment form. Contact information can be found on TREY’s website.- You can also report disruptive behavior via the harassment form found on Staabi’s website. Harassment forms go to the equality officer and can only be read by the equality officer. Experiences are individual and measures are case-specific. Every contact is treated confidentially and further measures are taken only with your consent.\n\n 
URL:https://staabi.fi/kalenteri/lautapeli-ilta/
ATTACH;FMTTYPE=image/png:https://staabi.fi/wp-content/uploads/2026/01/lautapeli-ilta.png
END:VEVENT
END:VCALENDAR