BEGIN:VCALENDAR
VERSION:2.0
PRODID:-//Staabi ry - ECPv6.15.17.1//NONSGML v1.0//EN
CALSCALE:GREGORIAN
METHOD:PUBLISH
X-WR-CALNAME:Staabi ry
X-ORIGINAL-URL:https://staabi.fi
X-WR-CALDESC:Tapahtumat Staabi ry
REFRESH-INTERVAL;VALUE=DURATION:PT1H
X-Robots-Tag:noindex
X-PUBLISHED-TTL:PT1H
BEGIN:VTIMEZONE
TZID:Europe/Helsinki
BEGIN:DAYLIGHT
TZOFFSETFROM:+0200
TZOFFSETTO:+0300
TZNAME:EEST
DTSTART:20240331T010000
END:DAYLIGHT
BEGIN:STANDARD
TZOFFSETFROM:+0300
TZOFFSETTO:+0200
TZNAME:EET
DTSTART:20241027T010000
END:STANDARD
BEGIN:DAYLIGHT
TZOFFSETFROM:+0200
TZOFFSETTO:+0300
TZNAME:EEST
DTSTART:20250330T010000
END:DAYLIGHT
BEGIN:STANDARD
TZOFFSETFROM:+0300
TZOFFSETTO:+0200
TZNAME:EET
DTSTART:20251026T010000
END:STANDARD
BEGIN:DAYLIGHT
TZOFFSETFROM:+0200
TZOFFSETTO:+0300
TZNAME:EEST
DTSTART:20260329T010000
END:DAYLIGHT
BEGIN:STANDARD
TZOFFSETFROM:+0300
TZOFFSETTO:+0200
TZNAME:EET
DTSTART:20261025T010000
END:STANDARD
END:VTIMEZONE
BEGIN:VEVENT
DTSTART;TZID=Europe/Helsinki:20251211T210000
DTEND;TZID=Europe/Helsinki:20251212T040000
DTSTAMP:20260423T141113
CREATED:20251124T154850Z
LAST-MODIFIED:20251124T154850Z
UID:231932-1765486800-1765512000@staabi.fi
SUMMARY:Ho Ho Ho Kolmiot
DESCRIPTION:JOULUKUUN KOLMIOT \nOn aika virittäytyä pikkujoulukauden kuumimpiin bileisiin… ja tällä kertaa tonttulakit saavat seurakseen vähän tuhmemman twistin! Joulukuun 11. päivä juhlitaan Ho Ho Ho Kolmioita Famessa ja H5:ssä. Famessa juhlakansaa viihdyttää myös kuuma tanssiesitys. \nMITÄ: Ho Ho Ho KolmiotMISSÄ: Fame\, Satakunnankatu 18 ja H5\, Hämeenkatu 5MILLOIN: 11.12. klo 21–04BAARIN VAIHTO: bileyönä klo 01 alkaen veloituksettaVAPAAEHTOINEN PUKUKOODI: pikkujoulut\, tuhmat tontut \nENNAKKOLIPUT: maanantaina 1.12.\, hinta 7 € (sis. narikan)klo 10 Kide.appklo 12 Hervanta\, Konetalon aula & Keskusta\, Päätalon ala-aula (Alakuppilan vieressä)LIPUT OVELTA: Bilepäivänä 9 € (sis. narikan). Liputtomien jonosta kävijöitä otetaan sisään klo 24 jälkeen\, tai ennen tätä jos mahdollista. \nNähdään Kolmioilla! \nFamen esteettömyystiedot: Tilaan on esteetön pääsy sekä etu- että takaovesta. Aulassa on hissi\, ja takaovelta pääsee sisään suoraan loivaa luiskaa pitkin. Esteetön WC sijaitsee vessojen välissä. Yläkertaan pääsee henkilökunnan avustuksella hissillä. \n/// \nDECEMBER’S KOLMIOT \nIt’s time to tune into the hottest party of the holiday season… and this time\, the Santa hats come with a naughtier twist! On December 11th\, we’re celebrating Ho Ho Ho Kolmiot at Fame and H5. At Fame\, the party crowd will also be treated to a steamy dance performance. \nWHAT: Ho Ho Ho KolmiotWHERE: Fame\, Satakunnankatu 18 ja H5\, Hämeenkatu 5WHEN: 11th December\, from 9 PM to 4 AMBAR SWITCH: during the party night at 1 AM free of chargeOPTIONAL DRESS CODE: Christmas party\, naughty elves \nADVANCE TICKETS: On Monday\, December 1st\, price 7€ (includes cloakroom)at 10 AM from Kide.appat 12 PM from Hervanta\, Konetalo Hall & City Center campus\, Main Building lower hall.TICKETS AT THE DOOR: On the party day for 9€ (cloakroom included). People without advance ticket are taken in after midnight or before this if possible. \nSee you at Kolmiot! \nFame’s accessibility information: The venue is wheelchair accessible from both the front and rear entrances. There is an elevator in the lobby\, and the rear entrance provides direct access via a gentle ramp. An accessible restroom is located between the main restrooms. Access to the upper floor is available via elevator with staff assistance.
URL:https://staabi.fi/kalenteri/ho-ho-ho-kolmiot/
ATTACH;FMTTYPE=image/png:https://staabi.fi/wp-content/uploads/2025/11/joulukuu_kide2.png
END:VEVENT
END:VCALENDAR