BEGIN:VCALENDAR
VERSION:2.0
PRODID:-//Staabi ry - ECPv6.15.17.1//NONSGML v1.0//EN
CALSCALE:GREGORIAN
METHOD:PUBLISH
X-ORIGINAL-URL:https://staabi.fi
X-WR-CALDESC:Tapahtumat Staabi ry
REFRESH-INTERVAL;VALUE=DURATION:PT1H
X-Robots-Tag:noindex
X-PUBLISHED-TTL:PT1H
BEGIN:VTIMEZONE
TZID:Europe/Helsinki
BEGIN:DAYLIGHT
TZOFFSETFROM:+0200
TZOFFSETTO:+0300
TZNAME:EEST
DTSTART:20240331T010000
END:DAYLIGHT
BEGIN:STANDARD
TZOFFSETFROM:+0300
TZOFFSETTO:+0200
TZNAME:EET
DTSTART:20241027T010000
END:STANDARD
BEGIN:DAYLIGHT
TZOFFSETFROM:+0200
TZOFFSETTO:+0300
TZNAME:EEST
DTSTART:20250330T010000
END:DAYLIGHT
BEGIN:STANDARD
TZOFFSETFROM:+0300
TZOFFSETTO:+0200
TZNAME:EET
DTSTART:20251026T010000
END:STANDARD
BEGIN:DAYLIGHT
TZOFFSETFROM:+0200
TZOFFSETTO:+0300
TZNAME:EEST
DTSTART:20260329T010000
END:DAYLIGHT
BEGIN:STANDARD
TZOFFSETFROM:+0300
TZOFFSETTO:+0200
TZNAME:EET
DTSTART:20261025T010000
END:STANDARD
END:VTIMEZONE
BEGIN:VEVENT
DTSTART;TZID=Europe/Helsinki:20251208T160000
DTEND;TZID=Europe/Helsinki:20251208T180000
DTSTAMP:20260423T140438
CREATED:20251201T164800Z
LAST-MODIFIED:20251201T164800Z
UID:232052-1765209600-1765216800@staabi.fi
SUMMARY:Piparia ja paskanjauhantaa
DESCRIPTION:In English below \nMITÄ? Piparia ja paskanjauhantaaMISSÄ? Pinni B0040MILLOIN? 8.12. klo 16 alkaenKENELLE? KaikilleMIKSI? New year new meMITÄ MAKSAA? Ei mitään! \nOnko vuotesi ollut haastava? Onko opinnot junnanneet paikallaan ja haluaisit esimerkiksi ottaa itseäsi niskasta kiinni ensi vuonna? Piparia ja paskanjauhantaa -tapahtumassa saat vertaistukea muilta opiskelijoilta sekä pääset bujoilemaan (bullet journaling) tai tekemään Vision boardia ja miettimään tulevaa vuotta. \nTapahtumassa on tarjolla kartonkeja ja askarteluvälineitä\, mutta bujoilua varten tuo oma kalenterisi! Tapahtumassa on lisäksi mahdollista päästä koristelemaan oma piparkakku. \nTapahtuma ei ole esteetön. Tilan ovella on kynnys eikä tilan lähellä sijaitse invavessaa. \nLisätietoja tapahtumasta saat koulutuspoliittiselta vastaavalta Veera Saukkoselta (koulutuspolitiikka@staabi.fi\, Telegram: veerasaukkonen) \nGRAFFAKIITOS: Milla Uramo \nStaabin tapahtumien löytötavaroita säilytetään 1kk tapahtuman jälkeen\, jonka jälkeen ne hävitetään kierrätysmahdollisuuksia hyödyntäen. Arvotavarat toimitetaan poliisille. \nMitä tehdä\, jos näet tai koet epäasiallista käytöstä Staabin toimintaympäristössä?– Tapahtumissa häirintä-\, kiusaamis ja epäasiallisissa tilanteissa yhteyshenkilönä toimivat palautetyöryhmän jäsenet. Palautetyöryhmään kuuluvat puheenjohtaja Magdalena Honkasalo\, koulutuspoliittinen vastaava ja varapuheenjohtaja Veera Saukkonen\, tuutor- ja yhdenvertaisuusvastaava Sallamari Roti sekä yrityssuhde- ja työelämävastaava Tomi Pirinen. Mikäli palautetyöryhmän jäseniä ei ole paikalla\, voit ottaa yhteyttä muuhun hallituksen jäseneen.– Tapahtumien jatkoina olevat baarit eivät kuulu Staabin viralliseen toimintaympäristöön\, jolloin häiritsevästä käyttäytymisestä tulee ilmoittaa ensisijaisesti ravintolan henkilökunnalle.– Tapahtuman ulkopuolella voit ottaa yhteyttä tukihenkilöön. Staabin tukihenkilöinä toimii Anni Kalmari ja Selma Murtonen. Tukihenkilöt käsittelevät  yhteydenotot tapahtuman ulkopuolella ja heidät tavoittaa parhaiten joko Telegramissa @annikalmari ja @selmisss tai sähköpostitse tukianni@staabi.fi ja tukiselma@staabi.fi. .– Halutessasi voit myös ottaa yhteyttä TREY:n häirintäyhdyshenkilöön sähköpostilla\, puhelimitse tai TREYn häirintälomakkeella. Yhteystiedot löytyvät TREYn verkkosivuilta.– Häiritsevästä käytöksestä voit myös ilmoittaa Staabin verkkosivuilta löytyvän häirintälomakkeen kautta. \nHäirintälomakkeet menevät yhdenvertaisuusvastaavalle ja ovat vain yhdenvertaisuusvastaavan luettavissa.Kokemukset ovat yksilöllisiä ja toimenpiteet tapauskohtaisia. Jokainen yhteydenotto käsitellään luottamuksellisesti ja jatkotoimenpiteisiin ryhdytään vain sinun suostumuksellasi. \n///\nWHAT? Gingerbread andWHERE? Pinni B0040WHEN? December 8th\, starting at 4 PMTO WHOM? To everyone!WHY? New year new meCOST? It’s free \nHas your year been challenging? Have your studies been stagnant and would you like to\, for example\, take charge of yourself next year? At the Gingerbread with some shittalking event\, you will receive peer support from other students and have the opportunity to bullet journal or make a Vision board and think about the coming year. \nThe event will provide cardboard and craft materials\, but bring your own calendar for bullet journaling! You will also have the opportunity to decorate your own gingerbread. \nThe event will be held in Pinni B0040\, located on the basement level of the Pinni B building. Light snacks will be provided. \nThis event will be held in Finnish only. \nPlease note: the event space is not fully accessible. There is a small threshold at the entrance\, and there is no accessible restroom nearby.\nFor more information about the event\, please contact the Educational Policy Manager\, Veera Saukkonen (koulutuspolitiikka@staabi.fi\, Telegram: veerasaukkonen) \nThanks for the graphs Aliisa Sorvari \nWhat to do if you see or experience inappropriate behavior in Staabi’s operating environment?– For incidents of harassment\, bullying and inappropriate situations\, members of the feedback team are the contact point. The feedback team consists of Magdalena Honkasalo (Chairperson)\, Veera Saukkonen (Educational Policy Manager and Vice-Chairperson)\, Sallamari Roti (Tutoring and Equality Manager)\, and Tomi Pirinen (Corporate Relations and Working Life Contacts Manager). If the members of the feedback group are not present\, you can contact another board member.– Bars that are continuations of events are not part of Staabi’s official operating environment\, in which case disturbing behavior should be reported primarily to the restaurant’s staff.– Outside the event\, you can contact a support person. Staabi’s support persons are Anni Kalmari and Selma Murtonen. The support person handle contacts outside the events and are best reached on Telegram @selmisss and @annikalmari or by e-mail tukianni@staabi.fi and tukiselma@staabi.fi.– If you wish\, you can also contact TREY’s harassment contact person by email\, phone or using TREY’s harassment form. Contact information can be found on TREY’s website.– You can also report disruptive behavior via the harassment form found on Staabi’s website. Harassment forms go to the equality officer and can only be read by the equality officer.\nExperiences are individual and measures are case-specific. Every contact is treated confidentially and further measures are taken only with your consent. \nFound items from Staabi’s events are stored for three months after the event\, after which they are disposed of using recycling opportunities. Valuables are delivered to the police.
URL:https://staabi.fi/kalenteri/piparia-ja-paskanjauhantaa/
ATTACH;FMTTYPE=image/jpeg:https://staabi.fi/wp-content/uploads/2025/12/pipariajapaskanjauhantaa.jpg
END:VEVENT
END:VCALENDAR