BEGIN:VCALENDAR
VERSION:2.0
PRODID:-//Staabi ry - ECPv6.15.17.1//NONSGML v1.0//EN
CALSCALE:GREGORIAN
METHOD:PUBLISH
X-ORIGINAL-URL:https://staabi.fi
X-WR-CALDESC:Tapahtumat Staabi ry
REFRESH-INTERVAL;VALUE=DURATION:PT1H
X-Robots-Tag:noindex
X-PUBLISHED-TTL:PT1H
BEGIN:VTIMEZONE
TZID:Europe/Helsinki
BEGIN:DAYLIGHT
TZOFFSETFROM:+0200
TZOFFSETTO:+0300
TZNAME:EEST
DTSTART:20240331T010000
END:DAYLIGHT
BEGIN:STANDARD
TZOFFSETFROM:+0300
TZOFFSETTO:+0200
TZNAME:EET
DTSTART:20241027T010000
END:STANDARD
BEGIN:DAYLIGHT
TZOFFSETFROM:+0200
TZOFFSETTO:+0300
TZNAME:EEST
DTSTART:20250330T010000
END:DAYLIGHT
BEGIN:STANDARD
TZOFFSETFROM:+0300
TZOFFSETTO:+0200
TZNAME:EET
DTSTART:20251026T010000
END:STANDARD
BEGIN:DAYLIGHT
TZOFFSETFROM:+0200
TZOFFSETTO:+0300
TZNAME:EEST
DTSTART:20260329T010000
END:DAYLIGHT
BEGIN:STANDARD
TZOFFSETFROM:+0300
TZOFFSETTO:+0200
TZNAME:EET
DTSTART:20261025T010000
END:STANDARD
END:VTIMEZONE
BEGIN:VEVENT
DTSTART;VALUE=DATE:20251103
DTEND;VALUE=DATE:20251117
DTSTAMP:20260420T100015
CREATED:20251030T143222Z
LAST-MODIFIED:20251030T143222Z
UID:231781-1762128000-1763337599@staabi.fi
SUMMARY:Staabin paitatilaus 2025
DESCRIPTION:IN ENGLISH BELOW \nMITÄ? Staabin paitatilausMISSÄ? Verkkokaupassa\, Staabi ry – STUDENTMERCH verkkokauppaMILLOIN? Maanantaina 3.11. alkaen ja päättyen 16.11.KENELLE? Upeista paidoista ja yhdistyksen oheistuotteista pitävilleMITÄ MAKSAA? College 35.50€ ja huppari 44€ \nOletko odottanut kuumeisesti uusien paitojen tilausta? Kenties kaipaat yhdistyksen merch-vaatteita\, jotta voit olla kampuksen yksi tyylikkäimpiä? Nyt siihen on mahdollisuus\, sillä paitojen tilaus tulee taas. Verkkokauppa avataan 3.11. ja kaupasta voit tilata itsellesi haluamasi tuotteet. Valikoimaan kuuluu huppari sekä college\, joiden värivaihtoehdot voit nähdä kaupan sivuilta. Verkkokauppa sulkeutuu 16.11. jälkeen. \nPaitojen kokotaulukot ovat merkattu verkkokaupan sivuille\, joten tarkasta mittojen perusteella itsellesi mieluinen paita. Paitojen värivaihtoehdot ovat näkyvillä tuotteen ohessa ja tämän vuoden spesiaaliksi väriksi valikoitui yleisön toiveesta French Navy. Lisäksi valikoimasta löytyvät perinteiset värit\, kuten musta ja tummanvihreä. Olethan verkkokaupan kanssa tarkka kun valitset koon sekä mieluisen värin. Tästä linkistä kokotaulukkoon . \nOngelmatilanteissa sekä muissa kysymyksissä voit olla yhteydessä Vilmaan (projekti@staabi.fi tai TG: @vilppas). Paidat menevät brodeeraukseen kaupan sulkeuduttua ja ne toimitetaan yhdistykselle. Tarkemmat ohjeet paitojen noutamisesta julkaistaan Telegramin tiedotuskanavalla. Huomioithan myös\, että rahaliikenne tapahtuu suoraan ostajan sekä nettikaupan välillä. \nTästä linkistä kokotaulukkoon \nGRAFFAKIITOS: Vilma Puisto \n/// \nWHAT? Staabi’s shirt orderWHERE? Online store\, Staabi ry – STUDENTMERCH verkkokauppaWHEN? From Monday\, November 3rd until November 16thFOR WHOM? For those who love cool shirts and association merchHOW MUCH? College shirt: €35.50 and hoodie: €44 \nHave you been eagerly waiting to order new shirts? Maybe you want some merch to be one of the most stylish people on campus? Now’s your chance\, because the shirt order is back! The online store opens on November 3rd\, and you can order your favorite items there. The selection includes hoodies and college shirts\, with color options shown on the store page. The store will close after November 16th.\nSize charts are available on the webshop\, so check your measurements to find the right fit. Color options are listed next to each product and this year’s special color\,  chosen by Staabi members\, is French Navy. Traditional colors like black and dark green are also available. Please be observant when choosing your size and preferred color. From this link\, you can get to the size guide \nIf you have any problems or questions\, you can contact Vilma (projekti@staabi.fi or TG: @vilppas). After the store closes\, shirts will be embroidered and delivered to the association. More info about pickup will be shared on the Telegram info channel. Please note that all payments go directly between the buyer and the webshop.\nThanks for the graphs goes to Vilma Puisto
URL:https://staabi.fi/kalenteri/staabin-paitatilaus-2025/
ATTACH;FMTTYPE=image/png:https://staabi.fi/wp-content/uploads/2025/10/Staabin.png
END:VEVENT
BEGIN:VEVENT
DTSTART;TZID=Europe/Helsinki:20251111T210000
DTEND;TZID=Europe/Helsinki:20251112T050000
DTSTAMP:20260420T100015
CREATED:20251013T154445Z
LAST-MODIFIED:20251013T154445Z
UID:231700-1762894800-1762923600@staabi.fi
SUMMARY:Rap Bash Twistit
DESCRIPTION:In English below \nMITÄ? Rap BashTwistitMISSÄ? BAR Ihku\, Hämeenkatu 23MILLOIN? 11.11. klo 21.00 – 12.11. 05.00KENELLE? Kaikille rap ja hip-hop nautiskelijoilleMIKSI? Koska tälläistä harvoin olet opiskelijabileissä kokenutMITÄ MAKSAA? Liput ennakkoon 8 euroa (sisältää narikan) ja ovelta 10 euroa (sisältää narikan)MITÄ PUETAAN PÄÄLLE? Haalarit sekä halutessaan teeman mukaista vaatetta/asusteita!\nNautitko hyvästä musiikista ja kaipaat jälleen kerran jotain uutta? Kenties soittolistaltasi löytyy liuta suomiräppiä tai legendaarisia hiphopin klassikkoja 90-luvulta? Siinä tapauksessa ei kannata missata tätä tapahtumaa\, sillä Twistit tulevat taas ja tällä kertaa teema on Rap Bash!\nMarraskuun Twistejä pääset fiilistelemään jälleen kerran BAR Ihkun huikeissa tiloissa 11.11.2025. Tarjolla on runsaasti opiskelijahintaisia juomia\, hip-hop musiikkia sekä kaupungin paras karaoke\, jossa voit tanssimisen välissä laulaa kaikki kuumimmat klassikot! Ensimmäisille saapujille on myös tarjolla upeat haalarimerkit\, joten ole ajoissa paikalla! Liput myydään ennakkoon Kide.appissa hintaan 8 euroa. Ovelta lipun voi lunastaa hintaan 10 euroa. Molempiin lippuihin kuuluu narikka. Lipunmyynti alkaa 23.11. klo 11 alkaen.\nTapahtuma ei ole täysin esteetön. Tilassa voi olla ahtaita kohtia sekä kynnyksiä\, mutta baari sijaitsee yhdessä kerroksessa sekä katutasolla. Pyörätuolilla on mahdollista tulla tapahtumaan. Kysythän henkilökunnalta apua tarvittaessa. Lisäksi tapahtuma sisältää kovaa musiikkia.\nLisätietoja tapahtumasta saat sähköpostilla projekti@staabi.fi sekä Telegramin kautta @vilppas\nGRAFFAKIITOS: Emmi Vilén \nMitä tehdä\, jos näet tai koet epäasiallista käytöstä Staabin toimintaympäristössä?– Tapahtumissa häirintä-\, kiusaamis ja epäasiallisissa tilanteissa yhteyshenkilönä toimivat palautetyöryhmän jäsenet. Palautetyöryhmään kuuluvat puheenjohtaja Magdalena Honkasalo\, koulutuspoliittinen vastaava ja varapuheenjohtaja Veera Saukkonen\, tuutor- ja yhdenvertaisuusvastaava Sallamari Roti sekä yrityssuhde- ja työelämävastaava Tomi Pirinen. Mikäli palautetyöryhmän jäseniä ei ole paikalla\, voit ottaa yhteyttä muuhun hallituksen jäseneen.– Tapahtumien jatkoina olevat baarit eivät kuulu Staabin viralliseen toimintaympäristöön\, jolloin häiritsevästä käyttäytymisestä tulee ilmoittaa ensisijaisesti ravintolan henkilökunnalle.– Tapahtuman ulkopuolella voit ottaa yhteyttä tukihenkilöön. Staabin tukihenkilöinä toimii Anni Kalmari ja Selma Murtonen. Tukihenkilöt käsittelevät  yhteydenotot tapahtuman ulkopuolella ja heidät tavoittaa parhaiten joko Telegramissa @annikalmari ja @selmisss tai sähköpostitse tukianni@staabi.fi ja tukiselma@staabi.fi. .– Halutessasi voit myös ottaa yhteyttä TREY:n häirintäyhdyshenkilöön sähköpostilla\, puhelimitse tai TREYn häirintälomakkeella. Yhteystiedot löytyvät TREYn verkkosivuilta.– Häiritsevästä käytöksestä voit myös ilmoittaa Staabin verkkosivuilta löytyvän häirintälomakkeen kautta. Häirintälomakkeet menevät yhdenvertaisuusvastaavalle ja ovat vain yhdenvertaisuusvastaavan luettavissa.\nKokemukset ovat yksilöllisiä ja toimenpiteet tapauskohtaisia. Jokainen yhteydenotto käsitellään luottamuksellisesti ja jatkotoimenpiteisiin ryhdytään vain sinun suostumuksellasi. \n/// \nWHAT? Rap Bash TwistsWHERE? BAR Ihku\, Hämeenkatu 23\, TampereWHEN? November 11th\, 9:00 PM – November 12th\, 5:00 AMFOR WHOM? For all rap and hip-hop enjoyersWHY? Because you’ve probably never experienced anything like this at a student party before!HOW MUCH? Presale tickets: €8 (includes cloakroom) At the door: €10 (includes cloakroom)DRESS CODE? Overalls and\, if you wish\, theme-inspired outfits or accessories!\nDo you enjoy good music and crave something new again? Maybe your playlist is full of Finnish rap or iconic hip-hop classics from the 90s? If so\, you definitely don’t want to miss this event. Twists are back\, and this time the theme is Rap Bash!Come experience this years last Twists once again at BAR Ihku’s amazing venue on November 11th\, 2025. Expect plenty of student-priced drinks\, hip-hop music\, and the city’s best karaoke where you can belt out all the hottest classics between dance breaks!\nEarly birds will also receive exclusive overall patches\, so make sure to arrive on time! Tickets are available in advance on Kide.app for €8\, or at the door for €10. Both ticket options include cloakroom. Ticket sales start on November 23rd at 11:00 AM.The venue is not fully accessible. There may be narrow spaces and small thresholds\, but the bar is on one floor at street level. Wheelchair users can enter the event\, and staff will be happy to assist if needed. During the event there is a lot of loud noices (music\, karaoke etc.)\nThe event is not fully accessible. The venue may have narrow spaces and some thresholds\, but the bar is located on one floor and at street level. It is possible to attend the event with a wheelchair. Please don’t hesitate to ask the staff for assistance if needed.\nContact information: projekti@staabi.fi or Telegram @vilppas\nThanks for the graphs: Emmi Vilén\nWhat to do if you see or experience inappropriate behavior in Staabi’s operating environment?– For incidents of harassment\, bullying and inappropriate situations\, members of the feedback team are the contact point. The feedback team consists of Magdalena Honkasalo (Chairperson)\, Veera Saukkonen (Educational policy manager and Vice-Chairperson)\, Sallamari Roti (Tutoring and Equality Manager)\, and Tomi Pirinen (Business Relations and Employment Affairs Manager). If the members of the feedback group are not present\, you can contact another board member.– Bars that are continuations of events are not part of Staabi’s official operating environment\, in which case disturbing behavior should be reported primarily to the restaurant’s staff.– Outside the event\, you can contact a support person. Staabi’s support persons are Anni Kalmari and Selma Murtonen. The support person handle contacts outside the events and are best reached on Telegram @annikalmari and @selmisss or by e-mail tukianni@staabi.fi and tukiselma@staabi.fi.– If you wish\, you can also contact TREY’s harassment contact person by email\, phone or using TREY’s harassment form. Contact information can be found on TREY’s website.– You can also report disruptive behavior via the harassment form found on Staabi’s website. Harassment forms go to the equality officer and can only be read by the equality officer.\nExperiences are individual and measures are case-specific. Every contact is treated confidentially and further measures are taken only with your consent.
URL:https://staabi.fi/kalenteri/rap-bash-twistit/
ATTACH;FMTTYPE=image/png:https://staabi.fi/wp-content/uploads/2025/10/TwistRapBashTK.png
END:VEVENT
END:VCALENDAR