BEGIN:VCALENDAR
VERSION:2.0
PRODID:-//Staabi ry - ECPv6.15.17.1//NONSGML v1.0//EN
CALSCALE:GREGORIAN
METHOD:PUBLISH
X-ORIGINAL-URL:https://staabi.fi
X-WR-CALDESC:Tapahtumat Staabi ry
REFRESH-INTERVAL;VALUE=DURATION:PT1H
X-Robots-Tag:noindex
X-PUBLISHED-TTL:PT1H
BEGIN:VTIMEZONE
TZID:Europe/Helsinki
BEGIN:DAYLIGHT
TZOFFSETFROM:+0200
TZOFFSETTO:+0300
TZNAME:EEST
DTSTART:20240331T010000
END:DAYLIGHT
BEGIN:STANDARD
TZOFFSETFROM:+0300
TZOFFSETTO:+0200
TZNAME:EET
DTSTART:20241027T010000
END:STANDARD
BEGIN:DAYLIGHT
TZOFFSETFROM:+0200
TZOFFSETTO:+0300
TZNAME:EEST
DTSTART:20250330T010000
END:DAYLIGHT
BEGIN:STANDARD
TZOFFSETFROM:+0300
TZOFFSETTO:+0200
TZNAME:EET
DTSTART:20251026T010000
END:STANDARD
BEGIN:DAYLIGHT
TZOFFSETFROM:+0200
TZOFFSETTO:+0300
TZNAME:EEST
DTSTART:20260329T010000
END:DAYLIGHT
BEGIN:STANDARD
TZOFFSETFROM:+0300
TZOFFSETTO:+0200
TZNAME:EET
DTSTART:20261025T010000
END:STANDARD
END:VTIMEZONE
BEGIN:VEVENT
DTSTART;TZID=Europe/Helsinki:20251031T180000
DTEND;TZID=Europe/Helsinki:20251031T230000
DTSTAMP:20260419T182454
CREATED:20251002T062343Z
LAST-MODIFIED:20251002T062343Z
UID:231578-1761933600-1761951600@staabi.fi
SUMMARY:Sukulaissitsit
DESCRIPTION:In English below \nMITÄ? Staabin sukulaissitsit!MISSÄ? Messukylän Työväentalo (Messukylänkatu 47)MILLOIN? Perjantaina 31.10. klo 18 alkaenKENELLE? Staabeille ja heidän ihanille sukulaisille!MITÄ MAKSAA? Sukulaisen kanssa 30€ ja yksin 15€!PUKUKOODI? Switch roles!JATKOT? KaijakkaLIPUT?  Myynti alkaa 7.10. klo 16!KIDEAPP? Täältä! \nOletko aina halunnut näyttää Staabin sitsauskulttuuria äidille\, veljelle\, serkulle tai isoisälle? Nyt sinulla on siihen mahdollisuus\, sillä sukulaissitsit tulevat viimein! Ota mukaan sukulaisesi ja esittele miten sitsaaminen meillä sujuu! Pukeutukaa teeman mukaisesti ja vaihtakaa roolit rakkaan sukulaisen kanssa päikseen.Sitseille on myynnissä yhteislippuja sukulaisen kanssa tuleville sekä muutama lippu niille staabilaisille\, jotka haluavat tulla nauttimaan hyvästä meiningistä ja tutustumaan uusiin tyyppeihin. Kaikkiin lippuihin sisältyy sitseillä tarjottavat ruoat sekä juomat. Yhden Staabin lippu on 15€ ja lippu sukulaiselle sekä Staabille on 30€! \nHuomioithan\, että sitsit ovat alkoholillinen tapahtuma ja näin ollen tapahtumaan ei saa tuoda mukanaan alaikäisiä sukulaisia. \nLipun oston yhteydessä kysytään juoma-\, ruoka- ja allergiatiedot. Otathan etukäteen selvää sukulaisesi ruoka- ja juomatoiveista sekä mahdollisista erityisruokavalioista. \nTapahtuma ei valitettavasti ole esteetön. Työväentalon sisäänkäynnillä on portaat\, alakerrassa sijaitseviin vessoihin on portaat\, eikä esteetöntä wc:tä ole.Lisätietoja tapahtumasta saat tapahtumavastaavilta Mikolta ja Petralta\, joko tapahtumat@staabi.fi tai Telegramissa @MikkoSainio tai @VarjusPetra. \nGRAFFAKIITOS: Aliisa Sorvari \nStaabin tapahtumien löytötavaroita säilytetään 3kk tapahtuman jälkeen\, jonka jälkeen ne hävitetään kierrätysmahdollisuuksia hyödyntäen. Arvotavarat toimitetaan poliisille. \nMitä tehdä\, jos näet tai koet epäasiallista käytöstä Staabin toimintaympäristössä?– Tapahtumissa häirintä-\, kiusaamis ja epäasiallisissa tilanteissa yhteyshenkilönä toimivat palautetyöryhmän jäsenet. Palautetyöryhmään kuuluvat puheenjohtaja Magdalena Honkasalo\, koulutuspoliittinen vastaava ja varapuheenjohtaja Veera Saukkonen\, tuutor- ja yhdenvertaisuusvastaava Sallamari Roti ja yritys- ja työelämävastaava Tomi Pirinen. Mikäli palautetyöryhmän jäseniä ei ole paikalla\, voit ottaa yhteyttä muuhun hallituksen jäseneen.– Tapahtumien jatkoina olevat baarit eivät kuulu Staabin viralliseen toimintaympäristöön\, jolloin häiritsevästä käyttäytymisestä tulee ilmoittaa ensisijaisesti ravintolan henkilökunnalle.– Tapahtuman ulkopuolella voit ottaa yhteyttä tukihenkilöön. Staabin tukihenkilöinä toimii Selma Murtonen ja Anni Kalmari. Tukihenkilöt käsittelevät yhteydenotot tapahtuman ulkopuolella ja heidät tavoittaa parhaiten joko Telegramissa @selmisss ja @annikalmari tai sähköpostitse tukiselma@staabi.fi ja tukianni@staabi.fi. .– Halutessasi voit myös ottaa yhteyttä TREY:n häirintäyhdyshenkilöön sähköpostilla\, puhelimitse tai TREYn häirintälomakkeella. Yhteystiedot löytyvät TREYn verkkosivuilta.– Häiritsevästä käytöksestä voit myös ilmoittaa Staabin verkkosivuilta löytyvän häirintälomakkeen kautta. Häirintälomakkeet menevät yhdenvertaisuusvastaavalle ja ovat vain yhdenvertaisuusvastaavan luettavissa.Kokemukset ovat yksilöllisiä ja toimenpiteet tapauskohtaisia. Jokainen yhteydenotto käsitellään luottamuksellisesti ja jatkotoimenpiteisiin ryhdytään vain sinun suostumuksellasi. \n/// \nWHAT? Bring-A-Relative sitsitWHERE? Messukylän Työväentalo (Messukylänkatu 47)WHEN? Friday\, October 31st\, starting at 18:00TO WHOM? Students of Staabi and their lovely relatives!COST? With a relative 30€ and alone 15€WHAT TO WEAR? Switch roles!AFTERPARTY? Kaijakka!TICKET SALE? The sale starts 7.10. klo 16!KIDEAPP: Here! \nHave you always wanted to show your mom\, brother\, cousin\, or even grandpa what sitsit culture is really like? Now’s your chance – Bring-A-Relative Sitsit are finally here! Bring your relative along and show them how we do sitsit in Staabi style. Dress according to the theme and swap roles with your relative for the night!\nThere will be joint tickets for those bringing a relative\, and a few solo tickets for Staabi members who want to enjoy the atmosphere and meet new people. All tickets include food and drinks served at the sitsit. One solo Staabi ticket is 15€\, and a joint ticket for you and your relative is 30€.\nPlease note: this is an alcohol-serving event\, so underage relatives cannot attend.\nWhen purchasing your ticket\, you’ll be asked about drink\, food\, and allergy preferences. Make sure to check your relative’s wishes and dietary requirements in advance!\nThe event is unfortunately not accessible. Messukylän Työväentalo’s entrance has stairs\, and the bathroom located downstairs does not have an accessible bathroom.\nIf you have any questions\, contact event organizers by email tapahtumat@staabi.fi or in Telegram @VarjusPetra and @MikkoSainio\nThanks for the graphs goes to Aliisa Sorvari\nWhat to do if you see or experience inappropriate behavior in Staabi’s operating environment?– For incidents of harassment\, bullying and inappropriate situations\, members of the feedback team are the contact point. The feedback team consists of Magdalena Honkasalo\, Veera Saukkonen\, Sallamari Roti\, and Tomi Pirinen. If the members of the feedback group are not present\, you can contact another board member.– Bars that are continuations of events are not part of Staabi’s official operating environment\, in which case disturbing behavior should be reported primarily to the restaurant’s staff.– Outside the event\, you can contact a support person. Staabi’s support persons are Selma Murtonen and Anni Kalmari. The support person handle contacts outside the events and are best reached on Telegram @selmisss and @annikalmari or by e-mail tukiselma@staabi.fi and tukianni@staabi.fi.– If you wish\, you can also contact TREY’s harassment contact person by email\, phone or using TREY’s harassment form. Contact information can be found on TREY’s website.– You can also report disruptive behavior via the harassment form found on Staabi’s website. Harassment forms go to the equality officer and can only be read by the equality officer.\nExperiences are individual and measures are case-specific. Every contact is treated confidentially and further measures are taken only with your consent. \nFound items from Staabi’s events are stored for three months after the event\, after which they are disposed of using recycling opportunities. Valuables are delivered to the police.
URL:https://staabi.fi/kalenteri/sukulaissitsit/
ATTACH;FMTTYPE=image/png:https://staabi.fi/wp-content/uploads/2025/09/sukulassitsit.png
END:VEVENT
END:VCALENDAR