BEGIN:VCALENDAR
VERSION:2.0
PRODID:-//Staabi ry - ECPv6.15.17.1//NONSGML v1.0//EN
CALSCALE:GREGORIAN
METHOD:PUBLISH
X-WR-CALNAME:Staabi ry
X-ORIGINAL-URL:https://staabi.fi
X-WR-CALDESC:Tapahtumat Staabi ry
REFRESH-INTERVAL;VALUE=DURATION:PT1H
X-Robots-Tag:noindex
X-PUBLISHED-TTL:PT1H
BEGIN:VTIMEZONE
TZID:Europe/Helsinki
BEGIN:DAYLIGHT
TZOFFSETFROM:+0200
TZOFFSETTO:+0300
TZNAME:EEST
DTSTART:20240331T010000
END:DAYLIGHT
BEGIN:STANDARD
TZOFFSETFROM:+0300
TZOFFSETTO:+0200
TZNAME:EET
DTSTART:20241027T010000
END:STANDARD
BEGIN:DAYLIGHT
TZOFFSETFROM:+0200
TZOFFSETTO:+0300
TZNAME:EEST
DTSTART:20250330T010000
END:DAYLIGHT
BEGIN:STANDARD
TZOFFSETFROM:+0300
TZOFFSETTO:+0200
TZNAME:EET
DTSTART:20251026T010000
END:STANDARD
BEGIN:DAYLIGHT
TZOFFSETFROM:+0200
TZOFFSETTO:+0300
TZNAME:EEST
DTSTART:20260329T010000
END:DAYLIGHT
BEGIN:STANDARD
TZOFFSETFROM:+0300
TZOFFSETTO:+0200
TZNAME:EET
DTSTART:20261025T010000
END:STANDARD
END:VTIMEZONE
BEGIN:VEVENT
DTSTART;TZID=Europe/Helsinki:20251021T150000
DTEND;TZID=Europe/Helsinki:20251021T220000
DTSTAMP:20260419T181911
CREATED:20250930T101554Z
LAST-MODIFIED:20250929T134633Z
UID:231575-1761058800-1761084000@staabi.fi
SUMMARY:Suuri baaripelikiertue
DESCRIPTION:In english below! \nMITÄ? Suuri baaripelikiertue!MISSÄ? Ympäri Tampereen pelailubaareja! Lähtö Kaupin keilahallista.MILLOIN? Tiistaina 21.10. klo 15-22MIKSI? Pääset erittäin kilpailukykyiseen hintaan testailemaan monipuolisesti baaripelejä!PUKUKOODI? Haalarit!MITÄ MAKSAA? 12\,50€MITÄ LIPULLA SAA? Pääset keilaamaan ja pelaamaan dartsia\, minigolfia sekä biljardia ja tietenkin saat haalarimerkin!LIPUT? 3.10. klo 10!KIDE.APP? Tästä linkistä. \nNautitko sinäkin leikkimielisestä kisailusta baaripelien parissa kanssa ystävien? Eikö yksi peli tunnu koskaan riittävän? Nyt sinulla on loistava mahdollisuus päästä niin keilaamaan kuin myös pelaamaan dartsia\, minigolfia ja biljardia saman illan aikana kanssa Staabi-ystävien! Kaikki lajit vain hintaan 12\,50€! Tätä ainutlaatuista uutta tapahtumaa et tahdo missata. \nSuuri baaripelikiertue alkaa klo 15 Kaupin keilahallilta\, josta keilailun jälkeen jatketaan kahdessa ryhmässä. Toinen ryhmä lähtee pelaamaan dartsia Flyersiin ja toinen minigolfia West Coast Ratinaan. Kierroksen jälkeen ryhmät vaihtavat lajeja\, jotta kaikki pääsevät testaamaan molemmat. Lopuksi kokoonnutaan vielä yhteen Galaxieen biljardin pariin\, ja ilta huipentuu jatkoihin tutussa Bar Passionissa lautapelien kanssa. \nLipun hinta kattaa kaikkien lajien kulut kokonaisuutena\, mutta mahdolliset päivän aikana nautitut ruoat ja juomat ovat omakustanteisia. Kiertueen aikana siirtymiin käytetään julkista liikennettä\, myös Nysse-lippu on omakustanteinen. \nTapahtuma ei ole täysin esteetön\, osa tiloista sisältää vähintään korkeita kynnyksiä. Mikäli tarvitset lisätietoja esteettömyydestä\, olethan suoraan yhteydessä järjestäjiin ja selvitetään yhdessä!Lisätietoja tapahtumasta saat tapahtumavastaavilta Mikolta ja Petralta\, joko tapahtumat@staabi.fi tai Telegramissa @MikkoSainio tai @VarjusPetra tai liikunta- ja vapaa-aikavastaavalta Artulta joko liikunta@staabi.fi tai Telegramissa @hiltsah. \nGRAFFAKIITOS: Riikka Nuutinen \nStaabin tapahtumien löytötavaroita säilytetään 1kk tapahtuman jälkeen\, jonka jälkeen ne hävitetään kierrätysmahdollisuuksia hyödyntäen. Arvotavarat toimitetaan poliisille. \nMitä tehdä\, jos näet tai koet epäasiallista käytöstä Staabin toimintaympäristössä?– Tapahtumissa häirintä-\, kiusaamis ja epäasiallisissa tilanteissa yhteyshenkilönä toimivat palautetyöryhmän jäsenet. Palautetyöryhmään kuuluvat puheenjohtaja Magdalena Honkasalo\, koulutuspoliittinen vastaava ja varapuheenjohtaja Veera Saukkonen\, tuutor- ja yhdenvertaisuusvastaava Sallamari Roti sekä yrityssuhde- ja työelämävastaava Tomi Pirinen. Mikäli palautetyöryhmän jäseniä ei ole paikalla\, voit ottaa yhteyttä muuhun hallituksen jäseneen.– Tapahtumien jatkoina olevat baarit eivät kuulu Staabin viralliseen toimintaympäristöön\, jolloin häiritsevästä käyttäytymisestä tulee ilmoittaa ensisijaisesti ravintolan henkilökunnalle.– Tapahtuman ulkopuolella voit ottaa yhteyttä tukihenkilöön. Staabin tukihenkilöinä toimii Anni Kalmari ja Selma Murtonen. Tukihenkilöt käsittelevät  yhteydenotot tapahtuman ulkopuolella ja heidät tavoittaa parhaiten joko Telegramissa @annikalmari ja @selmisss tai sähköpostitse tukianni@staabi.fi ja tukiselma@staabi.fi.– Halutessasi voit myös ottaa yhteyttä TREY:n häirintäyhdyshenkilöön sähköpostilla\, puhelimitse tai TREYn häirintälomakkeella. Yhteystiedot löytyvät TREYn verkkosivuilta.– Häiritsevästä käytöksestä voit myös ilmoittaa Staabin verkkosivuilta löytyvän häirintälomakkeen kautta. Häirintälomakkeet menevät yhdenvertaisuusvastaavalle ja ovat vain yhdenvertaisuusvastaavan luettavissa. \nKokemukset ovat yksilöllisiä ja toimenpiteet tapauskohtaisia. Jokainen yhteydenotto käsitellään luottamuksellisesti ja jatkotoimenpiteisiin ryhdytään vain sinun suostumuksellasi. \n/// \nWHAT? The Great Bar Game Tour!WHERE? All around Tampere’s game bars – starting at Kauppi Bowling HallWHEN? Tuesday\, October 21st\, 15:00–22:00WHY? Because one bar game is never enough!DRESS CODE? Overalls!PRICE? 12\,50€TICKETS? October 3rd at 10:00KIDEAPP? Here! \nDo you also love some playful competition with your friends? Always feel like one round of bowling or darts just doesn’t cut it? Here’s your chance to do it all in one evening – bowling\, darts\, minigolf and billiards – together with your Staabi friends\, and all for just 12\,50€!\nThe tour kicks off at Kauppi Bowling Hall\, then we split into two groups: one heading to Flyers for darts\, the other to West Coast Ratina for minigolf. After swapping games\, we’ll all meet back up at Galaxie for a round of billiards. And of course\, the night ends with an afterparty (and board games!) at our beloved Bar Passion.\nThe ticket covers all the games\, but food\, drinks\, and Nysse tickets for moving between venues are on you.\nPlease note that the event isn’t fully accessible – some venues have high thresholds. If you need more info\, reach out to the organizers and we’ll figure it out together!More info from event coordinators Mikko and Petra at tapahtumat@staabi.fi\, or via Telegram @MikkoSainio / @VarjusPetra\, or from our sports & leisure coordinator Arttu at liikunta@staabi.fi / @hiltsah on Telegram.\nGraphics by: Riikka Nuutinen \nWhat to do if you see or experience inappropriate behavior in Staabi’s operating environment?– For incidents of harassment\, bullying and inappropriate situations\, members of the feedback team are the contact point. The feedback team consists of Magdalena Honkasalo (Chairperson)\, Veera Saukkonen (Educational policy manager and Vice-Chairperson)\, Sallamari Roti (Tutoring and Equality Manager)\, and Tomi Pirinen (Business Relations and Employment Affairs Manager). If the members of the feedback group are not present\, you can contact another board member.– Bars that are continuations of events are not part of Staabi’s official operating environment\, in which case disturbing behavior should be reported primarily to the restaurant’s staff.– Outside the event\, you can contact a support person. Staabi’s support persons are Anni Kalmari and Selma Murtonen. The support person handle contacts outside the events and are best reached on Telegram @annikalmari and @selmisss or by e-mail tukianni@staabi.fi and tukiselma@staabi.fi.– If you wish\, you can also contact TREY’s harassment contact person by email\, phone or using TREY’s harassment form. Contact information can be found on TREY’s website.– You can also report disruptive behavior via the harassment form found on Staabi’s website. Harassment forms go to the equality officer and can only be read by the equality officer. \nExperiences are individual and measures are case-specific. Every contact is treated confidentially and further measures are taken only with your consent.\nFound objects from Staabis events are kept for 1 month after the event\, after which they are recycled and disposed of. Valuables are handed over to the police.
URL:https://staabi.fi/kalenteri/suuri-baaripelikiertue/
ATTACH;FMTTYPE=image/png:https://staabi.fi/wp-content/uploads/2025/09/Suuri-baaripelikiertue.png
END:VEVENT
END:VCALENDAR