BEGIN:VCALENDAR
VERSION:2.0
PRODID:-//Staabi ry - ECPv6.15.17.1//NONSGML v1.0//EN
CALSCALE:GREGORIAN
METHOD:PUBLISH
X-ORIGINAL-URL:https://staabi.fi
X-WR-CALDESC:Tapahtumat Staabi ry
REFRESH-INTERVAL;VALUE=DURATION:PT1H
X-Robots-Tag:noindex
X-PUBLISHED-TTL:PT1H
BEGIN:VTIMEZONE
TZID:Europe/Helsinki
BEGIN:DAYLIGHT
TZOFFSETFROM:+0200
TZOFFSETTO:+0300
TZNAME:EEST
DTSTART:20240331T010000
END:DAYLIGHT
BEGIN:STANDARD
TZOFFSETFROM:+0300
TZOFFSETTO:+0200
TZNAME:EET
DTSTART:20241027T010000
END:STANDARD
BEGIN:DAYLIGHT
TZOFFSETFROM:+0200
TZOFFSETTO:+0300
TZNAME:EEST
DTSTART:20250330T010000
END:DAYLIGHT
BEGIN:STANDARD
TZOFFSETFROM:+0300
TZOFFSETTO:+0200
TZNAME:EET
DTSTART:20251026T010000
END:STANDARD
BEGIN:DAYLIGHT
TZOFFSETFROM:+0200
TZOFFSETTO:+0300
TZNAME:EEST
DTSTART:20260329T010000
END:DAYLIGHT
BEGIN:STANDARD
TZOFFSETFROM:+0300
TZOFFSETTO:+0200
TZNAME:EET
DTSTART:20261025T010000
END:STANDARD
END:VTIMEZONE
BEGIN:VEVENT
DTSTART;VALUE=DATE:20251001
DTEND;VALUE=DATE:20251021
DTSTAMP:20260419T182454
CREATED:20250922T142846Z
LAST-MODIFIED:20250922T142846Z
UID:231477-1759276800-1761004799@staabi.fi
SUMMARY:KV-tuutorhaku
DESCRIPTION:EN/FI \nInternational exchange student tutors needed for the spring semester 2026\, search open October 1-20! \nWHAT? Tutor recruitment for exchange studentsWHEN? 1. – 20.10.WHERE? TREY’s form \nA fresh batch of exchange students are arriving at Tampere University in January 2026\, and we’re asking you to join us on a wild ride: want to help guide their first weeks at the university and in the city? To help them\, we are recruiting student tutors from all associations and campuses in October. You can join by completing the application form on TREY’s website! \nInternational student tutoring offers fresh experiences\, the opportunity to meet new people and a chance to practice your language skills. We require an open mind\, a dedicated mindset and a willingness to help our international students. The main language of international student tutoring is English. New tutors can complete the tutoring course and obtain 2 study credits that can be added to your degree’s internationalisation module. All tutors are also eligible for a small compensation. \nThe application round runs between October 1 – October 20. After tutor selections in late October\, all the new tutors are asked to join a training session on Wednesday 12 November at 15:00-16:30 on the city centre campus in lecture hall Pinni B1100. More information will be provided to tutors closer to the training. \nRead more about tutoring and fill out the application form on TREY’s website! \nTutor selections will be made by Staabi after the conclusion of the application period. Follow your e-mail after the application period. If you have any questions about international tutoring\, you can contact Staabi’s international tutoring official Jeremiah at internationaltutoring@staabi.fi or @jeremiallred on Telegram. \n/// \nKansainvälisten vaihto-opiskelijoiden tuutorien haku kevätlukukaudelle 2026 on auki 1.–20.10.! \nMITÄ? Vaihtarien tuutorhakuMILLOIN? 1. – 20.10.MISSÄ? TREYn lomake \nTampereen yliopistoon saapuu tammikuussa 2026 joukko vaihto-opiskelijoita ympäri maailmaa\, ja meillä on tarjolla melkoinen seikkailu: haluatko auttaa heitä kiitämään läpi ensimmäisistä viikoistaan yliopistolla ja kaupungissa? Etsimme heidän avukseen lokakuussa kansainvälisiä opiskelijatuutoreita kaikilta aloilta ja kampuksilta. Mukaan pääset täyttämällä hakulomakkeen TREYn verkkosivuilla! \nKansainvälinen tuutorointi tarjoaa uusia kokemuksia ja tuttavuuksia sekä mahdollisuuden kehittää omia kieli- ja ryhmänohjaustaitojaan. Kaipaamme tuutoreilta avointa mieltä\, sitoutumista tehtävään sekä halua auttaa uusia kansainvälisiä opiskelijoita yhteisössämme. Kansainvälisen tuutoroinnin pääkieli on englanti. Uudet tuutorit voivat suorittaa tuutorien opintojakson\, josta voi saada 2 opintopistettä\, jotka voit lisätä tutkintosi kansainvälistymiskokonaisuuteen. Kaikki tuutorit saavat myös pienen kulukorvauksen. \nHaku kevään vaihto-opiskelijoiden tuutorointiin on käynnissä 1.10.-20.10. Haun jälkeen tuutorit valitaan lokakuun lopulla\, ja valitut tuutorit kutsutaan koulutustilaisuuteen\, joka järjestetään keskiviikkona 12.11. klo 15:00-16:30 keskustakampuksella tilassa Pinni B1100. Lisätietoa koulutuksesta annetaan valituille tuutoreille haun päätyttyä. \nLue lisää tuutoroinnista ja täytä hakulomake TREYn verkkosivuilla! \nStaabi tekee tuutorvalinnat hakuajan sulkeutumisen jälkeen ja kaikille hakijoille ilmoitetaan valinnoista sähköpostitse. Lisätietoja kv-tuutoroinnista saat Staabin kv-tuutortoimihenkilö Jeremiahlta sähköpostilla internationaltutoring@staabi.fi ja Telegramissa @jeremiallred.
URL:https://staabi.fi/kalenteri/kv-tuutorhaku-2/
ATTACH;FMTTYPE=image/png:https://staabi.fi/wp-content/uploads/2025/09/Vaihtarituutorihaku-Syksy-2025-FIN.png
END:VEVENT
BEGIN:VEVENT
DTSTART;TZID=Europe/Helsinki:20251016T210000
DTEND;TZID=Europe/Helsinki:20251017T040000
DTSTAMP:20260419T182454
CREATED:20250922T142221Z
LAST-MODIFIED:20250922T142221Z
UID:231474-1760648400-1760673600@staabi.fi
SUMMARY:NörttiKolmiot
DESCRIPTION:In English below \nLOKAKUUN KOLMIOT \nLokakuun Kolmioita juhlitaan 16.10. Famessa sekä H5:ssä! Tällä kertaa teemana on NörttiKolmiot. Anna piilossa olleen sisäisen nörttisi loistaa ja tule mukaan juhlimaan! \nMITÄ: NörttiKolmiotMISSÄ: Fame\, Satakunnankatu 18 ja H5\, Hämeenkatu 5MILLOIN: 16.10. klo 21–04BAARIN VAIHTO: bileyönä klo 01 alkaen veloituksettaVAPAAEHTOINEN PUKUKOODI: nörttityyli: lasit\, pelipaidat \nENNAKKOLIPUT: maanantaina 6.10.\, hinta 7 € (sis. narikan)klo 10 Kide.appklo 12 Hervanta\, Konetalon aula & Keskusta\, Päätalon ala-aula (Alakuppilan vieressä)LIPUT OVELTA: Bilepäivänä 9 € (sis. narikan). Liputtomien jonosta kävijöitä otetaan sisään klo 24 jälkeen\, tai ennen tätä jos mahdollista. \nNähdään Kolmioilla! \n/// \nOCTOBER’S KOLMIOT \nKolmiot will light up Fame and H5 on October 16th!  This time the theme is NörttiKolmiot Let your hidden inner nerd shine and come party with us! \nWHAT: NörttiKolmiotWHERE: Fame & H5WHEN: 16th October\, from 9 PM to 4 AMBAR SWITCH: during the party night at 1 AM free of chargeOPTIONAL DRESS CODE: Nerdy: glasses\, game shirts \nADVANCE TICKETS: On Monday\, October 6th\, price 7€ (includes cloakroom)at 10 AM from Kide.appat 12 PM from Hervanta\, Konetalo Hall & City Center campus\, Main Building lower hall.TICKETS AT THE DOOR: On the party day for 9€ (cloakroom included). People without advance ticket are taken in after midnight or before this if possible. \nSee you at Kolmiot!
URL:https://staabi.fi/kalenteri/norttikolmiot/
ATTACH;FMTTYPE=image/png:https://staabi.fi/wp-content/uploads/2025/09/Norttikolmiot.png
END:VEVENT
END:VCALENDAR