BEGIN:VCALENDAR
VERSION:2.0
PRODID:-//Staabi ry - ECPv6.15.17.1//NONSGML v1.0//EN
CALSCALE:GREGORIAN
METHOD:PUBLISH
X-WR-CALNAME:Staabi ry
X-ORIGINAL-URL:https://staabi.fi
X-WR-CALDESC:Tapahtumat Staabi ry
REFRESH-INTERVAL;VALUE=DURATION:PT1H
X-Robots-Tag:noindex
X-PUBLISHED-TTL:PT1H
BEGIN:VTIMEZONE
TZID:Europe/Helsinki
BEGIN:DAYLIGHT
TZOFFSETFROM:+0200
TZOFFSETTO:+0300
TZNAME:EEST
DTSTART:20240331T010000
END:DAYLIGHT
BEGIN:STANDARD
TZOFFSETFROM:+0300
TZOFFSETTO:+0200
TZNAME:EET
DTSTART:20241027T010000
END:STANDARD
BEGIN:DAYLIGHT
TZOFFSETFROM:+0200
TZOFFSETTO:+0300
TZNAME:EEST
DTSTART:20250330T010000
END:DAYLIGHT
BEGIN:STANDARD
TZOFFSETFROM:+0300
TZOFFSETTO:+0200
TZNAME:EET
DTSTART:20251026T010000
END:STANDARD
BEGIN:DAYLIGHT
TZOFFSETFROM:+0200
TZOFFSETTO:+0300
TZNAME:EEST
DTSTART:20260329T010000
END:DAYLIGHT
BEGIN:STANDARD
TZOFFSETFROM:+0300
TZOFFSETTO:+0200
TZNAME:EET
DTSTART:20261025T010000
END:STANDARD
END:VTIMEZONE
BEGIN:VEVENT
DTSTART;TZID=Europe/Helsinki:20250926T173000
DTEND;TZID=Europe/Helsinki:20250926T233000
DTSTAMP:20260419T165556
CREATED:20250916T134744Z
LAST-MODIFIED:20250916T134744Z
UID:231467-1758907800-1758929400@staabi.fi
SUMMARY:After Work Helsingissä
DESCRIPTION:In English below \nMITÄ? After Work Helsingissä\nMISSÄ? Pub Thirsty Scholar (Fabianinkatu 37) lähellä rautatieasemaa ja Helsingin yliopiston metropysäkkiäMILLOIN? Pe 26.9. klo 17.30 alkaen\nKENELLE? Kaikille Staabin jäsenilleMIKSI? Koska vertaistuki ja verkostot\nMITÄ MAKSAA? Matkaliput ja illan tarjoilut omasta pussista oman maun mukaan\nMITÄ PUETAAN PÄÄLLE? Asu vapaa\, mutta pakollinen\nEstääkö asuinpaikkasi pk-seudulla opiskelijarientoihin osallistumisen Tampereella? Nappasitko harjoittelupaikan valtionhallinnosta\, mutta kaipaat opiskelukavereita uudella paikkakunnalla? Onko työelämä tuonut sinut jo isolle kirkolle? Vai pitäisikö muuten vaan lähteä käymään Helsingissä? Tervetuloa rennoille Staabin aikuisopiskelijoiden järjestämille aftereille työ- ja opiskeluviikon päätteksi! Meille on varattu istumapaikkoja opintoretken hengessä ravintola Thirsty Scholarista Helsingin yliopiston keskustakampuksella. Ohjelmassa rentoa tutustumista ja illanviettoa ilman kummempia kommervenkkejä. Tapahtuma kestää niin myöhään kuin intoa riittää. Mukaan ovat tervetulleita kaikki Staabin jäsenet vuosikurssista\, tutorryhmästä tai asuinpaikasta riippumatta. \nLisätietoja tapahtumasta Telegramissa käyttäjiltä @LauraHelsinki ja @olliGrrr tai aikuisopiskelijoiden Whatsapp-ryhmässä.Tapahtumaan ei ole varsinaista ennakkoilmoittautumista\, mutta ilmoita osallistumisestasi Lauralle mielellään jo etukäteen jos mahdollista\, jotta voimme tarvittaessa varata lisäpaikkoja kaikille osallistujille.\nPub Thirsty Scholar ei tilana valitettavasti ole esteetön. Ole järjestäjiin yhteydessä yksittäisten esteettömyyskymyksien selvittämiseksi. \nGRAFFAKIITOS: Olli R \nTapahtumien kestävyyden huomioimisesta saat halutessasi tietoa aikuisopiskelijatoimihenkilöltä: Telegram @olliGrrr tai sähköposti olli.ruotsalainen@tuni.fi\nStaabin tapahtumien löytötavaroita säilytetään 1kk tapahtuman jälkeen\, jonka jälkeen nehävitetään kierrätysmahdollisuuksia hyödyntäen. Arvotavarat toimitetaan poliisille. \nMitä tehdä\, jos näet tai koet epäasiallista käytöstä Staabin toimintaympäristössä?– Tapahtumissa häirintä-\, kiusaamis ja epäasiallisissa tilanteissa yhteyshenkilönätoimivat palautetyöryhmän jäsenet. Palautetyöryhmään kuuluvat puheenjohtaja Magdalena Honkasalo\, koulutuspoliittinen vastaava ja varapuheenjohtaja VeeraSaukkonen\, tuutor- ja yhdenvertaisuusvastaava Sallamari Roti sekä yrityssuhde- ja työelämävastaava Tomi Pirinen. Mikäli palautetyöryhmän jäseniä ei ole paikalla\, voitottaa yhteyttä muuhun hallituksen jäseneen.\n– Tapahtumien jatkoina olevat baarit eivät kuulu Staabin viralliseen toimintaympäristöön\, jolloin häiritsevästä käyttäytymisestä tulee ilmoittaa ensisijaisesti ravintolanhenkilökunnalle.– Tapahtuman ulkopuolella voit ottaa yhteyttä tukihenkilöön. Staabin tukihenkilöinä toimiiAnni Kalmari ja Selma Murtonen. Tukihenkilöt käsittelevät yhteydenotot tapahtumanulkopuolella ja heidät tavoittaa parhaiten joko Telegramissa @annikalmari ja @selmisss tai sähköpostitse tukianni@staabi.fi ja tukiselma@staabi.fi. .- Halutessasi voit myös ottaa yhteyttä TREY:n häirintäyhdyshenkilöön sähköpostilla\, puhelimitse tai TREYn häirintälomakkeella. Yhteystiedot löytyvät TREYn verkkosivuilta.\n– Häiritsevästä käytöksestä voit myös ilmoittaa Staabin verkkosivuilta löytyvän häirintälomakkeen kautta. Häirintälomakkeet menevät yhdenvertaisuusvastaavalle ja ovat vain yhdenvertaisuusvastaavan luettavissa. \nKokemukset ovat yksilöllisiä ja toimenpiteet tapauskohtaisia. Jokainen yhteydenotto käsitellään luottamuksellisesti ja jatkotoimenpiteisiin ryhdytään vain sinun suostumuksellasi. \n  \n/// \nWHAT? After Work in Helsinki\nWHERE? Pub Thirsty Scholar (Fabianinkatu 37)\, near the Central Railway Station and the University of Helsinki metro stopWHEN? Friday 26th of September\, starting at 5:30 p.m.\nFOR WHOM? All Staabi membersWHY? Because peer support and networks matter\nCOST? Travel tickets and evening refreshments at your own expense\, according to your own taste budsDRESS CODE? Come as you are \nDoes living in the Helsinki metropolitan area prevent you from joining student events in Tampere? Have you landed an internship in the state administration but miss fellow students in your new city? Has working life already brought you to the capital? Or do you just feel like visiting Helsinki? Welcome to a relaxed afterwork gathering organized by the Staabi adult student community to wrap up the study and work week! In the spirit of a study trip\, we have reserved some seats at Pub Thirsty Scholar\, located at the University of Helsinki’s City Centre Campus. The program includes casual mingling and spending the evening in good company. The event lasts as long as everyone’s energy does. All Staabi members are warmly welcome regardless of year\, tutor group\, or place of residence. \nFor more information\, contact @LauraHelsinki or @olliGrrr on Telegram or check the adult students’ WhatsApp group.\nThere is no formal pre-registration\, but please let Laura know in advance if possible so that additional seats can be added to the reservation if needed.Accessibility: Pub thirsty scholar is unfortunately not an accessible environment. Please contact the organizers to resolve specific accessibility questions.\nTHANKS FOR THE GRAPHS: Olli R \nWhen considering the sustainability of the event\, you can get more info from the Staabi adult student officer: Telegram @olliGrrr or e-mail olli.ruotsalainen@tuni.fi \nWhat to do if you see or experience inappropriate behavior in Staabi’s operating environment?\n– For incidents of harassment\, bullying and inappropriate situations\, members of thefeedback team are the contact point. The feedback team consists of Magdalena Honkasalo (Chairperson)\, Veera Saukkonen (Educational Policy Manager andVice-Chairperson)\, Sallamari Roti (Tutoring and Equality Manager)\, and Tomi Pirinen (Corporate Relations and Working Life Contacts Manager). If the members of thefeedback group are not present\, you can contact another board member.– Bars that are continuations of events are not part of Staabi’s official operatingenvironment\, in which case disturbing behavior should be reported primarily to therestaurant’s staff.– Outside the event\, you can contact a support person. Staabi’s support persons are AnniKalmari and Selma Murtonen. The support person handle contacts outside the events and are best reached on Telegram @selmisss and @annikalmari or by e-mail tukianni@staabi.fii and tukiselma@staabi.fi.\n– If you wish\, you can also contact TREY’s harassment contact person by email\, phone or using TREY’s harassment form. Contact information can be found on TREY’s website.\n– You can also report disruptive behavior via the harassment form found on Staabi’s website. Harassment forms go to the equality officer and can only be read by the equality officer.\nExperiences are individual and measures are case-specific. Every contact is treatedconfidentially and further measures are taken only with your consent.Found items from Staabi’s events are stored for three months after the event\, after whichthey are disposed of using recycling opportunities. Valuables are delivered to the police
URL:https://staabi.fi/kalenteri/after-work-helsingissa/
ATTACH;FMTTYPE=image/png:https://staabi.fi/wp-content/uploads/2025/09/aikoafterwork.png
END:VEVENT
END:VCALENDAR