BEGIN:VCALENDAR
VERSION:2.0
PRODID:-//Staabi ry - ECPv6.15.17.1//NONSGML v1.0//EN
CALSCALE:GREGORIAN
METHOD:PUBLISH
X-WR-CALNAME:Staabi ry
X-ORIGINAL-URL:https://staabi.fi
X-WR-CALDESC:Tapahtumat Staabi ry
REFRESH-INTERVAL;VALUE=DURATION:PT1H
X-Robots-Tag:noindex
X-PUBLISHED-TTL:PT1H
BEGIN:VTIMEZONE
TZID:Europe/Helsinki
BEGIN:DAYLIGHT
TZOFFSETFROM:+0200
TZOFFSETTO:+0300
TZNAME:EEST
DTSTART:20240331T010000
END:DAYLIGHT
BEGIN:STANDARD
TZOFFSETFROM:+0300
TZOFFSETTO:+0200
TZNAME:EET
DTSTART:20241027T010000
END:STANDARD
BEGIN:DAYLIGHT
TZOFFSETFROM:+0200
TZOFFSETTO:+0300
TZNAME:EEST
DTSTART:20250330T010000
END:DAYLIGHT
BEGIN:STANDARD
TZOFFSETFROM:+0300
TZOFFSETTO:+0200
TZNAME:EET
DTSTART:20251026T010000
END:STANDARD
BEGIN:DAYLIGHT
TZOFFSETFROM:+0200
TZOFFSETTO:+0300
TZNAME:EEST
DTSTART:20260329T010000
END:DAYLIGHT
BEGIN:STANDARD
TZOFFSETFROM:+0300
TZOFFSETTO:+0200
TZNAME:EET
DTSTART:20261025T010000
END:STANDARD
END:VTIMEZONE
BEGIN:VEVENT
DTSTART;TZID=Europe/Helsinki:20250925T170000
DTEND;TZID=Europe/Helsinki:20250925T200000
DTSTAMP:20260419T170043
CREATED:20250818T130539Z
LAST-MODIFIED:20250923T052245Z
UID:231338-1758819600-1758830400@staabi.fi
SUMMARY:Fuksiolympialaiset
DESCRIPTION:*In English below* \nHUOM! Tapahtuman ajankohta on vaihtunut alunperin ilmoitetusta \nMITÄ? Staabin fuksiolympialaiset\nMISSÄ? Eteläpuistossa\nMILLOIN? 25.9. klo 17\nKENELLE? Staabin uusille fukseille ja heidän tuutoreilleen\nMIKSI? Jotta voidaan pitää lisää hauskaa!\nMITÄ MAKSAA? Ei mitään!\nMITÄ PUETAAN PÄÄLLE? Säähän sopiva vaatetus \nJos kaipaat uusia tuttavuuksia leikkimielisten kilpailujen merkeissä\, tämä tapahtuma on sinulle! \nFuksiolympialaisten tarkoituksena on jakaa fuksit ja tuutorit ryhmiin\, joissa pelataan erinäköisiä matalan kynnyksen ulkopelejä. Tällä kertaa tosin kaksi joukuetta kiertää yhdessä\, joten kilpailu on aina päällä! Tapahtuma alkaa klo 17 Eteläpuistossa. \nTapahtuma ei ole täysin esteetön\, johtuen joidenkin rastien suoritustavasta. Sorsapuistosta löytyy esteetön WC ja maasto on tasaista. \nGRAFFAKIITOS: Aliisa Sorvari \nStaabin tapahtumien löytötavaroita säilytetään 3kk tapahtuman jälkeen\, jonka jälkeen ne hävitetään kierrätysmahdollisuuksia hyödyntäen. Arvotavarat toimitetaan poliisille. \nMitä tehdä\, jos näet tai koet epäasiallista käytöstä Staabin toimintaympäristössä?\n– Tapahtumissa häirintä-\, kiusaamis ja epäasiallisissa tilanteissa yhteyshenkilönä toimivat palautetyöryhmän jäsenet. Palautetyöryhmään kuuluvat puheenjohtaja Magdalena Honkasalo\, koulutuspoliittinen vastaava ja varapuheenjohtaja Veera Saukkonen\, tuutor- ja yhdenvertaisuusvastaava Sallamari Roti ja yritys- ja työelämävastaava Tomi Pirinen. Mikäli palautetyöryhmän jäseniä ei ole paikalla\, voit ottaa yhteyttä muuhun hallituksen jäseneen.\n– Tapahtumien jatkoina olevat baarit eivät kuulu Staabin viralliseen toimintaympäristöön\, jolloin häiritsevästä käyttäytymisestä tulee ilmoittaa ensisijaisesti ravintolan henkilökunnalle.\n– Tapahtuman ulkopuolella voit ottaa yhteyttä tukihenkilöön. Staabin tukihenkilöinä toimii Selma Murtonen ja Anni Kalmari. Tukihenkilöt käsittelevät yhteydenotot tapahtuman ulkopuolella ja heidät tavoittaa parhaiten joko Telegramissa @selmisss ja @annikalmari tai sähköpostitse tukiselma@staabi.fi ja tukianni@staabi.fi.\n– Halutessasi voit myös ottaa yhteyttä TREY:n häirintäyhdyshenkilöön sähköpostilla\, puhelimitse tai TREYn häirintälomakkeella. Yhteystiedot löytyvät TREYn verkkosivuilta.\n– Häiritsevästä käytöksestä voit myös ilmoittaa Staabin verkkosivuilta löytyvän häirintälomakkeen kautta. Häirintälomakkeet menevät yhdenvertaisuusvastaavalle ja ovat vain yhdenvertaisuusvastaavan luettavissa. \nKokemukset ovat yksilöllisiä ja toimenpiteet tapauskohtaisia. Jokainen yhteydenotto käsitellään luottamuksellisesti ja jatkotoimenpiteisiin ryhdytään vain sinun suostumuksellasi. \n/// \nNOTE! The date of the event has changed from the one originally announced. \nWHAT? Staabi’s Freshmen’s Olympics\nWHERE? Eteläpuisto Park\nWHEN? September 25th 17:00\nFOR WHOM? New Staabi freshmen and their tutors\nWHY? To have fun!\nHOW MUCH? Nothing!\nWHAT TO WEAR? Weather-appropriate clothing \nIf you’re looking to meet new people through playful competitions\, this event is for you! \nThe purpose of the Freshmen’s Olympics is to divide the freshmen and tutors into teams to play various easygoing outdoor games. This time\, however\, two teams will go around together — so the competition is always on! The event kicks off at 17:00 in Eteläpuisto Park. \nThe event is not fully accessible due to the nature of some of the games. However\, the park has accessible restrooms and the terrain is mostly flat. \nGRAPHICS THANKS TO: Aliisa Sorvari \nWhat to do if you see or experience inappropriate behavior in Staabi’s operating environment?\n– For incidents of harassment\, bullying and inappropriate situations\, members of the feedback team are the contact point. The feedback team consists of Magdalena Honkasalo\, Veera Saukkonen\, Sallamari Roti\, and Tomi Pirinen. If the members of the feedback group are not present\, you can contact another board member.\n– Bars that are continuations of events are not part of Staabi’s official operating environment\, in which case disturbing behavior should be reported primarily to the restaurant’s staff.\n– Outside the event\, you can contact a support person. Staabi’s support persons are Selma Murtonen and Anni Kalmari. The support person handle contacts outside the events and are best reached on Telegram @selmisss and @annikalmari or by e-mail tukiselma@staabi.fi and tukianni@staabi.fi.\n– If you wish\, you can also contact TREY’s harassment contact person by email\, phone or using TREY’s harassment form. Contact information can be found on TREY’s website.\n– You can also report disruptive behavior via the harassment form found on Staabi’s website. Harassment forms go to the equality officer and can only be read by the equality officer. \nExperiences are individual and measures are case-specific. Every contact is treated confidentially and further measures are taken only with your consent. Found items from Staabi’s events are stored for three months after the event\, after which they are disposed of using recycling opportunities. Valuables are delivered to the police. \nFound objects from Staabi’s events are kept for 1 month after the event\, after which they are recycled and disposed of. Valuables are handed over to the police.
URL:https://staabi.fi/kalenteri/fuksiolympialaiset/
ATTACH;FMTTYPE=image/png:https://staabi.fi/wp-content/uploads/2025/08/fuksiolympialaiset.png
END:VEVENT
END:VCALENDAR