BEGIN:VCALENDAR
VERSION:2.0
PRODID:-//Staabi ry - ECPv6.15.17.1//NONSGML v1.0//EN
CALSCALE:GREGORIAN
METHOD:PUBLISH
X-ORIGINAL-URL:https://staabi.fi
X-WR-CALDESC:Tapahtumat Staabi ry
REFRESH-INTERVAL;VALUE=DURATION:PT1H
X-Robots-Tag:noindex
X-PUBLISHED-TTL:PT1H
BEGIN:VTIMEZONE
TZID:Europe/Helsinki
BEGIN:DAYLIGHT
TZOFFSETFROM:+0200
TZOFFSETTO:+0300
TZNAME:EEST
DTSTART:20240331T010000
END:DAYLIGHT
BEGIN:STANDARD
TZOFFSETFROM:+0300
TZOFFSETTO:+0200
TZNAME:EET
DTSTART:20241027T010000
END:STANDARD
BEGIN:DAYLIGHT
TZOFFSETFROM:+0200
TZOFFSETTO:+0300
TZNAME:EEST
DTSTART:20250330T010000
END:DAYLIGHT
BEGIN:STANDARD
TZOFFSETFROM:+0300
TZOFFSETTO:+0200
TZNAME:EET
DTSTART:20251026T010000
END:STANDARD
BEGIN:DAYLIGHT
TZOFFSETFROM:+0200
TZOFFSETTO:+0300
TZNAME:EEST
DTSTART:20260329T010000
END:DAYLIGHT
BEGIN:STANDARD
TZOFFSETFROM:+0300
TZOFFSETTO:+0200
TZNAME:EET
DTSTART:20261025T010000
END:STANDARD
END:VTIMEZONE
BEGIN:VEVENT
DTSTART;VALUE=DATE:20250817
DTEND;VALUE=DATE:20250914
DTSTAMP:20260419T165708
CREATED:20250801T130812Z
LAST-MODIFIED:20250827T144933Z
UID:231246-1755388800-1757807999@staabi.fi
SUMMARY:Staabin fuksiviikot 2025
DESCRIPTION:*In English below* \nMitä? Staabin Fuksiviikot!Milloin? 17.8.- 13.9. \nHei fuksi – tervetuloa Staabiin! Staabin fuksiviikoilla on luvassa monenlaisia tapahtumia\, joissa pääset tutustumaan niin yliopistomaailman pyörteisiin kuin myös toisiin fukseihin. Tapahtumien sisältöön mahtuu niin bileitä\, rentoa hengailua\, liikuntaa\, koulutuspolitiikkaa kuin myös hauskanpitoa eri ainejärjestöjen opiskelijoiden kanssa. \nLöydät alta kaikki fuksiviikkojen keskeiset päivämäärät – tapahtumien kohdalle päivitetään linkit kunkin tapahtuman omalle tapahtumasivulle\, josta löydät enemmän tietoa kyseisestä tapahtumasta. \n17.8. EnsitapaaminenEnsitapaamisessa Staabin uudet fuksit (ensimmäisen vuoden opiskelijat) pääsevät tapaamaan toisensa ja tuutorinsa! Päivä alkaa tuutorryhmän tapaamisessa\, johon kunkin ryhmän tuutorit antavat ohjeistuksen. Tapaamisesta ryhmäläiset suuntaavat yhdessä Messukylän Työväentalolle\, jossa luvassa on yhteistä ohjelmaa! \n18.8. KampuskierrosStaabin fuksiviikot starttaa perinteinen kampuskierros! Kierroksen aikana uudet fuksit pääsevät tutustumaan kampuksen keskeisimpiin hotspotteihin sekä Pinninkadun piilotettuihin aarteisiin omien tuutoreidensa johdolla. Kierroksen ohessa tuutorit opastavat fukseja ensimmäisen periodin kurssivalintojen kanssa\, auttaen heitä yliopistouransa aloittamisessa. \n19.8. KerrostalosuunnistusHaluatko päästä tutustumaan muihinkin kuin tuutorryhmäsi fukseihin? Tässä tapahtumassa siihen on oiva mahdollisuus! Fuksit jaetaan täysin sekaryhmiin\, joissa he pääsevät kiertämään tuutoreiden asunnoissa järjestettäviä rasteja. Ilta päättyy yhteisille jatkoille. Tätä monen Staabin suosikkitapahtumaa et halua missata! \n21.8. TutustumisbileetKeitä nämä uudet Staabit oikein ovat\, ja mistä he tulevat? Entäs keitä nämä akateemisesti vanhemmat staabit ovat? Staabin legendaarisissa Tutustumisbileissä\, eli Tuttareissa uudet ja vanhat staabit pääsevät tutustumaan toisiinsa sekä viettämään Kolmiobileiden etkoja eli ketkoja! Illan aikana julistetaan myös Kersun voittajajoukkue\, otetaan ryhmäkuvat tuurorryhmistä sekä kuullaan muutama tervehdyspuheenvuoro \n21.8. KolmiotUudet tuulet puhaltavat niin fukseille kuin Kolmioillekin! Elokuun Kolmioita päästään viettämään ensimmäistä kertaa uudella kokoonpanolla Fame Clubilla sekä H5 Bar&Cellarissa. \n25.8. HaalarimainosinfoMistä saan tilattua haalarit? Mitkä ihmeen haalarimainokset? Näihin ja moniin muihin kutkuttaviin kysymyksiin saat vastauksen haalarimainosinfossa! Tule siis paikalle kuulemaan kaikki tarpeellinen näiden kiehtovien ja vapaudu vankilasta -efektin aiheuttavien kapistuksien hankinnasta. \n26.8. Boomi x Staabi kaupunkiseikkailuHallintotieteilijät ja kauppatieteilijät pääsevät yhdistämään voimansa kilpailussa\, jossa kuljetaan läpi Tampereen kuuluisien nähtävyyksien\, sekä nautitaan uusista tuttavuuksista hauskojen rastiaktiviteettien parissa. Tapahtumassa ryhmät sekoitetaan molempien järjestöjen fuksien kesken\, eli hyvällä onnella voit kenties löytää ensimmäisen poikkitieteellisen ystävän! Pakkaa mukaasi siis rutkasti seikkailumieltä\, nokkeluutta sekä kilpailuhenkeä\, ja heittäydy Kaupunkiseikkailun vietäväksi! \n28.8. FuksipiknikFuksipiknikillä vietetään aikaa yhdessä Sorsapuistossa. Täällä pääset tapaamaan pääainejärjestöt sekä sovittamaan haalareita! \n30.8. FuksiolympialaisetJos kaipaat uusia tuttavuuksia leikkimielisten kilpailujen merkeissä\, tämä tapahtuma on sinulle! Fuksiolympialaisten tarkoituksena on jakaa fuksit ja tuutorit ryhmiin\, joissa pelataan erinäköisiä matalan kynnyksen ulkopelejä. \n2.9. Aikuisopiskelijoiden tutustumisiltaHei aikuisopiskelija! Tule tutustumaan uusiin opiskelukavereihin tai morjestamaan vanhoja tuttuja. Aloitellaan uutta lukuvuotta\, vaihdetaan kuulumisia ja pelataan matalan kynnyksen pelejä.  \n2.9. KampusvaihdosNyt kun keskusta on tullut erilaisten suunnistusten kautta tutummaksi\, on aika suunnata Hervantaan ja Hervannan kampukselle\, jossa tiedekuntamme teknilliset alatkin sijaitsevat! Ja ketä ovatkaan nämä tuotantotalouden killan Indecsin teekkariveljemme? Se selviää Staabin ja Indecsin yhteisessä kampusvaihdoksessa\, jossa pääset tutustumaan ihka oikeisiin teekkareihin\, Hervannan kampukseen sekä kiltahuoneisiin! \n3.9. Yliopisto for DummiesOletko miettinyt\, keneltä pyytää apua ongelmatilanteissa? Mitä ovat opiskelijan oikeudet? Kuinka huolehtia omasta jaksamisesta? Yliopisto for Dummies vastaa näihin ja muihin kysymyksiin. \n3.9. Hengailua ja lautapelejäHaluatko hengähtää keskellä fuksiviikkojen hurjia meininkejä? Kaipaatko rentoa jutustelua ja pelailua muiden staabilaisten seurassa? Tervetuloa keskiviikkona 3.9. klo 18 alkaen Café Europaan istuskelemaan\, pelailemaan lautapelejä\, sekä tärkeimpänä jutustelemaan muiden staabilaisten ja tukitoimihenkilöiden kanssa. \n4.9. HarkkasitsitMikä on tämä akateeminen pöytäjuhla\, jota sitseiksikin kutsutaan? Nämä sitsit ovat tarkoitettu erityisesti Staabin uusille fukseille\, heidän tuutoreilleen sekä muille akateemisesti vanhemmille staabeille. Sitseillä lauletaan\, syödään\, juodaan\, kisaillaan sekä tutustutaan sitsien sääntöihin sekä muutenkin Staabin sitsikulttuuriin! Illan päätteeksi on mahdollisuus suunnata yhdessä Haalaribileisiin jatkoille. \n8.9. FuksiliikuntaFuksiliikunnassa mennään yhdessä Kauppiin Vesitornin kentälle jossa pelataan kansallispeliä eli pesäpalloa sekä tutustutaan uuteen akateemiseen tuttavuuteen eli kyykkään! \n12.9. YhdistysinfoMitkä ihmeen TREY\, HALLI tai SYY? Nämä sekä monet muut Tampereella toimivat yhdistykset tulevat esittäytymään\, joten suuntaa kohti Lyhtyä ja tule tutustumaan kaikkiin erilaisiin yhdistyksiin ja siihen\, mitä kaikkea ne tekevät! \n13.9. KastajaisetFuksiviikkojen loppuhuipennus on vihdoin täällä! Staabin kastajaisissa fuksit kastetaan pesunkestäviksi virkamiehiksi monien koettelemusten jälkeen. Tästä legendaarisesta kastajaispäivästä huhutaan kaikenlaista ja jokaisella staabilla on omia unohtumattomia tarinoita kerrottavanaan\, mutta mikä pitääkään paikkansa? Se selviää vain osallistumalla tähän ikimuistoiseen päivään! Tapahtumaa ei tarvitse pelätä tai jännittää etukäteen\, hauskaa tulee varmasti olemaan. \n/// \nWhat? Staabi Freshman Week!When? August 17 – September 13 \nHello\, freshman – welcome to Staabi! During Staabi’s Freshman Week\, there will be a variety of events where you can get to know both the university world and other freshmen. The events will feature parties\, relaxing hangouts\, physical activities\, education politics\, and fun with students from various subject associations. \nBelow\, you’ll find all the key dates for Freshman Week – event links will be updated with more details on each event’s own page. \n17.8. First MeetingIn the First Meeting\, Staabi’s new freshmen (first-year students) will meet each other and their tutors! The day starts with a meeting in the tutor groups\, where the tutors will give instructions. After the meeting\, the groups will head together to the Messukylä Workers’ House\, where a joint program is waiting! \n18.8. Campus TourStaabi’s Freshman Weeks kick off with the traditional Campus Tour! During the tour\, new freshmen will get to know the campus’s key hotspots and the hidden gems of Pinninkatu\, guided by their tutors. Along the way\, tutors will also help freshmen with course selections for the first study period\, helping them start their university journey smoothly. \n19.8. Apartment Building OrienteeringWant to meet freshmen outside of your tutor group? This event is a great opportunity! Freshmen will be divided into mixed groups\, where they will visit the homes of tutors to complete various tasks. The evening ends with a joint after-party. This is one of Staabi’s favorite events\, and you won’t want to miss it! \n21.8. Introduction PartyWho are these new Staabis\, and where do they come from? And who are the academically older Staabis? In Staabi’s legendary Introduction Party (Tuttarit)\, new and old Staabis get to know each other while also celebrating the pre-party for the Triple Party (Kolmiobileet)! During the evening\, the winning team of the Kersu competition will be announced\, group photos of tutor groups will be taken\, and a few welcoming speeches will be heard. \n21.8. KolmiotFresh winds are blowing for both fuksi’s and Kolmiot! This August\, Kolmiot will be celebrated for the first time with a new setup at Fame Club and H5 Bar&Cellar.  \n25.8. Overalls Advertisement InfoWhere can I order overalls? What on earth are overall ads? These and many other intriguing questions will be answered at the Overall Advertisement Info Session! So come along to hear everything essential about getting these fascinating items that bring a real get out of jail free card effect. \n26.8. Boomi x Staabi City AdventurePublic administration and business students join forces in a competition that takes them through some of Tampere’s most famous landmarks\, while enjoying fun checkpoint activities and making new connections. The groups will be mixed between freshmen from both organizations\, so you might just meet your first interdisciplinary friend! So pack your sense of adventure\, cleverness\, and competitive spirit\, and let yourself be swept away by the City Adventure! \n28.8. Freshman PicnicAt the Freshman Picnic\, we’ll spend time together in Sorsapuisto park. Here\, you’ll get to meet the major-specific student associations and try on your overalls for the first time! \n30.8. Freshman OlympicsIf you’re looking to meet new people through playful competitions\, this event is for you! The purpose of the Freshmen’s Olympics is to divide the freshmen and tutors into teams to play various easygoing outdoor games. \n4.9. Evening for Adult StudentsHey\, adult student! Come and meet new fellow students or greet old friends. Let’s start a new academic year\, catch up\, and play low-threshold games together! Above all\, let’s hang out and have some good time. \n2.9. Campus ExchangeNow that downtown has become more familiar through various orienteering events\, it’s time to head out to Hervanta and the Hervanta campus – where the technical fields of our faculty are located! But who are these teekkari brothers and sisters from Indecs\, the guild of Industrial Engineering and Management? Find out at the joint Campus Exchange between Staabi and Indecs\, where you’ll get to meet real teekkaris\, explore the Hervanta campus\, and visit the guild rooms! \n3.9. University for DummiesHave you ever wondered who to ask for help in difficult situations? What are a student’s rights? How to take care of yourself? University for Dummies answers these and other questions. \n3.9. Chill and Board GamesWant to take a break from the intense happenings of Freshman Week? Looking for some relaxed conversation and board games with other Staabi members? Join us on Wednesday\, September 3\, starting at 6 PM at Café Europa for some chill hangouts\, board games\, and most importantly\, conversations with other Staabi members and support staff. \n4.9. Trial SitsWhat’s this academic dinner party called “sits”? These sits are specifically for Staabi’s new freshmen\, their tutors\, and other academically older Staabis. At the sits\, we’ll sing\, eat\, drink\, compete\, and learn about the rules of sits as well as Staabi’s sits culture! At the end of the evening\, there will be an opportunity to head together to the Overalls Party for afters. \n8.9. Freshman SportsIn Freshman Sports\, we head to the Water Tower field in Kauppi to play the national sport – pesäpallo (Finnish baseball) – and get introduced to a unique academic sport: kyykkä! \n12.9. Association infoWhat on earth are TREY\, HALLI\, and SYY? These and many other associations operating in Tampere will be introducing themselves\, so head over to Lyhty and come and find out about all the different associations and what they do! \n13.9. BaptismThe grand finale of Freshman Week is finally here! In Staabi’s Baptism\, freshmen are initiated as full-fledged officials after many trials. There are many rumors about this legendary baptism day\, and every Staabi has their own unforgettable stories to tell\, but what’s true? You’ll only find out by participating in this memorable day! There’s no need to fear or stress about the event in advance – it’s sure to be fun! \n 
URL:https://staabi.fi/kalenteri/fuksiviikot2025/
ATTACH;FMTTYPE=image/png:https://staabi.fi/wp-content/uploads/2025/07/Tapahtumakalenterin-kuva-fuksiviikot-1.png
END:VEVENT
BEGIN:VEVENT
DTSTART;TZID=Europe/Helsinki:20250901T170000
DTEND;TZID=Europe/Helsinki:20250901T200000
DTSTAMP:20260419T165708
CREATED:20250820T174207Z
LAST-MODIFIED:20250820T174840Z
UID:231365-1756746000-1756756800@staabi.fi
SUMMARY:Staabi ry:n ylimääräinen yhdistyksen kokous
DESCRIPTION:In English below. \nMITÄ? Staabi ry:n ylimääräinen yhdistyksen kokousMISSÄ? Luentosali Päätalo A062\, Tampereen yliopisto\, Kalevantie 4 33100 sekä ZoomMILLOIN? Maanantaina 1.9.2025 klo 17.00 alkaenPUKUKOODI? Smart casualKENELLE? Staabi ry:n jäsenille (huom! jäsenyys tarkistetaan kokoukseen tullessa) \nSTAABI Tampereen yliopiston hallintotieteitä opiskelevien yhdistys ry:n ylimääräinen yhdistyksen kokous järjestetään maanantaina 1.9.2025 klo 17:00 alkaen. Fyysisenä kokouspaikkana toimii Tampereen yliopisto Päätalo A4\, Kalevantie 4\, 33100 Tampere. Kokoukseen saapuvilta henkilöiltä tarkistetaan Staabin jäsenyys Kide.appista kokoustilaan saapuessa.  \nEtäosallistuminen ja ohjeet:Yhdistyslain 17 § mukaan ”Hallitus tai yhdistyksen kokous voi päättää\, että 1 momentissa tarkoitettuun yhdistyksen kokoukseen saa osallistua myös siten\, että jäsen voi käyttää täysimääräisesti päätösvaltaansa tietoliikenneyhteyden ja muun teknisen apuvälineen avulla kokouksen aikana\, jollei säännöissä rajoiteta tai kielletä tällaisen kokouksen järjestämistä”. Staabin hallitus on kokouksessaan 20/2025 päättänyt\, että etäosallistuminen on mahdollista yhdistyksen ylimääräisessä kokouksessa. \nEtäosallistujilta vaaditaan oman laitteensa kautta osallistumista\, jotta äänivaltaisten määrä on mahdollista laskea. Lisäksi jokaiselta osallistujalta vaaditaan Zoom-nimeksi omaa nimeä\, jotta jäsenien tunnistaminen kokouksen aikana tapahtuu helpommin. Mahdollinen äänestäminen tapahtuu Zoomin reaktioilla. Jokaiselta kokoukseen osallistuvalta tarkistetaan Staabin jäsenyys ennen kokoukseen päästämistä.  \nEtäosallistuminen onnistuu Zoomin kautta. \nSähköpostilistalle torstaina 21.8.2025 tulleen viestin liitteistä löydätte kokouksen esityslistan\, hallituksen esityksen muutoksesta tuutoroinnin ohjesääntöön sekä linkin etäosallistumiseen. \nNähdään yhdistyksen ylimääräisessä kokouksessa eli ylkossa! \nTapahtuma on esteetön. \nKOKOUKSEN ASIALISTA: \n\nKokouksen avaus\nKokouksen laillisuus ja päätösvaltaisuus\nKokouksen järjestäytyminen\nEsityslistan hyväksyminen\nIlmoitusasiat\nLisätalousarvio vuodelle 2025\nTuutoroinnin ohjesäännön muutos\nMuut esille tulevat asiat\nSeuraava kokous\nKokouksen päättäminen\n\nLiitteet:LIITE 1 Esityslista – Yhdistyksen ylimääräinen kokous 2025LIITE 2 – Uusi tuutoroinnin ohjesääntö \nMikäli kysyttävää tai huolia herää tapahtumaan liittyen\, ole rohkeasti yhteydessä tapahtuman järjestäjään puheenjohtaja Magdalenan laittamalla sähköpostia osoitteeseen puheenjohtaja@staabi.fi tai viestittämällä Telegramissa @rapatintti. \nEsteettömystiedot:Tilaan on esteetön kulku ja salin etuosa on esteetön. Yliopistolta viereiseltä käytävältä löytyy myös inva wc. Tapahtumien kestävyyden huomioimisesta saat halutessasi tietoa tapahtuman järjestäjältä puheenjohtaja Magdalenalta (TG rapatintti). \nMitä tehdä\, jos näet tai koet epäasiallista käytöstä Staabin toimintaympäristössä? \n\nTapahtumissa häirintä-\, kiusaamis ja epäasiallisissa tilanteissa yhteyshenkilönä toimivat palautetyöryhmän jäsenet. Palautetyöryhmään kuuluvat puheenjohtaja Magdalena Honkasalo\, koulutuspoliittinen vastaava ja varapuheenjohtaja Veera Saukkonen\, tuutor- ja yhdenvertaisuusvastaava Sallamari Roti ja yrityssuhde- ja työelämävastaava Tomi Pirinen. Mikäli palautetyöryhmän jäseniä ei ole paikalla\, voit ottaa yhteyttä muuhun hallituksen jäseneen.\nTapahtumien jatkoina olevat baarit eivät kuulu Staabin viralliseen toimintaympäristöön\, jolloin häiritsevästä käyttäytymisestä tulee ilmoittaa ensisijaisesti ravintolan henkilökunnalle.\nTapahtuman ulkopuolella voit ottaa yhteyttä tukihenkilöön. Staabin tukihenkilöinä toimii Selma Murtonen ja Anni Kalmari. Tukihenkilöt käsittelevät  yhteydenotot tapahtuman ulkopuolella ja heidät tavoittaa parhaiten joko Telegramissa @selmisss ja @annikalmari tai sähköpostitse tukiselma@staabi.fi ja tukianni@staabi.fi. .\nHalutessasi voit myös ottaa yhteyttä TREY:n häirintäyhdyshenkilöön sähköpostilla\, puhelimitse tai TREYn häirintälomakkeella. Yhteystiedot löytyvät TREYn verkkosivuilta.\nHäiritsevästä käytöksestä voit myös ilmoittaa Staabin verkkosivuilta löytyvän häirintälomakkeen kautta. Häirintälomakkeet menevät yhdenvertaisuusvastaavalle ja ovat vain yhdenvertaisuusvastaavan luettavissa.\n\n/// \nPlease note\, that this event will be held entirely in Finnish \nWHAT? Staabi ry’s Association’s Additional MeetingWHERE? Lecture hall Päätalo A062\, Tampere University\, Kalevantie 4\, 33100 Tampere & ZoomWHEN? Monday\, September 1st\, 2025\, starting at 17:00DRESS CODE? Smart casualFOR WHO? For members of Staabi ry (note: membership will be checked upon arrival at the meeting) \nStaabi ry\, the association for students of administrative sciences at Tampere University\, will hold its Additional Association’s Meeting on Monday\, September 1st\, 2025\, starting at 17:00. The physical meeting venue is Lecture Hall Päätalo A062\, Tampere University\, Kalevantie 4\, 33100 Tampere. Membership in Staabi will be verified via Kide.app upon arrival at the meeting venue. \nSection 17 of Finland’s Associations Act states that a member of an association can take part in an association’s meeting using online devices. Staabi’s board has decided in its meeting 20/2025 that remote participation will be possible in the Additional Association’s Meeting. \nInstructions for remote participation: \n\nParticipants must join the meeting using their own device so that the number of eligible voters can be counted.\nIt is requested that each participant sets their Zoom name to their full name (first name and last name) to facilitate member verification during the meeting.\nAny voting will take place using Zoom reactions.\nMembership in Staabi will be verified before allowing access to the meeting.\n\nThe agenda\, attachments and the Zoom link for the meeting were included in the meeting invitation sent via the mailing list on August 21st\, 2025. \nAll members of Staabi ry are welcome to attend the Association’s Meeting. \nAGENDA OF THE MEETING: \n\nOpening of the meeting\nLegality and quorum of the meeting\nOrganization of the meeting\nApproval of the agenda\nAnnouncements\nAdditional Budget for year 2025\nUpdate to the association’s tutoring order\nOther matters\nNext meeting\nClosing of the meeting\n\nIf you have any questions or concerns regarding the event\, feel free to contact the event organizer\, Chairperson Magdalena\, by email at puheenjohtaja@staabi.fi or via Telegram @rapatintti. \nAccessibility Information: \nThe venue has an accessible entrance\, and the front part of the lecture hall is wheelchair accessible. An accessible restroom is also available in the adjacent hallway at the university. If you would like more information about sustainability considerations at the event\, you can contact the event organizer\, Chairperson Magdalena (TG: @rapatintti). \nWhat to do if you see or experience inappropriate behavior in Staabi’s operating environment?– For incidents of harassment\, bullying and inappropriate situations\, members of the feedback team are the contact point. The feedback team consists of Magdalena Honkasalo (Chairperson)\, Veera Saukkonen (Educational policy manager and Vice-Chairperson)\, Sallamari Roti (Tutoring and Equality Manager)\, and Tomi Pirinen (Business Relations and Employment Affairs Manager). If the members of the feedback group are not present\, you can contact another board member.– Bars that are continuations of events are not part of Staabi’s official operating environment\, in which case disturbing behavior should be reported primarily to the restaurant’s staff.– Outside the event\, you can contact a support person. Staabi’s support persons are Anni Kalmari and Selma Murtonen. The support person handle contacts outside the events and are best reached on Telegram @annikalmari and @selmisss or by e-mail tukianni@staabi.fi and tukiselma@staabi.fi.
URL:https://staabi.fi/kalenteri/ylimaarainen-yhdistyksen-kokous/
ATTACH;FMTTYPE=image/png:https://staabi.fi/wp-content/uploads/2025/08/YHDISTYKSEN-YLIMAARAINEN-KOKOUS.png
END:VEVENT
END:VCALENDAR