BEGIN:VCALENDAR
VERSION:2.0
PRODID:-//Staabi ry - ECPv6.15.17.1//NONSGML v1.0//EN
CALSCALE:GREGORIAN
METHOD:PUBLISH
X-ORIGINAL-URL:https://staabi.fi
X-WR-CALDESC:Tapahtumat Staabi ry
REFRESH-INTERVAL;VALUE=DURATION:PT1H
X-Robots-Tag:noindex
X-PUBLISHED-TTL:PT1H
BEGIN:VTIMEZONE
TZID:Europe/Helsinki
BEGIN:DAYLIGHT
TZOFFSETFROM:+0200
TZOFFSETTO:+0300
TZNAME:EEST
DTSTART:20240331T010000
END:DAYLIGHT
BEGIN:STANDARD
TZOFFSETFROM:+0300
TZOFFSETTO:+0200
TZNAME:EET
DTSTART:20241027T010000
END:STANDARD
BEGIN:DAYLIGHT
TZOFFSETFROM:+0200
TZOFFSETTO:+0300
TZNAME:EEST
DTSTART:20250330T010000
END:DAYLIGHT
BEGIN:STANDARD
TZOFFSETFROM:+0300
TZOFFSETTO:+0200
TZNAME:EET
DTSTART:20251026T010000
END:STANDARD
BEGIN:DAYLIGHT
TZOFFSETFROM:+0200
TZOFFSETTO:+0300
TZNAME:EEST
DTSTART:20260329T010000
END:DAYLIGHT
BEGIN:STANDARD
TZOFFSETFROM:+0300
TZOFFSETTO:+0200
TZNAME:EET
DTSTART:20261025T010000
END:STANDARD
END:VTIMEZONE
BEGIN:VEVENT
DTSTART;TZID=Europe/Helsinki:20250526T180000
DTEND;TZID=Europe/Helsinki:20250526T190000
DTSTAMP:20260423T133055
CREATED:20250519T134501Z
LAST-MODIFIED:20250520T141910Z
UID:231009-1748282400-1748286000@staabi.fi
SUMMARY:Staabin ulkomaanexcursion infotilaisuus
DESCRIPTION:In English below \nMITÄ? Berliinin excursion infotilaisuus\nMILLOIN? Ma 26.5. klo 18 Zoomissa\nLINKKIÄ? Zoom\nMISTÄ ASIASTA? Ulkomaan excursio Berliiniin\nKENELLE? Uexcusta kiinnostuneille! \nSPEKSEJÄ ITSE UEXCUSTA:\nMILLOIN? 30.9.-3.10.2025\nMISSÄ? Saksanmaan pääkaupungissa eli Berliinissä\nMONTA MAHTUU? 40 ensimmäistä staabilaista\nMITÄ MAKSAA? 400-600 euroa\, hinta varmistuu lähitulevaisuudessa.\nLIPUNMYYNTI? 29.5 klo 18 alkaen (päättyy 8.6.)\nKIDE.APP? Lipunmyynti \nVarausmaksu 71 euroa (DL ma 30.6.). Loppumaksu elokuussa 2025. \nTule kuulemaan infotilaisuuteen 26.5. klo 18 alkaen informaatiota matkasta\, vierailukohteista sekä lipunmyynnistä! Tapahtuma järjestetään kokonaan etänä. Infotilaisuus ei ole matkaan mukaan mieliville pakollinen. \nTervetuloa siis staabilaiset mukaan legendaariselle ulkomaan excursiolle\, jonka kohteena on tällä kertaa Berliini! Lähdemme matkaan syys–lokakuun taitteessa\, ja luvassa on unohtumaton yhdistelmä yhteiskunnallista asiaa\, kulttuuria ja vapaa-ajan huippuhetkiä. Virallisessa ohjelmassa tutustumme muun muassa Bundestagiin eli Saksan parlamenttiin sekä globaalisti korruptionvastaista työtä tekevään Transparency Internationaliin. Pidätämme oikeuden ohjelmamuutoksiin. \nMutta Berliini tarjoaa paljon muutakin! Virallisten kohteiden lisäksi Berliinistä löytyy myös merkittäviä kulttuurikohteita. Reissun aikana sinun on mahdollisuus vierailla vaikkapa Berliinin muurilla\, Brandenburg Torilla\, Holokaustin muistomerkillä\, nauttia oluthuoneiden tarjonnasta sekä lähteä vaikkapa reiveihin! Tämä on reissu\, josta puhutaan vielä pitkään – tule mukaan ja ota kaverisikin messiin! \nLIPPUJEN VARAAMISESTA\nLippu varataan kide.appista ilmaiseksi ja maksetaan kahdessa erässä. Ilmoittautumisen loppumisen jälkeen osallistujille lähetetään sähköposti\, johon sisältyvät lisätietolomake sekä informaatio varausmaksun maksamisesta. \nHuomaathan\, että ilmoittautuminen on sitova. Olet itse velvoitettu etsimään korvaavan matkaajan tilallesi\, esimerkiksi Staabin lippukaupasta. Lipun voi myydä ainoastaan staabilaiselle. Jäsentiedot tarkistetaan jäsenrekisteristä. Jos et saa myytyä lippua eteenpäin\, joudut maksamaan lipun hinnan kokonaisuudessaan. \nIlmoittautumalla matkalle sitoudut myös noudattamaan osallistumismaksujen maksuaikataulua. Tulemme perimään maksamattomat erät. \nMatkan toteutumiseksi osallistujia on oltava vähintään 20 henkilöä. \nLisätietoja tapahtumasta saat ulkomaanexcursiotoimihenkilöltä Ella Lavasteelta (TG @lavastella). \nGraffakiitos: Ella Lavaste \nStaabin tapahtumien löytötavaroita säilytetään 1kk tapahtuman jälkeen\, jonka jälkeen ne hävitetään kierrätysmahdollisuuksia hyödyntäen. Arvotavarat toimitetaan poliisille. \nMitä tehdä\, jos näet tai koet epäasiallista käytöstä Staabin toimintaympäristössä?\n–  Tapahtumissa häirintä-\, kiusaamis ja epäasiallisissa tilanteissa yhteyshenkilönä toimivat palautetyöryhmän jäsenet. Palautetyöryhmään kuuluvat puheenjohtaja Magdalena Honkasalo\, koulutuspoliittinen vastaava ja varapuheenjohtaja Veera Saukkonen\, tuutor- ja yhdenvertaisuusvastaava Sallamari Roti sekä yrityssuhde- ja työelämävastaava Tomi Pirinen. Mikäli palautetyöryhmän jäseniä ei ole paikalla\, voit ottaa yhteyttä muuhun hallituksen jäseneen.\n–   Tapahtumien jatkoina olevat baarit eivät kuulu Staabin viralliseen toimintaympäristöön\, jolloin häiritsevästä käyttäytymisestä tulee ilmoittaa ensisijaisesti ravintolan henkilökunnalle.\n– Tapahtuman ulkopuolella voit ottaa yhteyttä tukihenkilöön. Staabin tukihenkilöinä toimii Anni Kalmari ja Selma Murtonen. Tukihenkilöt käsittelevät yhteydenotot tapahtuman ulkopuolella ja heidät tavoittaa parhaiten joko Telegramissa @annikalmari ja @selmisss tai sähköpostitse tukianni@staabi.fi ja tukiselma@staabi.fi.\n–  Halutessasi voit myös ottaa yhteyttä TREY:n häirintäyhdyshenkilöön sähköpostilla\, puhelimitse tai TREYn häirintälomakkeella. Yhteystiedot löytyvät TREYn verkkosivuilta.\n–   Häiritsevästä käytöksestä voit myös ilmoittaa Staabin verkkosivuilta löytyvän häirintälomakkeen kautta. Häirintälomakkeet menevät yhdenvertaisuusvastaavalle ja ovat vain yhdenvertaisuusvastaavan luettavissa.\n–   Kokemukset ovat yksilöllisiä ja toimenpiteet tapauskohtaisia. Jokainen yhteydenotto käsitellään luottamuksellisesti ja jatkotoimenpiteisiin ryhdytään vain sinun suostumuksellasi. \n/// \nWHAT? Info session for the Berlin excursion\nWHEN? Monday\, May 26 at 6 PM on Zoom\nLINK? Zoom\nWHAT ABOUT? International excursion to Berlin\nFOR WHOM? Anyone interested in the trip! \nMORE INFORMATION ABOUT THE EXCURSION\nWHAT? An international excursion to Berlin\nWHERE? In Berlin\, of course\nWHEN? 30 September–3 October 2025\nWHO? The first 40 Staabi members to sign up\nHOW MUCH? €400–600. The final price will be confirmed soon.\nTICKET SALES? From 6 PM on 29 May to 8 June\nKIDE.APP? Tickets \nReservation fee: €71 (due by Mon 30 June). The remaining amount will be paid in August 2025.Join us for an info session on May 26 at 6 PM to hear more about the trip\, destinations\, and ticket sales! The session will be held entirely online. Please note that attendance is not mandatory for those interested in joining the trip. \nWe’re excited to invite you on a legendary excursion abroad – this time to Berlin! The trip will take place around late September to early October\, and it promises an unforgettable mix of social insights\, culture\, and memorable free-time experiences. Our official program includes visits to the Bundestag\, the German parliament\, and Transparency International\, a globally recognized organization fighting against corruption. (We reserve the right to make changes to the program.) \nBut Berlin has so much more to offer! In addition to the official visits\, the city is full of iconic cultural sites. During the trip\, you’ll have the chance to explore the Berlin Wall\, Brandenburg Gate\, and the Holocaust Memorial — or enjoy local beers in traditional pubs and even head out to Berlin’s famous raves!So grab a friend and join this highly anticipated trip! \nABOUT TICKET RESERVATION\nTickets are reserved for free through Kide.app and paid in two installments. After registration ends\, participants will receive an email including a form for additional information and payment instructions for the reservation fee. \nRegistration is binding. If you can no longer attend\, you are responsible for finding a replacement participant\, for example through Staabi’s ticket resale group. Tickets can only be sold to other Staabi members. Membership will be verified through the member register. If you’re unable to resell your ticket\, you will be required to pay the full price of the trip. \nBy registering\, you also agree to adhere to the payment schedule. We will collect any unpaid installments. \nThe trip requires a minimum of 20 participants to go ahead. \nFor more information\, contact the international excursion officer Ella Lavaste (TG @lavastella). \nLost and found items from Staabi’s events are kept for 1 month after the event\, after which they are disposed of using recycling opportunities. Valuable items are handed over to the police. \nWhat to do if you see or experience inappropriate behavior in Staabi’s environment?\n-At events\, in cases of harassment\, bullying\, or inappropriate situations\, the contact persons are members of the feedback team. The feedback team includes Chair Magdalena Honkasalo\, Education Policy Officer and Vice Chair Veera Saukkonen\, Tutor and Equality Officer Sallamari Roti\, and Corporate Relations and Employment Officer Tomi Pirinen. If feedback team members are not present\, you can contact another board member.\n-Bars that are part of the event’s after-party are not part of Staabi’s official environment\, so disruptive behavior should be reported primarily to the restaurant staff.\n-Outside of events\, you can contact a support person. Staabi’s support persons are Anni Kalmari and Selma Murtonen. Support persons handle contacts outside of events and can be reached best via Telegram @annikalmari and @selmisss or by email at tukianni@staabi.fi and tukiselma@staabi.fi.\n– If you wish\, you can also contact TREY’s harassment contact person by email\, phone\, or TREY’s harassment form. Contact details can be found on TREY’s website.\n– You can also report disruptive behavior through the harassment form on Staabi’s website. Harassment forms go to the Equality Officer and are only read by the Equality Officer.\nExperiences are individual and actions are case-specific. Each contact is handled confidentially\, and further actions are taken only with your consent.
URL:https://staabi.fi/kalenteri/staabin-ulkomaanexcursion-infotilaisuus/
ATTACH;FMTTYPE=image/png:https://staabi.fi/wp-content/uploads/2025/05/Uexcu-2025-tapahtumakalenteri.png
END:VEVENT
END:VCALENDAR