BEGIN:VCALENDAR
VERSION:2.0
PRODID:-//Staabi ry - ECPv6.15.17.1//NONSGML v1.0//EN
CALSCALE:GREGORIAN
METHOD:PUBLISH
X-ORIGINAL-URL:https://staabi.fi
X-WR-CALDESC:Tapahtumat Staabi ry
REFRESH-INTERVAL;VALUE=DURATION:PT1H
X-Robots-Tag:noindex
X-PUBLISHED-TTL:PT1H
BEGIN:VTIMEZONE
TZID:Europe/Helsinki
BEGIN:DAYLIGHT
TZOFFSETFROM:+0200
TZOFFSETTO:+0300
TZNAME:EEST
DTSTART:20240331T010000
END:DAYLIGHT
BEGIN:STANDARD
TZOFFSETFROM:+0300
TZOFFSETTO:+0200
TZNAME:EET
DTSTART:20241027T010000
END:STANDARD
BEGIN:DAYLIGHT
TZOFFSETFROM:+0200
TZOFFSETTO:+0300
TZNAME:EEST
DTSTART:20250330T010000
END:DAYLIGHT
BEGIN:STANDARD
TZOFFSETFROM:+0300
TZOFFSETTO:+0200
TZNAME:EET
DTSTART:20251026T010000
END:STANDARD
BEGIN:DAYLIGHT
TZOFFSETFROM:+0200
TZOFFSETTO:+0300
TZNAME:EEST
DTSTART:20260329T010000
END:DAYLIGHT
BEGIN:STANDARD
TZOFFSETFROM:+0300
TZOFFSETTO:+0200
TZNAME:EET
DTSTART:20261025T010000
END:STANDARD
END:VTIMEZONE
BEGIN:VEVENT
DTSTART;VALUE=DATE:20250407
DTEND;VALUE=DATE:20250502
DTSTAMP:20260423T151150
CREATED:20250316T063631Z
LAST-MODIFIED:20250727T140539Z
UID:230749-1743984000-1746143999@staabi.fi
SUMMARY:Staabin Wirkawappu
DESCRIPTION:English below! \nMitä? Staabin Wirkawappu!Milloin? 7.4.-1.5.Video? YouTube \nInnostuttaako sinuakin kvartaaliraportit\, strategiset tavoitteet ja hyvän hallinnon periaatteet? Ajatteletko\, että opiskelijabileistä puuttuu sitä byrokratiaa ja tulosorientoitunutta raportointia\, joka saa sukat pyörimää jaloissa? Tekisikö sinunkin välillä mieli lähteä viranhaltijoiden saunailtaan sopimaan seuraavan tilikauden strategisista tavoitteista\, ilman turhaa valvontaa? \nTervetuloa viettämään Staabin Wirkawappua 2025! Luvassa on tärkeää verkostoitumista\, sidosryhmien tapaamista ja ripaus korruptiota. Unohtamatta tietenkään legendaarista haalarimerkkiä\, jonka voit lunastaa itsellesi wappuviikkojen loppupuolella! \n7.4. KostajaisetFuksit pääsevät kostamaan kastajaisista jääneitä kaunojaan! Valtion taloustilanteen heikentyessä wirkahenkilöiden toimeentulo on uhattuna\, ilkeät fuksit ovat riistämässä tuet! Nyt heidän on kerättävä kaikki etuudet itselleen ja selvittävä mahdottomassa tukiwiidakossa! Kasaa siis joukko ammattitaitoisia wirkahenkilöitä ja lähde päihittämään muut joukkueet etuustaistossa! \n8.4. Wappubrunssi PwC:lleTule mukaan virittäytymään wapun tunnelmaan wappubrunsille PwC:lle yhdessä Boomin kanssa! Brunssin aikana pääset tutustumaan PwC:n toimintaan\, kuulemaan uramahdollisuuksista sekä tapaamaan asiantuntijoita muun muassa tilintarkastuksen\, sekä vero- ja lakipalveluiden aloilta. Lisäksi saat vinkkejä PwC:n trainee-ohjelmasta\, sekä arvokkaita hakuvinkkejä. \nTervetuloa nauttimaan herkullisesta brunssista ja inspiroivista uratarinoista PwC:llä! \n11.4. Byrokratia-wappusitsitOletko sinäkin kokenut sitsikulttuurin liian helpoksi ja nopeaksi? Huonotkin laulutoiveet hyväksytään diktaattorimaisesti\, eikä kukaan täytä pöytäkirjaakaan? Nyt tämä kaikki muuttuu! Tervetuloa sitsaamaan Staabin byrokraattisille wappusitseille\, jossa kaikki on aivan varmasti mahdollisimman hankalaa ja hidasta! \n15.4 Poikkitieteellinen Speed FriendingSuomen suurin Wappu kutsuu meidät jälleen vetämään haalarit jalkaan ja suuntaamaan ulos nauttimaan lähestyvästä kesästä. Tämä tapahtuma tarjoaa oivan tilaisuuden löytää uusia Wappukavereita\, joiden kanssa kiertää Teemunkierroksen tapahtumia! \n15.4. WappuLove \n21.4. Staabi vs. Boomi Vappupesis & PesiskeittoLegendaarinen pesisottelu tulee jälleen\, kun Staabi ja Boomi taistelevat mestaruudesta! \n22.4. WirkavisaKesken kiireisten wappuviikkojen\, on aika keskittyä hetki olennaiseen\, eli visailuun. Nyt pääset todistamaan tietosi virkahenkilöiden saavutuksista ja toilailuista. Täällä et pärjää tuurilla\, vaan elintärkeällä substanssiosaamisella. \n24.4. WappuexcuKiinnostaako sinua aluekehittäminen tai pohditko tulevaisuuden työllistymismahdollisuuksia? Tule Staabin wappuexculle FCG:n Tampereen toimistolle\, jossa pääsemme tutustumaan aluekehittämisen konsulttitoimisto MDI:n toimintaan! \n24.4. Afterwork -kolmioetkotUusi valtuusto on viimein hyväksynyt wapun wirkahenkilöiden verellä kyynelillä raataman talousarvioesityksen\, ja nyt on aika lähteä ansaituille yksille! Tervetuloa viettämään kolmioetkoja Domus-klubille! \n24.4. Kolmiot \n26.4. HyväWeli-sillisTällä kertaa silliksellä heivataan hyvän hallinnon periaatteet ikkunasta ja päästään nauttimaan (suhteilla) saavutetuista eduista salaiseen määränpäähän. Luvassa rentoutumista\, ohjelmaa ja tietysti ruokaa sekä juomaa. \n28.4. Staabi goes Särkän märkäWapun hurjin opiskelijatapahtuma tulee taas! Lähde hurvittelemaan Särkänniemeen staabien ja muiden opiskelijoiden kanssa. Ilta jatkuu tietysti jatkoilla Tampereen keskustan baareissa joissa esiintymässä ovat upeat artistit! Tänäkin vuonna Staabi on hankkinut jäsenistölleen lippuja jotka menevät vauhdilla\, joten toimithan nopeasti! \n30.4. Wapunaaton bailutTyöhyvinvointi on kaikkien yhteinen asia! Usean viikon rankan verkostoutumisrupeaman on aika kokoontua yhteen Staabin tyhy-päivään! Ahkerimpia työyhteisön wirkahenkilöitä palkitaan ja Staabin boolia on tietenkin tarjolla. \n1.5. WappupiknikStaabin perinteinen vappupiknik\, jossa wirkahenkilöt pääsevät vihdoin rentoutumaan rankkojen wappuviikkojen jälkeen raikkaassa ulkoilmassa. \n/// \nWhat? Staabi’s Wirkawappu!When? 7.4.-1.5.Video? Coming soon! \nAre you as well excited about quarterly reports\, strategic goals\, and the principles of good governance? Do you feel like student parties lack the bureaucracy and results-oriented reporting that really gets you all fired up? Ever wanted to join an officials’ sauna evening to set the strategic objectives for the next fiscal year – without unnecessary oversight? \nWelcome to Staabi’s Wirkawappu 2025! Get ready for essential networking\, stakeholder meetings\, and just a hint of corruption. And of course\, don’t forget the legendary overall patch\, which you can claim at the end of the Wappu weeks! \n7.4. Kostajaiset – Staabi’s Revenge partyThis event will be held in finnish. The freshers finally get their revenge for their brutal initiation! With the state’s economy in decline\, the well-being of civil servants is at risk\, and the evil freshers are trying to cut their benefits! Now\, officials must secure every possible allowance for themselves and navigate the impossible bureaucratic jungle of social benefits! Gather your team of skilled public administrators and outplay the competition in this battle for entitlements! \n8.4. Wappubrunch at PWCJoin us in getting into the Wappu spirit at PwC’s Wappu brunch together with Boomi! During the brunch\, you’ll have the opportunity to learn about PwC’s operations\, explore career opportunities\, and meet experts from fields such as auditing\, tax\, and legal services. You’ll also receive insights into PwC’s trainee program and valuable application tips. \nWelcome to enjoy a delicious brunch and inspiring career stories at PwC! \n11.4. Bureaucracy -WappusitzThis event will be held in finnish. Have you found student sitz too easy and efficient? Songs get accepted autocratically\, and no one even keeps proper minutes? That all ends now! Welcome to Staabi’s bureaucratic Wappusitz\, where everything is as complicated and slow as possible – just the way we like it! \n15.4 Interdisciplinary Speed FriendingFinland’s biggest Wappu is once again inviting us to put on our overalls and head outside to enjoy the approaching summer. This event offers a perfect opportunity to find new Wappu buddies to join you in the Teemunkierros events!  \n15.4. WappuLove  \n21.4. Staabi vs. Boomi – Wappu Finnish Baseball & SoupThe legendary baseball showdown returns as Staabi and Boomi face off once again for ultimate glory! Who will take home the title this year? \n22.4. Wirkavisa – The Bureaucracy QuizThis event will be held in finnish. In the midst of the busy Wappu weeks\, it’s time to focus on the essential for a moment\, which is a quiz. Now you get to prove your knowledge of the achievements and blunders of public officials. You won’t succeed here with luck\, but with vital substantive expertise. \n24.4. WappuexcuAre you interested in regional development or thinking about future employment opportunities? Join Staabi’s wappu excursion to FCG’s Tampere office where we will get to learn about MDI’s organization which is a consulting firm specializing in regional development! \n24.4. Afterwork – Kolmiot Pre-PartyThe new council has finally approved the Wappu budget\, painstakingly drafted with the blood\, sweat\, and tears of civil servants. Now\, it’s time to at least grab a drink or two and celebrate the historic approval! \n24.4. Kolmiot – The Legendary Triangle Party \n26.4. GoodBro-SillisThis event will be held in finnish. Forget good governance principles for a moment and enjoy the perks of well-placed connections! This year’s HyväWeli Sillis takes you to a top-secret location\, where relaxation\, entertainment\, and of course\, plenty of food and drinks await. \n28.4. Staabi Goes Särkän MärkäThe wildest student event of Wappu is back! Join Staabi and fellow students for an unforgettable night of thrills and fun at Särkänniemi amusement park. And of course\, the night doesn’t end there – the afterparty continues in Tampere’s best bars\, featuring amazing live performances. Once again\, Staabi has secured tickets for its members\, but they sell out fast\, so act quickly! \n30.4. Wappu Eve PartyThis event will be held in finnish. Employee well-being is everyone’s responsibility! After weeks of intense networking\, it’s time for the Staabi well-being day. The hardest-working officials will be rewarded\, and yes – Staabi’s legendary punch will be available. \n1.5. Wappu-picnicThe grand finale – grab your blanket\, your friends\, and recover in the best way possible with a relaxing Wappu picnic.
URL:https://staabi.fi/kalenteri/staabin-wirkawappu/
ATTACH;FMTTYPE=image/png:https://staabi.fi/wp-content/uploads/2025/03/Wirkawappu.png
END:VEVENT
BEGIN:VEVENT
DTSTART;TZID=Europe/Helsinki:20250430T170000
DTEND;TZID=Europe/Helsinki:20250430T210000
DTSTAMP:20260423T151150
CREATED:20250411T153334Z
LAST-MODIFIED:20250411T153334Z
UID:230873-1746032400-1746046800@staabi.fi
SUMMARY:Aikuisopiskelijoiden wappupicnic
DESCRIPTION:In English below \nMITÄ? Aikuisopiskelijoiden wappupiknik\nMISSÄ? Sorsapuistossa\, Muumipeikko-patsaan lähettyvillä. Patsas on Tampere-talon pääovien lähellä. Tampere-talon osoite: Yliopistonkatu 55.\nMILLOIN? 30.4.2025 klo 17 alkaen\nKENELLE? Staabin aikuisopiskelijoille. Mukaan ovat tervetulleita kaikki aikuisemman tunnelman opiskelijatapahtumista kiinnostuneet\, riippumatta siitä missä tutorryhmässä on ollut.\nMIKSI? Vietetään opiskelijawappua\, mutta rauhallisemmassa Sorsapuistossa pienemmällä porukalla.\nMITÄ MAKSAA? Tarjolla pikniknaposteltavaa\, ja omia eväitä saa tuoda lisäksi. Mukana tuodaan omat juomat.\nMITÄ PUETAAN PÄÄLLE? Jos omistaa haalarit\, nyt niitä saa tuulettaa! Muuten rento ja säänmukainen asu. \nHei aikuisopiskelija\, haluaisitko osallistua opiskelijoiden vuoden kohokohtaan\, Suomen suurimpaan wappuun\, mutta perinteisten tapahtumien tunnelma mietityttää? Kaipaatko rentoa illanviettoa opiskelukavereiden kanssa tai uusiin opiskelukavereihin tutustumista? Tule mukaan Staabin aikuisopiskelijoiden wappupiknikille! Nautitaan piknikeväitä\, pelaillaan rentoja puistopelejä ja hengaillaan vapaamuotoisesti puistossa. \nAikuisopiskelijoiden piknik kokoontuu Tampere-talon pääovien lähettyvillä olevan Muumipeikko-patsaan läheisyydessä. Tarjolla on piknikeväitä\, mutta mukaan saa tuoda myös omia eväitä. Juomat tuodaan itse. Piknikillä on yhteisiä puistopelejä ja vapaamuotoista hengailua. Vilttejä on valmiina paikalla. \nTapahtuma ei ole täysin esteetön. Kokoonnumme puiston nurmikolla. Vessa ja invavessa ovat 260 metrin päässä yliopistolla\, jonne pääsee opiskelijakortilla. \nLisätietoja tapahtumasta saat aikuisopiskelijatoimihenkilö Olli Ruotsalaiselta: olli.ruotsalainen@tuni.fi ja Telegram: @olliGrrr \nGRAFFAKIITOS: Riikka Nuutinen \nTapahtumien kestävyyden huomioimisesta saat halutessasi tietoa tapahtuman järjestäjältä Telegramissa: @olliGrrr. Muistathan ottaa tapahtumaan mukaan oman kestomukin! \nStaabin tapahtumien löytötavaroita säilytetään 1kk tapahtuman jälkeen\, jonka jälkeen ne hävitetään kierrätysmahdollisuuksia hyödyntäen. Arvotavarat toimitetaan poliisille. \nMitä tehdä\, jos näet tai koet epäasiallista käytöstä Staabin toimintaympäristössä?\n– Tapahtumissa häirintä-\, kiusaamis ja epäasiallisissa tilanteissa yhteyshenkilönä\ntoimivat palautetyöryhmän jäsenet. Palautetyöryhmään kuuluvat puheenjohtajaMagdalena Honkasalo\, koulutuspoliittinen vastaava ja varapuheenjohtaja Veera\nSaukkonen\, tuutor- ja yhdenvertaisuusvastaava Sallamari Roti sekä yrityssuhde- jatyöelämävastaava Tomi Pirinen. Mikäli palautetyöryhmän jäseniä ei ole paikalla\, voitottaa yhteyttä muuhun hallituksen jäseneen.\n– Tapahtumien jatkoina olevat baarit eivät kuulu Staabin viralliseen toimintaympäristöön\,jolloin häiritsevästä käyttäytymisestä tulee ilmoittaa ensisijaisesti ravintolan\nhenkilökunnalle.- Tapahtuman ulkopuolella voit ottaa yhteyttä tukihenkilöön. Staabin tukihenkilöinä toimiiAnni Kalmari ja Selma Murtonen. Tukihenkilöt käsittelevät yhteydenotot tapahtuman\nulkopuolella ja heidät tavoittaa parhaiten joko Telegramissa @annikalmari ja @selmissstai sähköpostitse tukianni@staabi.fi ja tukiselma@staabi.fi. .\n– Halutessasi voit myös ottaa yhteyttä TREY:n häirintäyhdyshenkilöön sähköpostilla\,puhelimitse tai TREYn häirintälomakkeella. Yhteystiedot löytyvät TREYn verkkosivuilta.\n– Häiritsevästä käytöksestä voit myös ilmoittaa Staabin verkkosivuilta löytyvän\nhäirintälomakkeen kautta. Häirintälomakkeet menevät yhdenvertaisuusvastaavalle jaovat vain yhdenvertaisuusvastaavan luettavissa. \nKokemukset ovat yksilöllisiä ja toimenpiteet tapauskohtaisia. Jokainen yhteydenottokäsitellään luottamuksellisesti ja jatkotoimenpiteisiin ryhdytään vain sinunsuostumuksellasi. \n————————– \nWHAT? Mayday picnic (wappu picnic) for adult students of administrative sciences\nWHERE? In Sorsapuisto park\, nearby main entrance of Tampere hall. Address of Tampere hall: Yliopistonkatu 55.\nWHEN? 30.4.2025 starting from 17.00\nTO WHOM? For adult students at Staabi ry. Anyone interested in student events with a more adult atmosphere is welcome to join\, regardless of which tutor group they have been in.\nWHY? We’re celebrating the greatest student festival Wappu\, but in a quieter Sorsapuisto with a smaller group.\nCOST? Picnic snacks are available\, and you can bring your own snacks. Bring your own alcohol or non-alcohol drinks.\nWHAT TO WEAR? If you have student overalls\, you can wear them. Otherwise\, wear casual\, weather-appropriate clothing. \nHello adult student\, would you like to participate in the highlight of the student year\, the largest Wappu in Finland? Do you miss a relaxed evening with your fellow students or getting to know new fellow students? Come join Staabi’s adult student Wappu picnic! \nLet’s enjoy picnic food\, play casual park games and hang out in the park. The adult student picnic will gather near the Moomin statue near the main doors of Tampere Hall. Picnic food will be available\, but you can also bring your own snacks. You can bring your own drinks. If you want to drink alcohol\, you have to bring your own drinks. Blankets will be provided on site. \nAccessibility:\nThe event is not completely accessible. We will gather on the lawn of the park. The toilet and the disabled toilet are 260 meters away at the university\, which can be accessed with a student card. For more information about the event\, please contact adult student officer Olli Ruotsalainen: olli.ruotsalainen@tuni.fi and Telegram: @olliGrrr \nThanks for the graphs: Riikka Nuutinen \nWhat to do if you see or experience inappropriate behavior in Staabi’s operatingenvironment?\n– For incidents of harassment\, bullying and inappropriate situations\, members of the\nfeedback team are the contact point. The feedback team consists of MagdalenaHonkasalo (Chairperson)\, Veera Saukkonen (Educational Policy Manager and\nVice-Chairperson)\, Sallamari Roti (Tutoring and Equality Manager)\, and Tomi Pirinen(Corporate Relations and Working Life Contacts Manager). If the members of thefeedback group are not present\, you can contact another board member.\n– Bars that are continuations of events are not part of Staabi’s official operatingenvironment\, in which case disturbing behavior should be reported primarily to the\nrestaurant’s staff.\n– Outside the event\, you can contact a support person. Staabi’s support persons are AnniKalmari and Selma Murtonen. The support person handle contacts outside the events\nand are best reached on Telegram @selmisss and @annikalmari or by e-mailtukianni@staabi.fii and tukiselma@staabi.fi.\n– If you wish\, you can also contact TREY’s harassment contact person by email\, phone orusing TREY’s harassment form. Contact information can be found on TREY’s website.- You can also report disruptive behavior via the harassment form found on Staabi’s\nwebsite. Harassment forms go to the equality officer and can only be read by theequality officer. \nExperiences are individual and measures are case-specific. Every contact is treatedconfidentially and further measures are taken only with your consent. \nFound items from Staabi’s events are stored for three months after the event\, after which\nthey are disposed of using recycling opportunities. Valuables are delivered to the police
URL:https://staabi.fi/kalenteri/aikuisopiskelijoiden-wappupicnic/
ATTACH;FMTTYPE=image/png:https://staabi.fi/wp-content/uploads/2025/04/Aikuisopiskelijoiden-vappupicnic-1.png
END:VEVENT
BEGIN:VEVENT
DTSTART;TZID=Europe/Helsinki:20250430T170000
DTEND;TZID=Europe/Helsinki:20250430T233000
DTSTAMP:20260423T151150
CREATED:20250424T093028Z
LAST-MODIFIED:20250428T154029Z
UID:230970-1746032400-1746055800@staabi.fi
SUMMARY:Wapunaaton bailut
DESCRIPTION:IN ENGLISH BELOW \nMITÄ? Wapunaaton bailut\nMISSÄ? Tampereen pursiseura (Kekkosenkatu 10)\nMILLOIN? ke 30.4. klo 17 alkaen\, jatkuen iltamyöhään saakka\nKENELLE? Kaikille staabeille\nMIKSI? On tietysti juhlistettava loppusuoralla kiitävää wirkawappua!\nMITÄ MAKSAA? Ei mitään\nMITÄ PUETAAN PÄÄLLE? Haalarit + 2. asteen valmistujaislakki \nOnko kaikki raportit jo palautettu ja johtajien toiveet toteutettu? Vai janoatko vapaa-aikaa ennen kevään loppurutistusta? Kaipaatko tyhy-illan tunnelmaa\, staabiystäviä ja boolia? On vastauksesi mikä vain\, olet tervetullut wapunaaton bailuihin. Ankaran\, viikkoja jatkuneen verkostoitumisurakan jälkeen wirkahenkilöiden on aika kokoontua Pursiseuralle juhlistamaan wapunaattoa.Luvassa Pursiseuralla on tietysti Staabin boolia\, wirkahenkilöiden leikkimielisiä palkitsemisia ja mukavaa yhdessäoloa. Kenties tarjolla on boolin lisäksi muutakin 🙂 Nappaa siis mukaan kestokuppisi ja tule nauttimaan tunnelmasta sekä toivottavasti ilta-auringosta Näsijärven yllä. Tätä tyhy-iltaa et halua missata! Siis lämpimästi tervetuloa! \nHuomaathan\, että tapahtuma on tarkoitettu vain staabeille. \nTapahtuma on ei valitettavasti ole esteetön. Juhlapaikalle vievät portaat\, eikä juhlapaikalla ole inva-wc:tä.Lisätietoja tapahtumasta saat tapahtumavastaavilta Mikolta (tg mikkosainio ja Petralta (tg varjuspetra). Tavoitat heidät myös sähköpostitse tapahtumat@staabi.fi \nGRAFFAKIITOS: Aliisa Sorvari \nStaabin tapahtumien löytötavaroita säilytetään 1kk tapahtuman jälkeen\, jonka jälkeen ne hävitetään kierrätysmahdollisuuksia hyödyntäen. Arvotavarat toimitetaan poliisille. \nMitä tehdä\, jos näet tai koet epäasiallista käytöstä Staabin toimintaympäristössä?\n– Tapahtumissa häirintä-\, kiusaamis ja epäasiallisissa tilanteissa yhteyshenkilönä toimivat palautetyöryhmän jäsenet. Palautetyöryhmään kuuluvat puheenjohtaja Magdalena Honkasalo\, koulutuspoliittinen vastaava ja varapuheenjohtaja Veera Saukkonen\, tuutor- ja yhdenvertaisuusvastaava Sallamari Roti sekä yrityssuhde- ja työelämävastaava Tomi Pirinen. Mikäli palautetyöryhmän jäseniä ei ole paikalla\, voit ottaa yhteyttä muuhun hallituksen jäseneen.\n– Tapahtumien jatkoina olevat baarit eivät kuulu Staabin viralliseen toimintaympäristöön\, jolloin häiritsevästä käyttäytymisestä tulee ilmoittaa ensisijaisesti ravintolan henkilökunnalle.\n– Tapahtuman ulkopuolella voit ottaa yhteyttä tukihenkilöön. Staabin tukihenkilöinä toimii Anni Kalmari ja Selma Murtonen. Tukihenkilöt käsittelevät  yhteydenotot tapahtuman ulkopuolella ja heidät tavoittaa parhaiten joko Telegramissa @annikalmari ja @selmisss tai sähköpostitse tukianni@staabi.fi ja tukiselma@staabi.fi. .\n– Halutessasi voit myös ottaa yhteyttä TREY:n häirintäyhdyshenkilöön sähköpostilla\, puhelimitse tai TREYn häirintälomakkeella. Yhteystiedot löytyvät TREYn verkkosivuilta.\n– Häiritsevästä käytöksestä voit myös ilmoittaa Staabin verkkosivuilta löytyvän häirintälomakkeen kautta. Häirintälomakkeet menevät yhdenvertaisuusvastaavalle ja ovat vain yhdenvertaisuusvastaavan luettavissa. Kokemukset ovat yksilöllisiä ja toimenpiteet tapauskohtaisia. Jokainen yhteydenotto käsitellään luottamuksellisesti ja jatkotoimenpiteisiin ryhdytään vain sinun suostumuksellasi. \n  \n///WHAT? pre-Wappu party! \nWHERE? At Tampereen pursiseura (Kekkosenkatu 10)\nWHEN? Wed 30.4. from 5 PM onwards\, continuing late into the night\nFOR WHOM? For all Staabis\nWHY? Because\, of course\, we must celebrate the almost finished Wirkawappu!\nCOST? Nothing\nWHAT TO WEAR? Overalls + 2nd degree graduation cap \nHave all the reports been submitted and the leaders’ wishes fulfilled? Or are you yearning for some free time before the final push of spring? Do you miss the atmosphere of a well-being evening\, staabifriends\, and punch? Whatever your answer\, you are welcome to the pre-Wappu party. After weeks of intense networking\, it’s time for the ”wirkawappu” staff to gather at Pursiseura to celebrate wappu.At Pursiseura\, we will of course have Staabis Punch\, playful awards for staff members\, and pleasant socializing. Perhaps there will be something else besides punch 🙂 So\, grab your reusable cup and come enjoy the atmosphere and hopefully the evening sun over Näsijärvi. You don’t want to miss this well-being evening! So\, a warm welcome! \nPlease note that this event is intended for Staabi members only. \nUnfortunately\, the event is not accessible. There are stairs leading to the venue\, and there is no accessible toilet at the venue. \nThanks for the graphs: Aliisa Sorvari \nFor additional information\, you can contact the event managers Mikko (tg mikkosainio) and Petra (tg varjuspetra). You can also reach us via email at tapahtumat@staabi.fiWhat to do if you see or experience inappropriate behavior in Staabi’s operating environment? \n– For incidents of harassment\, bullying and inappropriate situations\, members of the feedback team are the contact point. The feedback team consists of Magdalena Honkasalo (Chairperson)\, Veera Saukkonen (Educational policy manager and Vice-Chairperson)\, Sallamari Roti (Tutoring and Equality Manager)\, and Tomi Pirinen (Business Relations and Employment Affairs Manager). If the members of the feedback group are not present\, you can contact another board member.\n– Bars that are continuations of events are not part of Staabi’s official operating environment\, in which case disturbing behavior should be reported primarily to the restaurant’s staff.\n– Outside the event\, you can contact a support person. Staabi’s support persons are Anni Kalmari and Selma Murtonen. The support person handle contacts outside the events and are best reached on Telegram @annikalmari and @selmisss or by e-mail tukianni@staabi.fi and tukiselma@staabi.fi.\n– If you wish\, you can also contact TREY’s harassment contact person by email\, phone or using TREY’s harassment form. Contact information can be found on TREY’s website.\n– You can also report disruptive behavior via the harassment form found on Staabi’s website. Harassment forms go to the equality officer and can only be read by the equality officer. \nExperiences are individual and measures are case-specific. Every contact is treated confidentially and further measures are taken only with your consent. \nFound objects from Staabis events are kept for 1 month after the event\, after which they are recycled and disposed of. Valuables are handed over to the police.
URL:https://staabi.fi/kalenteri/wapunaaton-bailut/
ATTACH;FMTTYPE=image/png:https://staabi.fi/wp-content/uploads/2025/04/wapunaaton-bailut.png
END:VEVENT
END:VCALENDAR