BEGIN:VCALENDAR
VERSION:2.0
PRODID:-//Staabi ry - ECPv6.15.17.1//NONSGML v1.0//EN
CALSCALE:GREGORIAN
METHOD:PUBLISH
X-WR-CALNAME:Staabi ry
X-ORIGINAL-URL:https://staabi.fi
X-WR-CALDESC:Tapahtumat Staabi ry
REFRESH-INTERVAL;VALUE=DURATION:PT1H
X-Robots-Tag:noindex
X-PUBLISHED-TTL:PT1H
BEGIN:VTIMEZONE
TZID:Europe/Helsinki
BEGIN:DAYLIGHT
TZOFFSETFROM:+0200
TZOFFSETTO:+0300
TZNAME:EEST
DTSTART:20240331T010000
END:DAYLIGHT
BEGIN:STANDARD
TZOFFSETFROM:+0300
TZOFFSETTO:+0200
TZNAME:EET
DTSTART:20241027T010000
END:STANDARD
BEGIN:DAYLIGHT
TZOFFSETFROM:+0200
TZOFFSETTO:+0300
TZNAME:EEST
DTSTART:20250330T010000
END:DAYLIGHT
BEGIN:STANDARD
TZOFFSETFROM:+0300
TZOFFSETTO:+0200
TZNAME:EET
DTSTART:20251026T010000
END:STANDARD
BEGIN:DAYLIGHT
TZOFFSETFROM:+0200
TZOFFSETTO:+0300
TZNAME:EEST
DTSTART:20260329T010000
END:DAYLIGHT
BEGIN:STANDARD
TZOFFSETFROM:+0300
TZOFFSETTO:+0200
TZNAME:EET
DTSTART:20261025T010000
END:STANDARD
END:VTIMEZONE
BEGIN:VEVENT
DTSTART;VALUE=DATE:20250407
DTEND;VALUE=DATE:20250502
DTSTAMP:20260423T162502
CREATED:20250316T063631Z
LAST-MODIFIED:20250727T140539Z
UID:230749-1743984000-1746143999@staabi.fi
SUMMARY:Staabin Wirkawappu
DESCRIPTION:English below! \nMitä? Staabin Wirkawappu!Milloin? 7.4.-1.5.Video? YouTube \nInnostuttaako sinuakin kvartaaliraportit\, strategiset tavoitteet ja hyvän hallinnon periaatteet? Ajatteletko\, että opiskelijabileistä puuttuu sitä byrokratiaa ja tulosorientoitunutta raportointia\, joka saa sukat pyörimää jaloissa? Tekisikö sinunkin välillä mieli lähteä viranhaltijoiden saunailtaan sopimaan seuraavan tilikauden strategisista tavoitteista\, ilman turhaa valvontaa? \nTervetuloa viettämään Staabin Wirkawappua 2025! Luvassa on tärkeää verkostoitumista\, sidosryhmien tapaamista ja ripaus korruptiota. Unohtamatta tietenkään legendaarista haalarimerkkiä\, jonka voit lunastaa itsellesi wappuviikkojen loppupuolella! \n7.4. KostajaisetFuksit pääsevät kostamaan kastajaisista jääneitä kaunojaan! Valtion taloustilanteen heikentyessä wirkahenkilöiden toimeentulo on uhattuna\, ilkeät fuksit ovat riistämässä tuet! Nyt heidän on kerättävä kaikki etuudet itselleen ja selvittävä mahdottomassa tukiwiidakossa! Kasaa siis joukko ammattitaitoisia wirkahenkilöitä ja lähde päihittämään muut joukkueet etuustaistossa! \n8.4. Wappubrunssi PwC:lleTule mukaan virittäytymään wapun tunnelmaan wappubrunsille PwC:lle yhdessä Boomin kanssa! Brunssin aikana pääset tutustumaan PwC:n toimintaan\, kuulemaan uramahdollisuuksista sekä tapaamaan asiantuntijoita muun muassa tilintarkastuksen\, sekä vero- ja lakipalveluiden aloilta. Lisäksi saat vinkkejä PwC:n trainee-ohjelmasta\, sekä arvokkaita hakuvinkkejä. \nTervetuloa nauttimaan herkullisesta brunssista ja inspiroivista uratarinoista PwC:llä! \n11.4. Byrokratia-wappusitsitOletko sinäkin kokenut sitsikulttuurin liian helpoksi ja nopeaksi? Huonotkin laulutoiveet hyväksytään diktaattorimaisesti\, eikä kukaan täytä pöytäkirjaakaan? Nyt tämä kaikki muuttuu! Tervetuloa sitsaamaan Staabin byrokraattisille wappusitseille\, jossa kaikki on aivan varmasti mahdollisimman hankalaa ja hidasta! \n15.4 Poikkitieteellinen Speed FriendingSuomen suurin Wappu kutsuu meidät jälleen vetämään haalarit jalkaan ja suuntaamaan ulos nauttimaan lähestyvästä kesästä. Tämä tapahtuma tarjoaa oivan tilaisuuden löytää uusia Wappukavereita\, joiden kanssa kiertää Teemunkierroksen tapahtumia! \n15.4. WappuLove \n21.4. Staabi vs. Boomi Vappupesis & PesiskeittoLegendaarinen pesisottelu tulee jälleen\, kun Staabi ja Boomi taistelevat mestaruudesta! \n22.4. WirkavisaKesken kiireisten wappuviikkojen\, on aika keskittyä hetki olennaiseen\, eli visailuun. Nyt pääset todistamaan tietosi virkahenkilöiden saavutuksista ja toilailuista. Täällä et pärjää tuurilla\, vaan elintärkeällä substanssiosaamisella. \n24.4. WappuexcuKiinnostaako sinua aluekehittäminen tai pohditko tulevaisuuden työllistymismahdollisuuksia? Tule Staabin wappuexculle FCG:n Tampereen toimistolle\, jossa pääsemme tutustumaan aluekehittämisen konsulttitoimisto MDI:n toimintaan! \n24.4. Afterwork -kolmioetkotUusi valtuusto on viimein hyväksynyt wapun wirkahenkilöiden verellä kyynelillä raataman talousarvioesityksen\, ja nyt on aika lähteä ansaituille yksille! Tervetuloa viettämään kolmioetkoja Domus-klubille! \n24.4. Kolmiot \n26.4. HyväWeli-sillisTällä kertaa silliksellä heivataan hyvän hallinnon periaatteet ikkunasta ja päästään nauttimaan (suhteilla) saavutetuista eduista salaiseen määränpäähän. Luvassa rentoutumista\, ohjelmaa ja tietysti ruokaa sekä juomaa. \n28.4. Staabi goes Särkän märkäWapun hurjin opiskelijatapahtuma tulee taas! Lähde hurvittelemaan Särkänniemeen staabien ja muiden opiskelijoiden kanssa. Ilta jatkuu tietysti jatkoilla Tampereen keskustan baareissa joissa esiintymässä ovat upeat artistit! Tänäkin vuonna Staabi on hankkinut jäsenistölleen lippuja jotka menevät vauhdilla\, joten toimithan nopeasti! \n30.4. Wapunaaton bailutTyöhyvinvointi on kaikkien yhteinen asia! Usean viikon rankan verkostoutumisrupeaman on aika kokoontua yhteen Staabin tyhy-päivään! Ahkerimpia työyhteisön wirkahenkilöitä palkitaan ja Staabin boolia on tietenkin tarjolla. \n1.5. WappupiknikStaabin perinteinen vappupiknik\, jossa wirkahenkilöt pääsevät vihdoin rentoutumaan rankkojen wappuviikkojen jälkeen raikkaassa ulkoilmassa. \n/// \nWhat? Staabi’s Wirkawappu!When? 7.4.-1.5.Video? Coming soon! \nAre you as well excited about quarterly reports\, strategic goals\, and the principles of good governance? Do you feel like student parties lack the bureaucracy and results-oriented reporting that really gets you all fired up? Ever wanted to join an officials’ sauna evening to set the strategic objectives for the next fiscal year – without unnecessary oversight? \nWelcome to Staabi’s Wirkawappu 2025! Get ready for essential networking\, stakeholder meetings\, and just a hint of corruption. And of course\, don’t forget the legendary overall patch\, which you can claim at the end of the Wappu weeks! \n7.4. Kostajaiset – Staabi’s Revenge partyThis event will be held in finnish. The freshers finally get their revenge for their brutal initiation! With the state’s economy in decline\, the well-being of civil servants is at risk\, and the evil freshers are trying to cut their benefits! Now\, officials must secure every possible allowance for themselves and navigate the impossible bureaucratic jungle of social benefits! Gather your team of skilled public administrators and outplay the competition in this battle for entitlements! \n8.4. Wappubrunch at PWCJoin us in getting into the Wappu spirit at PwC’s Wappu brunch together with Boomi! During the brunch\, you’ll have the opportunity to learn about PwC’s operations\, explore career opportunities\, and meet experts from fields such as auditing\, tax\, and legal services. You’ll also receive insights into PwC’s trainee program and valuable application tips. \nWelcome to enjoy a delicious brunch and inspiring career stories at PwC! \n11.4. Bureaucracy -WappusitzThis event will be held in finnish. Have you found student sitz too easy and efficient? Songs get accepted autocratically\, and no one even keeps proper minutes? That all ends now! Welcome to Staabi’s bureaucratic Wappusitz\, where everything is as complicated and slow as possible – just the way we like it! \n15.4 Interdisciplinary Speed FriendingFinland’s biggest Wappu is once again inviting us to put on our overalls and head outside to enjoy the approaching summer. This event offers a perfect opportunity to find new Wappu buddies to join you in the Teemunkierros events!  \n15.4. WappuLove  \n21.4. Staabi vs. Boomi – Wappu Finnish Baseball & SoupThe legendary baseball showdown returns as Staabi and Boomi face off once again for ultimate glory! Who will take home the title this year? \n22.4. Wirkavisa – The Bureaucracy QuizThis event will be held in finnish. In the midst of the busy Wappu weeks\, it’s time to focus on the essential for a moment\, which is a quiz. Now you get to prove your knowledge of the achievements and blunders of public officials. You won’t succeed here with luck\, but with vital substantive expertise. \n24.4. WappuexcuAre you interested in regional development or thinking about future employment opportunities? Join Staabi’s wappu excursion to FCG’s Tampere office where we will get to learn about MDI’s organization which is a consulting firm specializing in regional development! \n24.4. Afterwork – Kolmiot Pre-PartyThe new council has finally approved the Wappu budget\, painstakingly drafted with the blood\, sweat\, and tears of civil servants. Now\, it’s time to at least grab a drink or two and celebrate the historic approval! \n24.4. Kolmiot – The Legendary Triangle Party \n26.4. GoodBro-SillisThis event will be held in finnish. Forget good governance principles for a moment and enjoy the perks of well-placed connections! This year’s HyväWeli Sillis takes you to a top-secret location\, where relaxation\, entertainment\, and of course\, plenty of food and drinks await. \n28.4. Staabi Goes Särkän MärkäThe wildest student event of Wappu is back! Join Staabi and fellow students for an unforgettable night of thrills and fun at Särkänniemi amusement park. And of course\, the night doesn’t end there – the afterparty continues in Tampere’s best bars\, featuring amazing live performances. Once again\, Staabi has secured tickets for its members\, but they sell out fast\, so act quickly! \n30.4. Wappu Eve PartyThis event will be held in finnish. Employee well-being is everyone’s responsibility! After weeks of intense networking\, it’s time for the Staabi well-being day. The hardest-working officials will be rewarded\, and yes – Staabi’s legendary punch will be available. \n1.5. Wappu-picnicThe grand finale – grab your blanket\, your friends\, and recover in the best way possible with a relaxing Wappu picnic.
URL:https://staabi.fi/kalenteri/staabin-wirkawappu/
ATTACH;FMTTYPE=image/png:https://staabi.fi/wp-content/uploads/2025/03/Wirkawappu.png
END:VEVENT
BEGIN:VEVENT
DTSTART;TZID=Europe/Helsinki:20250421T140000
DTEND;TZID=Europe/Helsinki:20250421T160000
DTSTAMP:20260423T162502
CREATED:20250327T081526Z
LAST-MODIFIED:20250327T081602Z
UID:230797-1745244000-1745251200@staabi.fi
SUMMARY:Vappupesis & Pesiskeitto
DESCRIPTION:In English below \nMITÄ? STAABI VS. BOOMI Pesäpallo-ottelu + pesiskeitto\nMISSÄ? Kaupin pesäpallostadion\, Kuntokatu 5\, 33500 Tampere\nMILLOIN? 21.4. klo 14-16 peli\, jatkot klo 18 alkaen\nKENELLE? Kaikille Staabeille ja Boomareille\nMIKSI? Koska on aika selvittää wapun pesäpallomestaruus\nMITÄ MAKSAA? Ei mitään!\nMITÄ PUETAAN PÄÄLLE? Haalarit yleisöön\, pelaajille urheiluvaatteet! \nWapun legendaarisin tapahtuma on taas täällä\, kun Staabi kohtaa Boomin pesisottelussa 21.4.!  Tule seuraamaan wapun suurta  jännitysnäytelmää\, kun Tampereen merkittävimmät ainejärjestöt kamppailevat siitä kumpi saa kunnian tulla kruunatuksi pesäpallomestariksi! Viime vuosina tunnelmaa ei näistä peleistä ole puuttunut\, joten nyt sankoin joukoin jatkamaan perinteitä! \nIllan kruunaa pesiskeitto klubi 57:lla\, jossa ratkotaan ottelun tuloksia BoomSki:n järjestämillä jatkoilla! Tule viettämään iltaa klubi 57:n tanssilattialle\, saunalle ja nauttimaan tarjolla olevista shoteista ja boolista. Nähdään siis maanantaina 21.4.! Tapahtuman haalarimerkki jaetaan Klubi 57:ssa. \nYleisötilat on toteutettu esteettömiksi ja stadionilta löytyy inva-WC. \nLisätietoja tapahtumasta saat liikunta- ja vapaa-aikavastaavalta Arttu Hiltuselta: Telegramissa @hiltsah tai sähköpostilla: liikunta@staabi.fi tai Boomsportin edustajalta Elias Huotarilta Telegramissa @EliasHuotari \nGRAFFAKIITOS: Aliisa Sorvari \nStaabin tapahtumien löytötavaroita säilytetään 1kk tapahtuman jälkeen\, jonka jälkeen ne hävitetään kierrätysmahdollisuuksia hyödyntäen. Arvotavarat toimitetaan poliisille. \nMitä tehdä\, jos näet tai koet epäasiallista käytöstä Staabin toimintaympäristössä?\n– Tapahtumissa häirintä-\, kiusaamis ja epäasiallisissa tilanteissa yhteyshenkilönä toimivat palautetyöryhmän jäsenet. Palautetyöryhmään kuuluvat puheenjohtaja Magdalena Honkasalo\, koulutuspoliittinen vastaava ja varapuheenjohtaja Veera Saukkonen\, tuutor- ja yhdenvertaisuusvastaava Sallamari Roti sekä yrityssuhde- ja työelämävastaava Tomi Pirinen. Mikäli palautetyöryhmän jäseniä ei ole paikalla\, voit ottaa yhteyttä muuhun hallituksen jäseneen.\n– Tapahtumien jatkoina olevat baarit eivät kuulu Staabin viralliseen toimintaympäristöön\, jolloin häiritsevästä käyttäytymisestä tulee ilmoittaa ensisijaisesti ravintolan henkilökunnalle.\n– Tapahtuman ulkopuolella voit ottaa yhteyttä tukihenkilöön. Staabin tukihenkilöinä toimii Anni Kalmari ja Selma Murtonen. Tukihenkilöt käsittelevät  yhteydenotot tapahtuman ulkopuolella ja heidät tavoittaa parhaiten joko Telegramissa @annikalmari ja @selmisss tai sähköpostitse tukianni@staabi.fi ja tukiselma@staabi.fi. .\n– Halutessasi voit myös ottaa yhteyttä TREY:n häirintäyhdyshenkilöön sähköpostilla\, puhelimitse tai TREYn häirintälomakkeella. Yhteystiedot löytyvät TREYn verkkosivuilta.\n– Häiritsevästä käytöksestä voit myös ilmoittaa Staabin verkkosivuilta löytyvän häirintälomakkeen kautta. Häirintälomakkeet menevät yhdenvertaisuusvastaavalle ja ovat vain yhdenvertaisuusvastaavan luettavissa.\nKokemukset ovat yksilöllisiä ja toimenpiteet tapauskohtaisia. Jokainen yhteydenotto käsitellään luottamuksellisesti ja jatkotoimenpiteisiin ryhdytään vain sinun suostumuksellasi. \n————————– \nWHAT? STAABI VS. BOOMI Baseball match + baseball soup\nWHERE? Kaupin pesäpallostadion\, Kuntokatu 5\, 33500 Tampere\nWHEN? 21.4. The game at 2pm-4pm and starting at 6pm after party\nTO WHOM? All Staabi and Boomi members\nWHY? Because it’s time to decide the Wappu baseball championship\nCOST? Nothing\nWHAT TO WEAR? Overalls for the audience\, sportswear for the players! \nThe most legendary event of Wapu is here again\, when Staabi meets Boom in a baseball match on 21 April!  Come and watch the big WAPU thriller as Tampere’s most prominent student organisations battle it out to see who will be crowned baseball champion! In recent years\, these games have never lacked atmosphere\, so let’s continue the tradition! \nThe evening will be crowned with a baseball soup at Club 57\, where the results of the match will be settled in the BoomSki-organised after-match! Come and spend the evening on Club 57’s dance floor\, sauna and enjoy the shots and punch on offer. So see you on Monday 21.4.! The event patch will be handed out at Club 57. \nThe stadium area has been made accessible and there is an accessible toilet in the stadium. \nFor more information about the event\, please contact Arttu Hiltunen\, Sports and Free Time Officer\, on Telegram @hiltsah or by email: liikunta@staabi.fi or Boomsport representative Elias Huotari on Telegram @EliasHuotari \nThanks for the graphs\, Aliisa Sorvari \nWhat to do if you see or experience inappropriate behavior in Staabi’s operating environment?\n– For incidents of harassment\, bullying and inappropriate situations\, members of the feedback team are the contact point. The feedback team consists of Magdalena Honkasalo (Chairperson)\, Veera Saukkonen (Educational policy manager and Vice-Chairperson)\, Sallamari Roti (Tutoring and Equality Manager)\, and Tomi Pirinen (Business Relations and Employment Affairs Manager). If the members of the feedback group are not present\, you can contact another board member.\n– Bars that are continuations of events are not part of Staabi’s official operating environment\, in which case disturbing behavior should be reported primarily to the restaurant’s staff.\n– Outside the event\, you can contact a support person. Staabi’s support persons are Anni Kalmari and Selma Murtonen. The support person handle contacts outside the events and are best reached on Telegram @annikalmari and @selmisss or by e-mail tukianni@staabi.fi and tukiselma@staabi.fi.\n– If you wish\, you can also contact TREY’s harassment contact person by email\, phone or using TREY’s harassment form. Contact information can be found on TREY’s website.\n– You can also report disruptive behavior via the harassment form found on Staabi’s website. Harassment forms go to the equality officer and can only be read by the equality officer.\nExperiences are individual and measures are case-specific. Every contact is treated confidentially and further measures are taken only with your consent. \nFound objects from Staabis events are kept for 1 month after the event\, after which they are recycled and disposed of. Valuables are handed over to the police.
URL:https://staabi.fi/kalenteri/vappupesis-pesiskeitto/
ATTACH;FMTTYPE=image/png:https://staabi.fi/wp-content/uploads/2025/03/vappupesis-pesiskeitto.png
END:VEVENT
END:VCALENDAR