BEGIN:VCALENDAR
VERSION:2.0
PRODID:-//Staabi ry - ECPv6.15.17.1//NONSGML v1.0//EN
CALSCALE:GREGORIAN
METHOD:PUBLISH
X-WR-CALNAME:Staabi ry
X-ORIGINAL-URL:https://staabi.fi
X-WR-CALDESC:Tapahtumat Staabi ry
REFRESH-INTERVAL;VALUE=DURATION:PT1H
X-Robots-Tag:noindex
X-PUBLISHED-TTL:PT1H
BEGIN:VTIMEZONE
TZID:Europe/Helsinki
BEGIN:DAYLIGHT
TZOFFSETFROM:+0200
TZOFFSETTO:+0300
TZNAME:EEST
DTSTART:20240331T010000
END:DAYLIGHT
BEGIN:STANDARD
TZOFFSETFROM:+0300
TZOFFSETTO:+0200
TZNAME:EET
DTSTART:20241027T010000
END:STANDARD
BEGIN:DAYLIGHT
TZOFFSETFROM:+0200
TZOFFSETTO:+0300
TZNAME:EEST
DTSTART:20250330T010000
END:DAYLIGHT
BEGIN:STANDARD
TZOFFSETFROM:+0300
TZOFFSETTO:+0200
TZNAME:EET
DTSTART:20251026T010000
END:STANDARD
BEGIN:DAYLIGHT
TZOFFSETFROM:+0200
TZOFFSETTO:+0300
TZNAME:EEST
DTSTART:20260329T010000
END:DAYLIGHT
BEGIN:STANDARD
TZOFFSETFROM:+0300
TZOFFSETTO:+0200
TZNAME:EET
DTSTART:20261025T010000
END:STANDARD
END:VTIMEZONE
BEGIN:VEVENT
DTSTART;TZID=Europe/Helsinki:20250401T133000
DTEND;TZID=Europe/Helsinki:20250401T160000
DTSTAMP:20260423T162415
CREATED:20250319T160214Z
LAST-MODIFIED:20250319T160731Z
UID:230774-1743514200-1743523200@staabi.fi
SUMMARY:Staabi\, Boomi & Iltakoulu futispeli + jatkot
DESCRIPTION:In English below\n\nMITÄ? Jalkapallopelit Boomia ja Iltakoulua vastaan!\n\n\n\n\n\n\nMISSÄ? Kaupin urheilupuisto\, Klubi 57\nMILLOIN? 1.4. klo 13.30 eteenpäin\nKENELLE? Kaikille Staabeille!\nMIKSI? Koska jalkapallo on kivaa\nMITÄ MAKSAA? Ei mitään!\nMITÄ PUETAAN PÄÄLLE? Pelaajille urheiluun sopivat vaatteet\, yleisöön haalarit! Jatkoille saunakamat mukaan \nFutsalkausi lähestyy loppuaan ja kevätaurinko alkaa lämmittää. Ilmassa on urheilujuhlan tuntua ja on aika siirtyä ulkoilmaan! ️Koko talvi on vietetty taktiikoita hioen ja kuntoa kasvattaen. Pian nähdään\, ketkä ovat oikeasti reenanneet ja ketkä luottavat luonnonlahjakkuuteen.Jalkapallokausi polkaistaan käyntiin Kaupissa\, kun selvitetään\, ketkä ovat MAB:n keskustakampuksen futismestarit! Tule siis 1.4. auttamaan ainejärjestösi voittoon – joko pelaamalla kentällä tai kannustamalla katsomossa. Samalla pääset tutustumaan uusiin poikkitieteellisiin tuttavuuksiin ja nauttimaan huikeasta tunnelmasta! \nMikäli kiinnostaa pelaaminen liity Staabin futisryhmään! \nLuvassa on tiukkoja otteluita\, loistavaa fiilistä ja ennen kaikkea aitoa futishuumaa. Älä jää paitsi kevään parhaista peleistä! Pelien jälkeen klo 18 luvassa jatkot ja hengailua saunomisen\, karaoken ja beerpongin merkeissä! \nLisätietoja tapahtumasta saat liikunta- ja vapaa-aikavastaava Arttu Hiltuselta Twelegramissa @hiltsah tai sähköpostilla liikunta@staabi.fi. Tai liikuntatoimihenkilö Verneri Elomaalta Telegramissa @verkkue. \nStaabin tapahtumien löytötavaroita säilytetään 1kk tapahtuman jälkeen\, jonka jälkeen ne hävitetään kierrätysmahdollisuuksia hyödyntäen. Arvotavarat toimitetaan poliisille. \nMitä tehdä\, jos näet tai koet epäasiallista käytöstä Staabin toimintaympäristössä?\n– Tapahtumissa häirintä-\, kiusaamis ja epäasiallisissa tilanteissa yhteyshenkilönä toimivat palautetyöryhmän jäsenet. Palautetyöryhmään kuuluvat puheenjohtaja Magdalena Honkasalo\, koulutuspoliittinen vastaava ja varapuheenjohtaja Veera Saukkonen\, tuutor- ja yhdenvertaisuusvastaava Sallamari Roti sekä yrityssuhde- ja työelämävastaava Tomi Pirinen. Mikäli palautetyöryhmän jäseniä ei ole paikalla\, voit ottaa yhteyttä muuhun hallituksen jäseneen.\n– Tapahtumien jatkoina olevat baarit eivät kuulu Staabin viralliseen toimintaympäristöön\, jolloin häiritsevästä käyttäytymisestä tulee ilmoittaa ensisijaisesti ravintolan henkilökunnalle.\n– Tapahtuman ulkopuolella voit ottaa yhteyttä tukihenkilöön. Staabin tukihenkilöinä toimii Anni Kalmari ja Selma Murtonen. Tukihenkilöt käsittelevät  yhteydenotot tapahtuman ulkopuolella ja heidät tavoittaa parhaiten joko Telegramissa @annikalmari ja @selmisss tai sähköpostitse tukianni@staabi.fi ja tukiselma@staabi.fi. .\n– Halutessasi voit myös ottaa yhteyttä TREY:n häirintäyhdyshenkilöön sähköpostilla\, puhelimitse tai TREYn häirintälomakkeella. Yhteystiedot löytyvät TREYn verkkosivuilta.\n– Häiritsevästä käytöksestä voit myös ilmoittaa Staabin verkkosivuilta löytyvän häirintälomakkeen kautta. Häirintälomakkeet menevät yhdenvertaisuusvastaavalle ja ovat vain yhdenvertaisuusvastaavan luettavissa. \nKokemukset ovat yksilöllisiä ja toimenpiteet tapauskohtaisia. Jokainen yhteydenotto käsitellään luottamuksellisesti ja jatkotoimenpiteisiin ryhdytään vain sinun suostumuksellasi. \n————————– \nWHAT? Football games against Boomi and Iltakoulu\nWHERE? Kaupin urheilupuisto\, Klubi 57\nWHEN? 1.4. starting at 13.30\nTO WHOM? For all Staabi members\nWHY? Because football is fun!\nCOST? Nothing\nWHAT TO WEAR? For the players sport outfit and for the fans overalls! To the after party suitable clothes for sauna. \nThe futsal season is coming to an end and the spring sun is starting to warm up. There is a sense of sporting celebration in the air and it’s time to get outdoors! All winter has been spent honing tactics and building fitness. Soon we’ll see who’s really been training and who’s relying on natural talent. \nThe football season kicks off in Kauppi as we find out who are the football champions of the MAB Central Campus! So come on 1 April to help your student organisation win – either by playing on the field or cheering in the stands. At the same time\, you’ll get to meet new interdisciplinary friends and enjoy the great atmosphere! \nIf you’re interested in playing\, join the Staabi football team. \nThere will be close matches\, great atmosphere and above all a real football atmosphere. Don’t miss the best games of the spring! After the games at 18:00\, we’ll be back for more and hang out with sauna\, karaoke and beer pong! \nContact information\, Sports and Free Time Manager Arttu Hiltunen\, Telegram @hiltsah\, mail: liikunta@staabi.fi\, or Sports Officer Verneri Elomaa at Telegram @verkkue \nWhat to do if you see or experience inappropriate behavior in Staabi’s operating environment?\n– For incidents of harassment\, bullying and inappropriate situations\, members of the feedback team are the contact point. The feedback team consists of Magdalena Honkasalo (Chairperson)\, Veera Saukkonen (Educational policy manager and Vice-Chairperson)\, Sallamari Roti (Tutoring and Equality Manager)\, and Tomi Pirinen (Business Relations and Employment Affairs Manager). If the members of the feedback group are not present\, you can contact another board member.\n– Bars that are continuations of events are not part of Staabi’s official operating environment\, in which case disturbing behavior should be reported primarily to the restaurant’s staff.\n– Outside the event\, you can contact a support person. Staabi’s support persons are Anni Kalmari and Selma Murtonen. The support person handle contacts outside the events and are best reached on Telegram @annikalmari and @selmisss or by e-mail tukianni@staabi.fi and tukiselma@staabi.fi.\n– If you wish\, you can also contact TREY’s harassment contact person by email\, phone or using TREY’s harassment form. Contact information can be found on TREY’s website.\n– You can also report disruptive behavior via the harassment form found on Staabi’s website. Harassment forms go to the equality officer and can only be read by the equality officer. \nExperiences are individual and measures are case-specific. Every contact is treated confidentially and further measures are taken only with your consent. \nFound objects from Staabis events are kept for 1 month after the event\, after which they are recycled and disposed of. Valuables are handed over to the police.
URL:https://staabi.fi/kalenteri/staabi-boomi-iltakoulu-futispeli-jatkot/
ATTACH;FMTTYPE=image/jpeg:https://staabi.fi/wp-content/uploads/2025/03/Staabi-Boomi-Iltakoulufutis-1.jpg
END:VEVENT
END:VCALENDAR