BEGIN:VCALENDAR
VERSION:2.0
PRODID:-//Staabi ry - ECPv6.15.17.1//NONSGML v1.0//EN
CALSCALE:GREGORIAN
METHOD:PUBLISH
X-WR-CALNAME:Staabi ry
X-ORIGINAL-URL:https://staabi.fi
X-WR-CALDESC:Tapahtumat Staabi ry
REFRESH-INTERVAL;VALUE=DURATION:PT1H
X-Robots-Tag:noindex
X-PUBLISHED-TTL:PT1H
BEGIN:VTIMEZONE
TZID:Europe/Helsinki
BEGIN:DAYLIGHT
TZOFFSETFROM:+0200
TZOFFSETTO:+0300
TZNAME:EEST
DTSTART:20240331T010000
END:DAYLIGHT
BEGIN:STANDARD
TZOFFSETFROM:+0300
TZOFFSETTO:+0200
TZNAME:EET
DTSTART:20241027T010000
END:STANDARD
BEGIN:DAYLIGHT
TZOFFSETFROM:+0200
TZOFFSETTO:+0300
TZNAME:EEST
DTSTART:20250330T010000
END:DAYLIGHT
BEGIN:STANDARD
TZOFFSETFROM:+0300
TZOFFSETTO:+0200
TZNAME:EET
DTSTART:20251026T010000
END:STANDARD
BEGIN:DAYLIGHT
TZOFFSETFROM:+0200
TZOFFSETTO:+0300
TZNAME:EEST
DTSTART:20260329T010000
END:DAYLIGHT
BEGIN:STANDARD
TZOFFSETFROM:+0300
TZOFFSETTO:+0200
TZNAME:EET
DTSTART:20261025T010000
END:STANDARD
END:VTIMEZONE
BEGIN:VEVENT
DTSTART;TZID=Europe/Helsinki:20250220T080000
DTEND;TZID=Europe/Helsinki:20250303T233000
DTSTAMP:20260423T190547
CREATED:20250220T130619Z
LAST-MODIFIED:20250220T140104Z
UID:230644-1740038400-1741044600@staabi.fi
SUMMARY:Fuksitoimihenkilön haku
DESCRIPTION:MIKÄ: Fuksitoimihenkilön haku! \nMITÄ: Uusi toimihenkilöpesti tuutorvastaavan apukädeksi \nMILLOIN: 20.2.-3.3.2025 \nMISSÄ? Google Forms \nEtsimme Staabin upouuteen toimihenkilöpestiin innokkaita osaajia! Fuksitoimihenkilö on ainutlaatuinen toimihenkilöpesti\, sillä kautesi tulee kestämään keväästä 2025 kevääseen 2026. Fuksitoimihenkilö toimii tuutorvastaavan oikeana kätenä\, auttaen tätä niin tuutoreiden kouluttamisessa kuin ryhmäyttämisessäkin sekä uusien fuksien toivottamisessa tervetulleiksi yliopistoon. \nFuksitoimihenkilön pesti on suunniteltu tukemaan tuutoroinnin ympärivuotisuutta sekä fuksivuoden kestoa\, sillä fuksitoimihenkilö kulkee vuoden 2025 fuksien mukana myös vuoden 2026 puolelle. Fuksitoimihenkilönä olet olennainen osa uusien fuksien ryhmäytymistä ja orientoitumista opintoihin. Fuksitoimihenkilön pesti ei vaadi mitään erityistä osaamista\, mutta aiempi kokemus tuutoroinnista lasketaan eduksi. \nOman sektorinsa lisäksi toimihenkilöillä on keskeinen rooli toiminnan ideoinnissa\, suunnittelussa ja toteutuksessa. Toimihenkilöt tekevät tiivistä yhteistyötä Staabin hallituksen sekä omien hallituskontaktiensa kanssa\, ja heillä on mahdollisuus osallistua niin iltakouluihin kuin virkistäytymisiin. \nHaku aukeaa 20.2. kello 15:00 ja on auki 3.3. kello 23:59 saakka. Valinnat tehdään hakemustekstien perusteella. Kerro hakemustekstissäsi miksi soveltuisit hyvin fuksitoimihenkilöksi. Hakemuksesi voi olla max. 300 sanaa pitkä. \nMikäli hakemukset ovat yhtä laadukkaita\, painotetaan päätöksenteossa kyseisen pestin kannalta keskeistä osaamista. Valintaan voi vaikuttaa myös motivaatio tehtävää kohtaan ja tehtävän kannalta relevantiksi katsottu kokemus sekä tiedot ja taidot. Toimihenkilöhakijoita voidaan tarvittaessa haastatella tai lähestyä lisäkysymyksillä. Staabin toimijoiden valinnoista määritetään yhdenvertaisuusohjesäännössä. Staabin vaalikulttuurissa pyritään yhdenvertaisuuteen ja tasa-arvoisuuteen. Staabin hallitukseen\, tiimeihin sekä toimihenkilöpesteihin toivotaan ja kannustetaan kaikenlaisia toimijoita. Toimijoita valittaessa voidaan ottaa huomioon mahdolliset henkilön saamat yhdenvertaisuusohjesäännön mukaiset sanktiot. Vastauslomakketta säilytetään Staabin Google Formsissa. Lomakkeet poistetaan viimeistään huhtikuun 2025 lopussa.  \nHUOM! ETHÄN JÄTÄ VASTAUSLOMAKETTA PITKÄKSI AIKAA AUKI. PÄIVITÄ VASTAUSLOMAKE ENNEN VASTAUKSEN LÄHETTÄMISTÄ. Vastaukset eivät välttämättä tallennu järjestelmään\, mikäli lomake on ollut useamman tunnin kerrallaan auki. Suosittelemme vastaustekstin kirjoittamista erilliseen tekstinkäsittelysovellukseen (esim. Word). Tallentuneista vastauksista tulee vahvistusviesti valitsemaasi sähköpostiin. \nLisätietoja hausta: \nMagdalena Honkasalo\, puheenjohtaja 2025 \nTG: @rapatintti \npuheenjohtaja@staabi.fi \nHenkilötietojen käsittely lisätietoja löydät Staabin rekisteri- ja tietosuojaselosteesta. \n— \nWHAT: Search for a Freshman Officer!SO\, WHAT: A new position as an assistant to the tutoring organizerWHEN: February 20th – March 3rd\, 2025 \nWe are looking for enthusiastic individuals for Staabi’s brand-new position! The Freshman Officer is a unique role\, as your term will last from spring 2025 to spring 2026. The Freshman Officer works as the right hand of the tutoring organizer\, assisting in tutor training\, team-building\, and welcoming new freshmen to the university. The role is designed to support the year-round nature of tutoring and the duration of the freshman year\, as the Freshman Officer will continue with the freshmen of 2025 into 2026. As a Freshman Officer\, you will play a key role in helping new students integrate and orient themselves to their studies. No specific qualifications are required\, but prior tutoring experience is considered an advantage. \nIn addition to their specific sector\, officers play a central role in brainstorming\, planning\, and implementing activities. They collaborate closely with Staabi’s board and their individual board contacts and have the opportunity to participate in evening seminars and social events. \nThe application period opens on February 20th at 15:00 and will remain open until March 3rd at 23:59. \nYou can find the application form here. (Finnish only) \nSelections will be made based on the application texts. In your application\, explain why you would be a good fit for the Freshman Officer role. Your application can be up to 300 words long. If applications are of equal quality\, decision-making will emphasize skills most relevant to the role. Motivation for the task and relevant experience\, knowledge\, and skills may also influence the selection. In some cases\, applicants may be interviewed or contacted for additional questions. \nThe selection of Staabi’s personnel follows the equality guidelines. Staabi strives for equality and fairness in its election culture. People from all backgrounds are encouraged and welcomed to apply for board\, team\, and officer positions. When selecting personnel\, any sanctions received according to the equality guidelines may be considered. \nThe response form will be stored in Staabi’s Google Drive. The forms will be deleted by the end of April 2025. \nIMPORTANT! Do not leave the response form open for too long. Please update the form before submitting your response. Responses may not be saved if the form has been open for several hours. We recommend writing your response text in a separate text editor (e.g.\, Word). You will receive a confirmation email for saved responses. \nFor further information about the application: \nMagdalena Honkasalo\, Chair 2025 \nTG: @rapatintti \npuheenjohtaja@staabi.fi \nFor information on the handling of personal data\, please refer to Staab’s privacy and register statement: Staabi Privacy Statement
URL:https://staabi.fi/kalenteri/fuksitoimihenkilon-haku/
ATTACH;FMTTYPE=image/png:https://staabi.fi/wp-content/uploads/2025/02/2.png
END:VEVENT
BEGIN:VEVENT
DTSTART;VALUE=DATE:20250221
DTEND;VALUE=DATE:20250303
DTSTAMP:20260423T190547
CREATED:20250221T094333Z
LAST-MODIFIED:20250221T094447Z
UID:230661-1740096000-1740959999@staabi.fi
SUMMARY:Aikuisopiskelijatuutoreiden lisähaku
DESCRIPTION:In English below. \nMITÄ? Aikuisopiskelijatuutoreiden lisähaku!\nMILLOIN? 21.2.-2.3.2025\nMISSÄ? Google forms \nEtsimme lisää kandivaiheen aikuisopiskelijatuutoreita! Aikuisopiskelijatuutorit tuutoroivat aikuisopiskelijoista koostuvaa kandivaiheen fuksiryhmää. Huomioi\, että syksyn 2025 vaihto-opiskelijoille haemme tuutoreita myöhemmin keväällä. \nAikuisopiskelijatuutorina pääset näkemään hieman erilaisen puolen tuutoroinnista\, sillä aikuisopiskelijafukseilla on usein erityistarpeita ja -toiveita esimerkiksi aikataulujen ja aktiviteettitoiveiden puolesta. Aikuisopiskelijatoiminnassa huomioidaan mahdollinen työssäkäynti ja perheellisyys. Aikuisopiskelijoiden tuutorina saat kuitenkin osallistua kaikkiin fuksiviikkojen tapahtumiin ja tuutoreiden keskinäisiin ryhmäytymisiin. \nEtsimme motivoituneita tuutoreita\, jotka ovat sitoutuneet toimimaan tehtävässään koko lukuvuoden 2025–2026. Tuutoreiksi halutaan monipuolisesti erilaisia persoonia. Aiempi kokemus tuutoroinnista tai vastaavasta tehtävästä ei ole välttämätöntä\, sillä tuutorit koulutetaan tehtäviinsä kevään aikana. Tuutoreilta odotetaankin aktiivista osallistumista kevään tuutorkoulutuksiin\, kevään ja kesän yhteisiin tapaamisiin\, tuutoroinnin suunnitteluun ja syksyn tapahtumiin. Koulutuksia järjestetään keväällä sekä Staabin että TREYn toimesta. TREYn koulutusten ajankohdat ovat jo nähtävissä heidän nettisivuillaan. \nTuutorointi alkaa siis jo keväällä ja jatkuu aina lukuvuoden loppuun asti. Toivommekin tuutoreilta sitoutuneisuutta\, läsnäoloa sekä aitoa halua toimia uusien opiskelijoiden tukena ja turvana koko lukuvuoden ajan. Syksyn 2025 orientaatiojakso alkaa 18.8\, jolloin tuutoreiden odotetaan olevan Tampereella tapaamassa uusia opiskelijoita. \nHuomioithan myös\, että Staabissa tuutorvalintoja ohjaa tuutoroinnin ohjesääntö\, joka löytyy Staabin verkkosivuilta kohdasta ”ohjaavat dokumentit”.Mikäli sinulla on kysyttävää hakuun liittyen\, voit laittaa viestiä tuutorvastaavalle osoitteeseen tuutorointi@staabi.fi tai Telegramissa @Sallissr. \n— \nWHAT? New recruitment for adult-student tutors!\nWHEN? 21.2.-2.3.2025\nWHERE? On Google forms \nWe are looking for more adult-student tutors for the 2025 adult-student freshers! Adult-student tutors will tutor a group of bachelor program’s adult freshmen. Please note that we will be searching tutors for Autumn 2025 exchange students later in the spring. \nAs an adult student tutor\, you will get to see a slightly different side of tutoring\, as adult student freshmen often have special needs and requests\, particularly regarding schedules and activity preferences. In adult student sector\, the goal is to fit together studies and possible work or family. However\, as a tutor for adult students\, you will still have the opportunity to participate in all freshman week events and tutor group bonding activities. \nPlease note that all tutors are expected to take part in tutor trainings in March-April\, so prepare time in your calendar for them. Timetable for the trainings can be found on TREY’s website. \nTutor selections will be made by Staabi after the conclusion of the application period. Follow your e-mail after the application period. Chosen tutors will be notified. The Welcome Week for new students starts on August 18\, 2025\, and all tutors are expected to be present in Tampere. \nPlease note that the recruitment is guided by the tutoring guidelines “tuuturoinnin ohjesääntö” that can be found on Staabi’s website. \nIf you have any questions\, feel free to contact the tutor manager on tuutorointi@staabi.fi or @Sallissr on Telegram. 
URL:https://staabi.fi/kalenteri/aikuisopiskelijatuutoreiden-lisahaku/
ATTACH;FMTTYPE=image/png:https://staabi.fi/wp-content/uploads/2025/02/HAE-AIKUISOPISKELIJATUUTORIKSI.png
END:VEVENT
END:VCALENDAR