BEGIN:VCALENDAR
VERSION:2.0
PRODID:-//Staabi ry - ECPv6.15.17.1//NONSGML v1.0//EN
CALSCALE:GREGORIAN
METHOD:PUBLISH
X-WR-CALNAME:Staabi ry
X-ORIGINAL-URL:https://staabi.fi
X-WR-CALDESC:Tapahtumat Staabi ry
REFRESH-INTERVAL;VALUE=DURATION:PT1H
X-Robots-Tag:noindex
X-PUBLISHED-TTL:PT1H
BEGIN:VTIMEZONE
TZID:Europe/Helsinki
BEGIN:DAYLIGHT
TZOFFSETFROM:+0200
TZOFFSETTO:+0300
TZNAME:EEST
DTSTART:20240331T010000
END:DAYLIGHT
BEGIN:STANDARD
TZOFFSETFROM:+0300
TZOFFSETTO:+0200
TZNAME:EET
DTSTART:20241027T010000
END:STANDARD
BEGIN:DAYLIGHT
TZOFFSETFROM:+0200
TZOFFSETTO:+0300
TZNAME:EEST
DTSTART:20250330T010000
END:DAYLIGHT
BEGIN:STANDARD
TZOFFSETFROM:+0300
TZOFFSETTO:+0200
TZNAME:EET
DTSTART:20251026T010000
END:STANDARD
BEGIN:DAYLIGHT
TZOFFSETFROM:+0200
TZOFFSETTO:+0300
TZNAME:EEST
DTSTART:20260329T010000
END:DAYLIGHT
BEGIN:STANDARD
TZOFFSETFROM:+0300
TZOFFSETTO:+0200
TZNAME:EET
DTSTART:20261025T010000
END:STANDARD
END:VTIMEZONE
BEGIN:VEVENT
DTSTART;VALUE=DATE:20250206
DTEND;VALUE=DATE:20250217
DTSTAMP:20260423T190601
CREATED:20250206T145058Z
LAST-MODIFIED:20250207T074649Z
UID:230590-1738800000-1739750399@staabi.fi
SUMMARY:Jäsenistötapahtuman järjestäjätiimiin ilmoittautuminen
DESCRIPTION:In English below \nOnko sinulla mahtava tapahtumaidea\, jonka toteuttamisesta olet aina haaveillut? Tai kiinnostaisiko sinua olla mukana järjestämässä tapahtumaa mukavassa porukassa? Haemme innokkaita tekijöitä suunnittelemaan ja toteuttamaan Staabin jäsenistötapahtumaa 2025! \nMikä on jäsenistötapahtuma? Jäsenistötapahtuma on vapaavalintainen Staabin tapahtuma\, jonka järjestämisestä vastaa jäsenistö. Vuonna 2024 jäsenistötapahtumana toimi kaupunkisota & sauna Varalan opistolla. Jäsenistötapahtumaa varten haetaan nyt toista kertaa omaa tiimiä\, joka vastaa tapahtuman ideoimisesta\, suunnittelusta ja toteutuksesta. Tämän vuoden jäsenistötapahtuma järjestetään elo-syyskuussa 2025. \nKuka voi hakea? Kuka vain Staabin jäsen! Jäsenistötapahtuman järjestämistä varten ei vaadita erityistä aiempaa kokemusta tai osaamista tapahtumien järjestämisestä.Tämä on loistava tilaisuus osallistua Staabin toimintaan ja saada kokemusta tapahtumajärjestämisestä matalalla kynnyksellä. Tiimi vastaa tapahtuman ideoinnista ja toteutuksesta alusta loppuun\, ilmoittautumalla sitoudut vain tämän yhden tapahtuman tai tapahtumakokonaisuuden järjestämiseen – et muuhun tapahtumatoimintaan. \nTiimiin valitaan ilmoittautumisjärjestyksessä. Ilmoittautuminen on auki 6.2.2025 klo 17 alkaen ja päättyy 16.2.2025 klo 23:59 tai silloin\, kun tapahtuman järjestämisestä vastaavassa tiimissä ei ole enää paikkoja. Staabin hallitus voi kuitenkin valintaprosessissa ottaa huomioon yhdenvertaisuusohjesäännön mukaiset mahdolliset kurinpitotoimenpiteet. Tiimiin valitaan tilannekohtaisesti enintään n. 15hlöä. Ilmoittautumisen jälkeen kokoamme ryhmän Telegramiin ja tapahtuman ideointi voidaan aloittaa. \nHakulomakkeen löydät täältä https://docs.google.com/forms/d/e/1FAIpQLSffdq5bOSXaiyLsmk9UgPmEFJaD0w_ZdqtotAs9fVDBhnTWkQ/viewform?usp=sharing \nLisätietoja hausta\, tapahtuman järjestämisestä ja tiimistä saat Magdalena Honkasalolta (puheenjohtaja@staabi.fi ja TG rapatintti). Tapahtuman järjestämisestä vastaavassa tiimissä ovat mukana vapaa-aikatoimihenkilö Aki Rokkonen\, tapahtumatoimihenkilö Pihla Tolppanen ja liikuntatoimihenkilö Verneri Elomaa. \nVastauksia säilytetään Staabin Google Drivessä. Vastaukset ovat vuoden 2025 Staabin hallituksen nähtävillä ja mahdolliset esitetyt tapahtumaideat jaetaan vapaa-aikatoimihenkilö Aki Rokkoselle tapahtumatoimihenkilö Pihla Tolppaselle ja liikuntatoimihenkilö Verneri Elomaalle. Vastaukset poistetaan\, kun tiimi on saatu koottua ja ilmoittautuneisiin ollaan oltu yhteydessä. \nLisätietoja henkilötietojen keräämisestä löytää Staabin tietosuojaselosteesta (staabi.fi) \n// \nDo you have an amazing event idea that you’ve always dreamed of bringing to life? Or would you be interested in helping organize events with a great team? We are looking for enthusiastic individuals to plan and execute Staabi’s 2025 Member Event! \nWhat is the Member Event? The Member Event is a Staabi-organized event planned and executed by its members. In 2024\, the event was a city war & sauna at Varala Institute. For the second time\, we are now assembling a dedicated team to brainstorm\, plan\, and implement the 2025 Member Event\, which will take place between August and September 2025. \nWho can apply? Any Staabi member! No prior experience or special skills in event planning are required.This is a great opportunity to get involved in Staabi’s activities and gain event organization experience in a low-pressure environment. The team will be responsible for the entire process\, from idea creation to execution. By signing up\, you commit only to this single event or event series—not to other event-related responsibilities. \nHow to apply? Team members will be selected on a first-come\, first-served basis. Registration opens on February 6\, 2025\, at 17:00 and closes on February 16\, 2025\, at 23:59 or when all available spots have been filled. The team will consist of approximately 15 members max. However\, Staabi’s board may consider potential disciplinary measures in line with the equality regulations during the selection process. Once registration closes\, the team will be assembled in a Telegram group\, where the planning process will begin. \nYou can find the application form here: https://docs.google.com/forms/d/e/1FAIpQLSffdq5bOSXaiyLsmk9UgPmEFJaD0w_ZdqtotAs9fVDBhnTWkQ/viewform?usp=sharing (Finnish only). \nFor more information about the application\, event organization\, and the team\, contact Magdalena Honkasalo (puheenjohtaja@staabi.fi\, Telegram: rapatintti). The organizing team will include Leisure Officer Aki Rokkonen\, Event Officer Pihla Tolppanen\, and Sports Officer Verneri Elomaa. \nData Processing Notice:\nResponses will be stored in Staabi’s Google Drive and will be accessible to the Staabi board of 2025. Any submitted event ideas will be shared with Leisure Officer Aki Rokkonen\, Event Officer Pihla Tolppanen\, and Sports Officer Verneri Elomaa. All responses will be deleted once the team has been assembled and all applicants have been contacted. \nMore information about data collection can be found in Staabi’s privacy policy (staabi.fi).
URL:https://staabi.fi/kalenteri/6-2-16-2-jasenistotapahtuman-jarjestajatiimiin-ilmoittautuminen/
ATTACH;FMTTYPE=image/png:https://staabi.fi/wp-content/uploads/2025/02/Jasenistotapahtuman-tiimihaku.png
END:VEVENT
BEGIN:VEVENT
DTSTART;TZID=Europe/Helsinki:20250213T180000
DTEND;TZID=Europe/Helsinki:20250213T230000
DTSTAMP:20260423T190601
CREATED:20250122T123208Z
LAST-MODIFIED:20250204T152221Z
UID:230498-1739469600-1739487600@staabi.fi
SUMMARY:Meemi-kaverisitsit
DESCRIPTION:In English below \nMITÄ? Staabin Meemi-kaverisitsit!\nMISSÄ? Messukylän Työväentalo (Messukylänkatu 47)\nMILLOIN? Torstaina 13.2. klo 18 alkaen\nKENELLE? Staabeille ja heidän ihkuille ystävilleen!\nMITÄ MAKSAA? Kaverin kanssa 32€ ja yksin 16€!\nPUKUKOODI? Haalarit + teeman mukainen asustus!\nJATKOT? Kaijakassa!\nLIPUT?  Myynti alkaa 27.1. klo 16!\nKIDEAPP: https://kide.app/events/07a8a484-7f5f-4a6c-bd34-34deb1b9610f \nMikä legendaarinen meemi kuvastaa teidän ystävyyttänne? Samaistutko kenties Britney Spearsiin romahduksen partaalla\, Pepe the frogiin vai Drakeen? Vai kuvastaako mielentilaanne kenties täysi tonnin seteli -ilme? Pukeudu siis hulvattomimmaksi meemiksi ja tule sitsaamaan Staabin kaverisitseille! Kaverisitsit ovat täydellinen mahdollisuus esitellä ystävällesi Staabin upeaa sitsikulttuuria! \nSitseille on myynnissä yhteislippuja kaverin kanssa tuleville sekä muutama lippu niille staabilaisille\, jotka haluavat tulla nauttimaan hyvästä meiningistä ja tutustumaan uusiin tyyppeihin. Kaikkiin lippuihin sisältyy sitseillä tarjottavat ruoat sekä juomat. Yhden Staabin lippu on 16€ ja lippu kaverille sekä Staabille on 32€! \nLipun oston yhteydessä kysytään juoma-\, ruoka- ja allergiatiedot. Otathan etukäteen selvää kaverisi ruoka- ja juomatoiveista sekä mahdollisista erityisruokavalioista.Tapahtuma ei valitettavasti ole esteetön. Työväentalon sisäänkäynnillä on portaat\, alakerrassa sijaitseviin vessoihin on portaat\, eikä esteetöntä wc:tä ole. \nLisätietoja tapahtumasta ja sen kestävyydestä saat tapahtumavastaavilta Mikolta ja Petralta\, joko tapahtumat@staabi.fi tai Telegramissa @MikkoSainio tai @VarjusPetra. \nGRAFFAKIITOS: Aliisa Sorvari \nStaabin tapahtumien löytötavaroita säilytetään 3kk tapahtuman jälkeen\, jonka jälkeen ne hävitetään kierrätysmahdollisuuksia hyödyntäen. Arvotavarat toimitetaan poliisille. \nMitä tehdä\, jos näet tai koet epäasiallista käytöstä Staabin toimintaympäristössä?\n– Tapahtumissa häirintä-\, kiusaamis ja epäasiallisissa tilanteissa yhteyshenkilönä toimivat palautetyöryhmän jäsenet. Palautetyöryhmään kuuluvat puheenjohtaja Magdalena Honkasalo\, koulutuspoliittinen vastaava ja varapuheenjohtaja Veera Saukkonen\, tuutor- ja yhdenvertaisuusvastaava Sallamari Roti ja yritys- ja työelämävastaava Tomi Pirinen. Mikäli palautetyöryhmän jäseniä ei ole paikalla\, voit ottaa yhteyttä muuhun hallituksen jäseneen.\n– Tapahtumien jatkoina olevat baarit eivät kuulu Staabin viralliseen toimintaympäristöön\, jolloin häiritsevästä käyttäytymisestä tulee ilmoittaa ensisijaisesti ravintolan henkilökunnalle.\n– Tapahtuman ulkopuolella voit ottaa yhteyttä tukihenkilöön. Staabin tukihenkilöinä toimii Selma Murtonen ja Anni Kalmari. Tukihenkilöt käsittelevät yhteydenotot tapahtuman ulkopuolella ja heidät tavoittaa parhaiten joko Telegramissa @selmisss ja @annikalmari tai sähköpostitse tukiselma@staabi.fi ja tukianni@staabi.fi. .\n– Halutessasi voit myös ottaa yhteyttä TREY:n häirintäyhdyshenkilöön sähköpostilla\, puhelimitse tai TREYn häirintälomakkeella. Yhteystiedot löytyvät TREYn verkkosivuilta.\n– Häiritsevästä käytöksestä voit myös ilmoittaa Staabin verkkosivuilta löytyvän häirintälomakkeen kautta. Häirintälomakkeet menevät yhdenvertaisuusvastaavalle ja ovat vain yhdenvertaisuusvastaavan luettavissa. \nKokemukset ovat yksilöllisiä ja toimenpiteet tapauskohtaisia. Jokainen yhteydenotto käsitellään luottamuksellisesti ja jatkotoimenpiteisiin ryhdytään vain sinun suostumuksellasi. \n————————– \nWHAT? Bring-A-Friend sitsit\, theme: memes\nWHERE? Messukylän Työväentalo (Messukylänkatu 47)\nWHEN? Thu 13.2. starting at 6pm\nTO WHOM? Students of Staabi and their lovely friends!\nCOST? With a friend 32€ and alone 16€\nWHAT TO WEAR? Overalls + meme-themed outfit\nAFTERPARTY? At Kaijakka!\nTICKET SALE? The sale starts 27.1. klo 16!\nKIDEAPP: https://kide.app/events/07a8a484-7f5f-4a6c-bd34-34deb1b9610f \nWhich legendary meme represents your friendship? Do you perhaps relate to Britney Spears on the verge of a breakdown\, Pepe the Frog\, or Drake? Or maybe your state of mind is best captured by the iconic ”thousand-yard stare”? Dress up as your most hilarious meme and join us for Staabi’s friend-themed sitsit! These friend-sitsit are the perfect opportunity to introduce your friend to Staabi’s amazing sitsi-culture! \nPlease note that this event will be held in Finnish. Despite a possible language barrier you are most welcome to participate! \nAll tickets include food and drinks. When buying the ticket you can choose an alcoholic or non-alcoholic menu. You will also be asked about allergies. \nThe event is unfortunately not accessible. Messukylän Työväentalo’s entrance has stairs\, and the bathroom located downstairs does not have an accessible bathroom.\nIf you have any questions\, contact event organizers by email tapahtumat@staabi.fi or in Telegram @VarjusPetra and @MikkoSainio \nThanks for the graphs goes to Aliisa Sorvari \nWhat to do if you see or experience inappropriate behavior in Staabi’s operating environment?\n– For incidents of harassment\, bullying and inappropriate situations\, members of the feedback team are the contact point. The feedback team consists of Magdalena Honkasalo\, Veera Saukkonen\, Sallamari Roti\, and Tomi Pirinen. If the members of the feedback group are not present\, you can contact another board member.\n– Bars that are continuations of events are not part of Staabi’s official operating environment\, in which case disturbing behavior should be reported primarily to the restaurant’s staff.\n– Outside the event\, you can contact a support person. Staabi’s support persons are Selma Murtonen and Anni Kalmari. The support person handle contacts outside the events and are best reached on Telegram @selmisss and @annikalmari or by e-mail tukiselma@staabi.fi and tukianni@staabi.fi.\n– If you wish\, you can also contact TREY’s harassment contact person by email\, phone or using TREY’s harassment form. Contact information can be found on TREY’s website.\n– You can also report disruptive behavior via the harassment form found on Staabi’s website. Harassment forms go to the equality officer and can only be read by the equality officer. \nExperiences are individual and measures are case-specific. Every contact is treated confidentially and further measures are taken only with your consent. Found items from Staabi’s events are stored for three months after the event\, after which they are disposed of using recycling opportunities. Valuables are delivered to the police.
URL:https://staabi.fi/kalenteri/meemi-kaverisitsit/
ATTACH;FMTTYPE=image/png:https://staabi.fi/wp-content/uploads/2025/01/Meemi-kaverisitsit.png
END:VEVENT
END:VCALENDAR