BEGIN:VCALENDAR
VERSION:2.0
PRODID:-//Staabi ry - ECPv6.15.17.1//NONSGML v1.0//EN
CALSCALE:GREGORIAN
METHOD:PUBLISH
X-ORIGINAL-URL:https://staabi.fi
X-WR-CALDESC:Tapahtumat Staabi ry
REFRESH-INTERVAL;VALUE=DURATION:PT1H
X-Robots-Tag:noindex
X-PUBLISHED-TTL:PT1H
BEGIN:VTIMEZONE
TZID:Europe/Helsinki
BEGIN:DAYLIGHT
TZOFFSETFROM:+0200
TZOFFSETTO:+0300
TZNAME:EEST
DTSTART:20240331T010000
END:DAYLIGHT
BEGIN:STANDARD
TZOFFSETFROM:+0300
TZOFFSETTO:+0200
TZNAME:EET
DTSTART:20241027T010000
END:STANDARD
BEGIN:DAYLIGHT
TZOFFSETFROM:+0200
TZOFFSETTO:+0300
TZNAME:EEST
DTSTART:20250330T010000
END:DAYLIGHT
BEGIN:STANDARD
TZOFFSETFROM:+0300
TZOFFSETTO:+0200
TZNAME:EET
DTSTART:20251026T010000
END:STANDARD
BEGIN:DAYLIGHT
TZOFFSETFROM:+0200
TZOFFSETTO:+0300
TZNAME:EEST
DTSTART:20260329T010000
END:DAYLIGHT
BEGIN:STANDARD
TZOFFSETFROM:+0300
TZOFFSETTO:+0200
TZNAME:EET
DTSTART:20261025T010000
END:STANDARD
END:VTIMEZONE
BEGIN:VEVENT
DTSTART;VALUE=DATE:20250120
DTEND;VALUE=DATE:20250204
DTSTAMP:20260423T202026
CREATED:20250117T164316Z
LAST-MODIFIED:20250129T121115Z
UID:230489-1737331200-1738627199@staabi.fi
SUMMARY:Hallintotieteiden tuutorhaku 2025
DESCRIPTION:In English below \nMITÄ? Hallintotieteiden tuutorhaku\nMILLOIN? 20.1.-3.2.2025\nMISSÄ? TREYn Google forms \nHallintotieteiden tuutorhaku on auki! Voit hakea kandivaiheen tuutoriksi\, kandivaiheen aikuisopiskelijatuutoriksi\, maisterituutoriksi tai kansainväliseksi tuutoriksi. Hakuaika on 20.1.–3.2.2025. Hakemaan pääset täyttämällä TREYn tuutorhakulomakkeen. Huomioi\, että syksyn 2025 vaihto-opiskelijoille haemme tuutoreita myöhemmin keväällä maaliskuussa. \nMuista korostaa hakemuksessa sitä\, oletko kiinnostunut aikuisopiskelija- vai kandivaiheen tuutoroinnista! Tätä ei siis suoraan kysytä\, joten se tulisi itse ilmaista jossain kohtaa hakemusta. Jos haet kandivaiheen tuutoriksi\, kerro myös oletko kiinnostunut toimimaan kontaktituutorina. Kontaktituutori toimii yhteyshenkilönä tuutorvastaavan ja tuutorryhmän välillä. \nUuden opiskelijan ensiaskeleet yliopistossa antavat suunnan yhteisöön kiinnittymiseen\, opinnoissa menestymiseen ja hyvinvointiin. Tuutorina olet tärkeässä roolissa tukemassa fukseja heidän saapuessaan Tampereen yliopistoon. Pääset mahdollistamaan uusille opiskelijoille ikimuistoisia hetkiä\, jotka kantavat heitä opiskeluvuosien halki. Voit samalla kehittää itse esimerkiksi vuorovaikutus- ja projektinhallintataitojasi. Saat arvokkaita kokemuksia\, riemukkaita muistoja\, uusia ystäviä ja opintopisteitä. Hyppää siis rohkeasti mukaan! \nEtsimme motivoituneita tuutoreita\, jotka ovat sitoutuneet toimimaan tehtävässään koko lukuvuoden 2025–2026. Tuutoreiksi halutaan monipuolisesti erilaisia persoonia. Aiempi kokemus tuutoroinnista tai vastaavasta tehtävästä ei ole välttämätöntä\, sillä tuutorit koulutetaan tehtäviinsä kevään aikana. Tuutoreilta odotetaankin aktiivista osallistumista kevään tuutorkoulutuksiin\, kevään ja kesän yhteisiin tapaamisiin\, tuutoroinnin suunnitteluun ja syksyn tapahtumiin. Koulutuksia järjestetään keväällä sekä Staabin että TREYn toimesta. TREYn koulutusten ajankohdat ovat jo nähtävissä heidän nettisivuillaan. \nTuutorointi alkaa siis jo keväällä ja jatkuu aina lukuvuoden loppuun asti. Toivommekin tuutoreilta sitoutuneisuutta\, läsnäoloa sekä aitoa halua toimia uusien opiskelijoiden tukena ja turvana koko lukuvuoden ajan. Syksyn 2025 orientaatiojakso alkaa 18.8\, jolloin tuutoreiden odotetaan olevan Tampereella tapaamassa uusia opiskelijoita. \nPerinteisesti hakemuksia on tullut paljon ja karsintaa on jouduttu tekemään. Varaa siis hakemuksen täyttämiseen riittävästi aikaa ja lue hakuohjeet huolellisesti. Valinnoista ilmoitetaan hakijoille helmikuun loppuun mennessä. Huomioithan myös\, että Staabissa tuutorvalintoja ohjaa tuutoroinnin ohjesääntö\, joka löytyy Staabin verkkosivuilta kohdasta ”ohjaavat dokumentit”. \nMikäli sinulla on kysyttävää kansalliseen tuutorointiin liittyen\, voit laittaa viestiä hallituksen tuutorvastaavalle osoitteeseen tuutorointi@staabi.fi tai Telegramissa @Sallissr. \nKansainväliseen tuutorointiin liittyen voit olla yhteydessä kansainväliseen tuutortoimihenkilöön Jeremiah Allrediin osoitteessa internationaltutoring@staabi.fi tai Telegramissa @jeremiallred \n————- \nWHAT? Staabi’s tutor recruitment\nWHEN? 20.1.-3.2.2025\nWHERE? On Google forms \nApply to be a national or international degree tutor! \nThe application period for international and national degree programme tutors is January 20 – February 3\, 2025. Fill in TREY’s tutor application. Please note that we will be searching tutors for autumn 2025 exchange students later in the spring in March. \nSuccessful studies\, integration into the community and well-being are all strongly rooted in the first steps a student takes on the university campus. New students are supported in these by tutors. We are looking for a fresh batch of tutors for the international and national students of degree programmes starting their studies here in August 2025. By taking part\, you can develop your organization and interaction skills while getting to know new people from all over the world. You will be able to create unforgettable moments for your freshers while gathering valuable experiences\, joyful memories\, new friends and study credits. Hop on board! \nPlease note that all tutors are expected to take part in tutor trainings in March-April\, so prepare time in your calendar for them. Timetable for the trainings can be found on TREY’s website. \nTutor selections will be made by Staabi after the conclusion of the application period. Follow your e-mail after the application period. Chosen tutors will be notified. The Welcome Week for new students starts on August 18\, 2025\, and all tutors are expected to be present in Tampere. \nIf you have any questions\, feel free to contact internationaltutoring@staabi.fi or @jeremiallred on Telegram.
URL:https://staabi.fi/kalenteri/hallintotieteiden-tuutorhaku-2025/
ATTACH;FMTTYPE=image/png:https://staabi.fi/wp-content/uploads/2025/01/Tuutorihaku-2025-FIN-esitys.png
END:VEVENT
END:VCALENDAR