BEGIN:VCALENDAR
VERSION:2.0
PRODID:-//Staabi ry - ECPv6.15.17.1//NONSGML v1.0//EN
CALSCALE:GREGORIAN
METHOD:PUBLISH
X-WR-CALNAME:Staabi ry
X-ORIGINAL-URL:https://staabi.fi
X-WR-CALDESC:Tapahtumat Staabi ry
REFRESH-INTERVAL;VALUE=DURATION:PT1H
X-Robots-Tag:noindex
X-PUBLISHED-TTL:PT1H
BEGIN:VTIMEZONE
TZID:Europe/Helsinki
BEGIN:DAYLIGHT
TZOFFSETFROM:+0200
TZOFFSETTO:+0300
TZNAME:EEST
DTSTART:20240331T010000
END:DAYLIGHT
BEGIN:STANDARD
TZOFFSETFROM:+0300
TZOFFSETTO:+0200
TZNAME:EET
DTSTART:20241027T010000
END:STANDARD
BEGIN:DAYLIGHT
TZOFFSETFROM:+0200
TZOFFSETTO:+0300
TZNAME:EEST
DTSTART:20250330T010000
END:DAYLIGHT
BEGIN:STANDARD
TZOFFSETFROM:+0300
TZOFFSETTO:+0200
TZNAME:EET
DTSTART:20251026T010000
END:STANDARD
BEGIN:DAYLIGHT
TZOFFSETFROM:+0200
TZOFFSETTO:+0300
TZNAME:EEST
DTSTART:20260329T010000
END:DAYLIGHT
BEGIN:STANDARD
TZOFFSETFROM:+0300
TZOFFSETTO:+0200
TZNAME:EET
DTSTART:20261025T010000
END:STANDARD
END:VTIMEZONE
BEGIN:VEVENT
DTSTART;VALUE=DATE:20250113
DTEND;VALUE=DATE:20250121
DTSTAMP:20260423T201822
CREATED:20250113T110857Z
LAST-MODIFIED:20250113T110857Z
UID:230481-1736726400-1737417599@staabi.fi
SUMMARY:Tiimien lisähaku
DESCRIPTION:MITÄ? Lisähaku liikunta- ja tapahtumatiimeihin 2025\nMILLOIN? 13.1.2025 klo 18:00 -20.1.2025 klo 23:59.\nMISSÄ? Google Forms: https://forms.gle/UE9eqzK4pGZLrGoQ6 \nHaluatko päästä mukaan vaikuttamaan Staabin toimintaan vuonna 2025? Kiinnostaako matalan kynnyksen puuhastelua kivassa porukassa tai etsitkö tekemistä opintojen ohelle? Lähde muiden toimijoiden mukaan rakentamaan Staabia ja jätä oma kädenjälkesi vuoteen 2025! \nEtsimme tässä haussa lisäkäsiä Staabin rakkaaseen tapahtumatiimiin\, tunnetummin boolimafiaan sekä Staabin liikuntatiimiin! \nTiimiläisenä sinulla on erinomaiset mahdollisuudet päästä vaikuttamaan ja toteuttamaan Staabin toimintaa. Tiimiläiset osallistuvat toiminnan toteuttamiseen aina ideoinnista järjestämiseen asti. Pestissä kuin pestissä pääset tutustumaan uusiin ihmisiin ja tekemään merkityksellistä työtä mukavassa porukassa. Tiimiläisenä pääset myös itse vaikuttamaan työmäärään ja sen jakautumiseen\, oman jaksamisen mukaan. \nTAPAHTUMATIIMI ELI BOOLIMAFIA\nStaabi tunnetaan upeasta ja monipuolisesta tapahtumatarjonnastaan\, ja näiden tapahtumien takana on Staabin oma tapahtumatiimi\, Boolimafia! Boolimafia vastaa siitä\, että Staabin bileet\, sitsit\, kulttuuritapahtumat sekä suurimmat juhlat\, kuten vappu- ja fuksiviikot\, ovat unohtumattomia. \nBoolimafialaisena toimit tärkeänä apukätenä tapahtumavastaaville\, liikunta- ja vapaa-aikavastaavalle\, projektivastaavalle ja tapahtumatoimihenkilölle. Työskentelet mukana tapahtumien ideoinnissa\, suunnittelussa ja käytännön järjestelyissä alusta loppuun saakka. Tämän tiimin jäsenenä pääset paitsi oppimaan uutta myös tapaamaan aktiivisesti oman sektorisi toimijoita ja osallistumaan monenlaisiin tapahtumiin\, kuten kolmioetkoihin ja kulttuurielämyksiin. Boolimafialaiset saavat myös mahdollisuuden ostaa oman tiiminsä upean kalastajahatun\, joka on täydellinen symboli tiimiyhteisöstä ja staabilaishengestä. Tule mukaan rakentamaan unohtumattomia tapahtumia\, joista puhutaan vielä pitkään! \nLIIKUNTATIIMI\nLiikuntatiimissä pääset matalalla kynnyksellä mukaan Staabin liikuntasektorin toimintaan. Tiimiläisenä osallistut toiminnan järjestämiseen oman mielenkiintosi ja aikataulusi mukaan. Sektorin toimintaan kuuluu niin säännöllisesti järjestettävät liikunnat (esim. lenkki\, palloiluvuorot) sekä erilaiset kokeilut ja suuremmat tapahtumat. Pääset vaikuttamaan esimerkiksi siihen\, mitä liikuntakokeiluja Staabissa järjestetään. \nHaku aukeaa 13.1. kello 18:00 ja on auki 20.1. kello 23:59 saakka. \nValinnat tehdään hakemustekstien perusteella. Mikäli hakemukset ovat yhtä laadukkaita\, painotetaan päätöksenteossa kyseisen pestin kannalta keskeistä osaamista. Valintaan voi vaikuttaa myös motivaatio tehtävää kohtaan ja tehtävän kannalta relevantiksi katsottu kokemus sekä tiedot ja taidot. \nStaabin toimijoiden valinnoista määritetään yhdenvertaisuusohjesäännössä. Staabin vaalikulttuurissa pyritään yhdenvertaisuuteen ja tasa-arvoisuuteen. Staabin hallitukseen\, tiimeihin sekä toimihenkilöpesteihin toivotaan ja kannustetaan kaikenlaisia toimijoita. Toimijoita valittaessa voidaan ottaa huomioon mahdolliset henkilön saamat yhdenvertaisuusohjesäännön mukaiset sanktiot. \nVastauslomakketta säilytetään Staabin puheenjohtajan Magdalena Honkasalon Google Formsissa. Lomakkeen vastaukset tullaan jakamaan Staabin hallitukselle. Vastaukset poistetaan tiimivalintojen tekemisen jälkeen\, viimeistään helmikuun 2025 aikana. \nHUOM! ETHÄN JÄTÄ VASTAUSLOMAKETTA PITKÄKSI AIKAA AUKI. PÄIVITÄ VASTAUSLOMAKE ENNEN VASTAUKSEN LÄHETTÄMISTÄ. Vastaukset eivät välttämättä tallennu järjestelmään\, mikäli lomake on ollut useamman tunnin kerrallaan auki. Suosittelemme vastaustekstin kirjoittamista erilliseen tekstinkäsittelysovellukseen (esim. Word). \nLisätietoja toimihenkilöistä\, tiimeistä ja hausta:\nMagdalena Honkasalo\nPuheenjohtaja\nTG: @rapatintti\npuheenjohtaja@staabi.fi \nHenkilötietojen käsittely lisätietoja löydät Staabin rekisteri- ja tietosuojaselosteesta: https://staabi.fi/wp-content/uploads/2024/02/Staabi-ry-rekisteri-ja-tietosuojaseloste-2024.pdf 
URL:https://staabi.fi/kalenteri/tiimien-lisahaku/
ATTACH;FMTTYPE=image/png:https://staabi.fi/wp-content/uploads/2025/01/tiimien-lisahaku.png
END:VEVENT
END:VCALENDAR