BEGIN:VCALENDAR
VERSION:2.0
PRODID:-//Staabi ry - ECPv6.15.17.1//NONSGML v1.0//EN
CALSCALE:GREGORIAN
METHOD:PUBLISH
X-WR-CALNAME:Staabi ry
X-ORIGINAL-URL:https://staabi.fi
X-WR-CALDESC:Tapahtumat Staabi ry
REFRESH-INTERVAL;VALUE=DURATION:PT1H
X-Robots-Tag:noindex
X-PUBLISHED-TTL:PT1H
BEGIN:VTIMEZONE
TZID:Europe/Helsinki
BEGIN:DAYLIGHT
TZOFFSETFROM:+0200
TZOFFSETTO:+0300
TZNAME:EEST
DTSTART:20230326T010000
END:DAYLIGHT
BEGIN:STANDARD
TZOFFSETFROM:+0300
TZOFFSETTO:+0200
TZNAME:EET
DTSTART:20231029T010000
END:STANDARD
BEGIN:DAYLIGHT
TZOFFSETFROM:+0200
TZOFFSETTO:+0300
TZNAME:EEST
DTSTART:20240331T010000
END:DAYLIGHT
BEGIN:STANDARD
TZOFFSETFROM:+0300
TZOFFSETTO:+0200
TZNAME:EET
DTSTART:20241027T010000
END:STANDARD
BEGIN:DAYLIGHT
TZOFFSETFROM:+0200
TZOFFSETTO:+0300
TZNAME:EEST
DTSTART:20250330T010000
END:DAYLIGHT
BEGIN:STANDARD
TZOFFSETFROM:+0300
TZOFFSETTO:+0200
TZNAME:EET
DTSTART:20251026T010000
END:STANDARD
END:VTIMEZONE
BEGIN:VEVENT
DTSTART;TZID=Europe/Helsinki:20241211T120000
DTEND;TZID=Europe/Helsinki:20241212T170000
DTSTAMP:20260424T222325
CREATED:20240904T120203Z
LAST-MODIFIED:20241001T101230Z
UID:229868-1733918400-1734022800@staabi.fi
SUMMARY:Pistot x Kolmiot Bileristeily
DESCRIPTION:TOOOT TOOOOT\nRexcun lisäksi loppuvuonna päästään laineille vielä yhdeksi yöksi! PISTOT X KOLMIOT -bileristeily järjestetään 11.-12.12. Risteilylle on myynnissä 4 hengen hyttejä sekä yksittäisiä hyttipaikkoja. Mikäli ostat yksittäisen hyttipaikan\, voit lisätä hyttikaveritoiveen. Lippuun tulee valita vähintään yksi ruokailu (illallis- tai aamiaisbuffet) per henkilö.Laivalla meille esiintyy upea Erika Vikman \nLippuun sisältyy bussikyyti Hakametsän jäähallilta Turun satamaan ja takaisin. Bussit lähtevät Hakametsältä 11.12. noin klo 16 sekä palaavat takaisin Tampereelle 12.12. noin klo 22:30.Liput kilahtavat myyntiin 2.10. klo 10. Huom! Min. 1 ruokailu ostettava (aamiais- tai illallisbuffet). \nJos eli kun voimia vielä on rissen tanssilattian jälkeen\, voi siirtyä jatkoille Kolmioille Ravintolamaailmaan\n(lippu ostettava erikseen) \nMITÄ? PISTOT X KOLMIOT Bilerisse\nMILLOIN? 11.-12.12.\nMIKSI? KOSKA RISSE\nHINTA? ALKAEN 60 €\nLIPUT? Kide.App 2.10. klo 10 https://kide.app/events/b5d023e6-bd11-4122-9f52-0ec99c83b9d3 \n——– \nTOOOT TOOOOT \nIt’s time to gather your cabin crew and get ready for PISTOT X KOLMIOT -party cruise\, which will sail 11.-12.12. 4-person cabins and individual cabin spots are available for the cruise. If you purchase an individual spot\, you can add a cabin mate request. Each ticket must include at least one meal (dinner or breakfast buffet) per person.On board\, we’ll be treated to a live performance by the amazing Erika Vikman \nYour ticket includes bus transportation from Hakametsän jäähalli to the Port of Turku and back. Buses will depart from Hakametsä on 11.12. around 16:00 and return to Tampere on 12.12. around 22:30.Tickets go on sale on October 2nd at 10:00. Note: A minimum of one meal (breakfast or dinner buffet) must be purchased with the ticket. \nIf the cruise dance floor hasn’t worn you out\, you can continue the party at Kolmiot in Ravintolamaailma (separate ticket required). \nWHAT? PISTOT X KOLMIOT Party Cruise\nWHEN? December 11th-12th\nWHY? BECAUSE CRUISE\nPRICE? Starting from 60€\nTICKETS? Kide.App on October 2nd at 10:00
URL:https://staabi.fi/kalenteri/pistot-x-kolmiot-bileristeily/
ATTACH;FMTTYPE=image/jpeg:https://staabi.fi/wp-content/uploads/2024/09/IMG_0372.jpg
END:VEVENT
BEGIN:VEVENT
DTSTART;TZID=Europe/Helsinki:20241211T150000
DTEND;TZID=Europe/Helsinki:20241211T170000
DTSTAMP:20260424T222325
CREATED:20241122T132209Z
LAST-MODIFIED:20241122T135938Z
UID:230294-1733929200-1733936400@staabi.fi
SUMMARY:Staabi vs. Man@ger suuri fuksitaistelu
DESCRIPTION:FI / EN \nMITÄ? Staabin fuksit Vs. Man@gerin fuksit lipunryöstöä\nMISSÄ? Sorsapuistossa🦆🦆\nMILLOIN? 11.12. klo 15-17\nKENELLE? Staabin ja Man@gerin fukseille🩶💚\nMITÄ PUETAAN PÄÄLLE? Säänmukainen varustus + haalarit🌬️\nMITÄ MAKSAA? Ei mitään! \nFuksisyksy lähenee loppuaan ja vuoden viimeiset deadlinet ennen lomille lähtöä painavat vauhdilla päälle😵‍💫🥶🥴 Mikä sen parempi tapa valmistautua jouluun kuin päästää hieman stressihöyryjä pois alta??🎄 \nMan@gerin ja Staabin tuutorsektoreilta löytyy tilanteeseen ratkaisu😳 Nimittäin poikkitieteellistä LIPUNRYÖSTÖÄ Sorsapuistossa hallintotieteiden ja tietojohtamisen fuksuen voimin🔥🏁 Tapahtumaan ilmoittautuminen löytyy täältä: https://forms.office.com/e/JCggHnERf3 \nLisätietoja tapahtumasta saat tuutorvastaavalta @rapatintti / tuutorointi@staabi.fi. \nEsteettömystiedot: Tapahtuma pidetään Sorsapuistossa\, jossa liikkuminen voi olla haastavaa sää- ja lumiolosuhteista riippuen. Lähin inva-wc löytyy Tampere-talolta. \nLöytötavaroita säilytetään 1kk tapahtuman jälkeen\, jonka jälkeen ne hävitetään kierrätysmahdollisuuksia hyödyntäen. Arvotavarat toimitetaan poliisille. \n*** \nMitä tehdä\, jos näet tai koet epäasiallista käytöstä Staabin toimintaympäristössä?\n– Tapahtumien järjestäjä toimii yhteyshenkilönä häirintätilanteessa tapahtuma-aikana. Jos et ole varma\, kuka on tapahtuman järjestäjä\, voit ilmoittaa puheenjohtajalle tai yhdenvertaisuusvastaavalle.\n– Tapahtumien jatkoina olevat baarit eivät kuulu Staabin viralliseen toimintaympäristöön\, jolloin häiritsevästä käyttäytymisestä tulee ilmoittaa ensisijaisesti ravintolan henkilökunnalle.\n– Tapahtuman ulkopuolella voit ottaa yhteyttä tukihenkilöön. Staabin tukihenkilöitä ovat Riikka Hämäläinen ja Ville Jaara. Tukihenkilöt käsittelevät yhteydenotot tapahtuman ulkopuolella ja heidät tavoittaa parhaiten sähköpostitse tukiriikka@staabi.fi ja tukiville@staabi.fi. TG: @riikkahamalainen ja @jaaraville\n– Halutessasi voit myös ottaa yhteyttä TREY:n häirintäyhdyshenkilöön sähköpostilla\, puhelimitse tai TREYn häirintälomakkeella. Yhteystiedot löytyvät TREYn verkkosivuilta.\n– Häiritsevästä käytöksestä voit myös ilmoittaa Staabin verkkosivuilta löytyvän häirintälomakkeen kautta. Häirintälomakkeet menevät yhdenvertaisuusvastaavalle ja ovat vain yhdenvertaisuusvastaavan luettavissa.\nKokemukset ovat yksilöllisiä ja toimenpiteet tapauskohtaisia. Jokainen yhteydenotto käsitellään luottamuksellisesti ja jatkotoimenpiteisiin ryhdytään vain sinun suostumuksellasi. \n——– \nWHAT? Capture the Flag: Staabi Freshmen vs. Man@ger Freshmen\nWHERE? Sorsapuisto🦆🦆\nWHEN? December 11th\, 3–5 PM\nFOR WHOM? Staabi and Man@ger freshmen 🩶💚\nWHAT TO WEAR? Weather-appropriate clothing + overalls 🌬️\nCOST? Nothing! \nThe freshman fall is nearing its end\, and the final deadlines of the year are rushing in before the holidays😵‍💫🥶🥴. What better way to prepare for Christmas than to blow off some steam??🎄 \nThe tutor sectors of Man@ger and Staabi have the perfect solution😳: an interdisciplinary CAPTURE THE FLAG event in Sorsapuisto\, bringing together administrative sciences and industrial engineering freshmen!🔥🏁 You can sign up for the event here: \nFor more information\, contact tutoring organizer at @rapatintti / tuutorointi@staabi.fi. \nAccessibility Information: The event will take place in Sorsapuisto\, where mobility may be challenging depending on weather and snow conditions. The nearest accessible toilet is located in Tampere Hall. \nLost items will be stored for one month after the event\, after which they will be recycled if possible. Valuables will be handed over to the police. \n*** \nWhat to do if you see or experience inappropriate behavior in Staabi’s operating environment?\n– The event organizer acts as a contact person in the event of a disturbance during the event. If you are not sure who is the organizer of the event\, you can inform the chairman or the person in charge of equality.\n– Bars that are continuations of events are not part of Staabi’s official operating environment\, in which case disturbing behavior should be reported primarily to the restaurant’s staff.\n– Outside the event\, you can contact a support person. Staabi’s support persons are Riikka Hämäläinen and Ville Jaara. The support person handle contacts outside the events and are best reached by e-mail tukiriikka@staabi.fi and tukiville@staabi.fi TG: @riikkahamalainen and @jaaraville\n– If you wish\, you can also contact TREY’s harassment contact person by email\, phone or using TREY’s harassment form. Contact information can be found on TREY’s website.\n– You can also report disruptive behavior via the harassment form found on Staabi’s website. Harassment forms go to the equality officer and can only be read by the equality officer.\nExperiences are individual and measures are case-specific. Every contact is treated confidentially and further measures are taken only with your consent.
URL:https://staabi.fi/kalenteri/staabi-vs-manger-suuri-fuksitaistelu/
ATTACH;FMTTYPE=image/png:https://staabi.fi/wp-content/uploads/2024/11/Staabi-vs-Manager.png
END:VEVENT
END:VCALENDAR