BEGIN:VCALENDAR
VERSION:2.0
PRODID:-//Staabi ry - ECPv6.15.17.1//NONSGML v1.0//EN
CALSCALE:GREGORIAN
METHOD:PUBLISH
X-ORIGINAL-URL:https://staabi.fi
X-WR-CALDESC:Tapahtumat Staabi ry
REFRESH-INTERVAL;VALUE=DURATION:PT1H
X-Robots-Tag:noindex
X-PUBLISHED-TTL:PT1H
BEGIN:VTIMEZONE
TZID:Europe/Helsinki
BEGIN:DAYLIGHT
TZOFFSETFROM:+0200
TZOFFSETTO:+0300
TZNAME:EEST
DTSTART:20230326T010000
END:DAYLIGHT
BEGIN:STANDARD
TZOFFSETFROM:+0300
TZOFFSETTO:+0200
TZNAME:EET
DTSTART:20231029T010000
END:STANDARD
BEGIN:DAYLIGHT
TZOFFSETFROM:+0200
TZOFFSETTO:+0300
TZNAME:EEST
DTSTART:20240331T010000
END:DAYLIGHT
BEGIN:STANDARD
TZOFFSETFROM:+0300
TZOFFSETTO:+0200
TZNAME:EET
DTSTART:20241027T010000
END:STANDARD
BEGIN:DAYLIGHT
TZOFFSETFROM:+0200
TZOFFSETTO:+0300
TZNAME:EEST
DTSTART:20250330T010000
END:DAYLIGHT
BEGIN:STANDARD
TZOFFSETFROM:+0300
TZOFFSETTO:+0200
TZNAME:EET
DTSTART:20251026T010000
END:STANDARD
END:VTIMEZONE
BEGIN:VEVENT
DTSTART;TZID=Europe/Helsinki:20241121T210000
DTEND;TZID=Europe/Helsinki:20241122T050000
DTSTAMP:20260425T160215
CREATED:20241104T140123Z
LAST-MODIFIED:20241104T140123Z
UID:230206-1732222800-1732251600@staabi.fi
SUMMARY:Hollywood Kolmiot
DESCRIPTION:Marraskuun yöt ovat täynnä tähtien kimallusta ja glamouria\, kun marraskuun Kolmiot saapuvat. Pue yllesi parasta Hollywoodia – punainen matto odottaa juuri sinua! \nMITÄ: Hollywood Kolmiot\nMISSÄ: Ranta & Poro\, Hatanpään valtatie 1\nMILLOIN: 21.11. klo 21-05\nVAPAAEHTOINEN PUKUKOODI: HollywoodNäissä bileissä taas jaossa haalarimerkkejä!!ENNAKKOLIPUT: maanantaina 11.11.\, hinta 7€ (sis. narikan)\nKlo 10 Kide.app\nKlo 12 Keskusta\, Päätalon ala-aula (Alakuppilan vieressä) & Hervanta\, Sähkötalon aula\nLIPUT OVELTA: Bilepäivänä hintaan 9€ (sis. narikan). Liputtomien jonosta kävijöitä otetaan sisälle klo 24 jälkeen\, tai tätä ennen\, jos lipullisten jonossa ei ole porukkaa! \nNähdään Kolmioilla! \n——— \nNovember nights are sparkling with stars and glamour as November’s Kolmioparty arrives with theme Hollywood – the red carpet awaits you! \nWHAT: Hollywood Kolmiot\nWHERE: Ranta & Poro\, Hatanpään valtatie 1\nWHEN: November 21st\, 9 PM – 5 AM\nDRESS CODE (optional): Hollywood GlamPRE-SALE TICKETS: Monday\, November 11th\, €7 (includes cloakroom)\n10 AM via Kide.app\n12 PM at  City Center\, Päätalo lower lobby (next to Alakuppila) & Hervanta\, Sähkötalo lobby\nDOOR TICKETS: €9 (includes cloakroom) on event day. Entry from the no-ticket line starts after midnight or earlier if the ticket line clears. \nSee you at Kolmiot!
URL:https://staabi.fi/kalenteri/hollywood-kolmiot/
ATTACH;FMTTYPE=image/png:https://staabi.fi/wp-content/uploads/2024/11/FB-marraskuu24.png
END:VEVENT
BEGIN:VEVENT
DTSTART;TZID=Europe/Helsinki:20241122T180000
DTEND;TZID=Europe/Helsinki:20241122T220000
DTSTAMP:20260425T160215
CREATED:20241017T123949Z
LAST-MODIFIED:20241022T074621Z
UID:230083-1732298400-1732312800@staabi.fi
SUMMARY:Aikuisopiskelijoiden sitsit
DESCRIPTION:This event will be held in Finnish \nMITÄ? Aikuisopiskelijoiden sitsit eli akateeminen pöytäjuhla\nMISSÄ? Bommari\, Hervannan kampuksen Rakennustalossa. Kulku väestönsuojaan hissillä. Korkeakoulunkatu 7\, Tampere\nMILLOIN? 22.11.2024 klo 18 alkaen\nKENELLE? Hallintotieteiden aikuisopiskelijoille. Aikuisopiskelijalle ei ole ikärajaa. Ei vaadi Staabin jäsenyyttä.\nMIKSI? Aikuisempaa juhlahumua ja opiskelijaelämää kaipaaville opiskelijoille\nMITÄ MAKSAA? 10 e ilman Staabin laulukirjaa\, 15 e laulukirjan kanssa\nMITÄ PUETAAN PÄÄLLE? Pukuteema: -ari. Pukeudu joksikin –ari-loppuiseksi\, esim. maalari\, rokkari jne. Saa laittaa myös haalarit jalkaan jos sattuu ne omistamaan. Eli yläosa voi olla pukuteeman mukainen ja jalassa haalarit.\nLIPUT: myynti alkaa Kide.app-sovelluksessa 23.10. klo 17.00 https://kide.app/events/83c841fa-8cf1-4969-af05-7ca3587c5589 \nJäikö harkkasitsit väliin? Tai haluaisitko sitsaamaan pienemmällä aikuisporukalla? Toiveisiisi vastataan 22.11. kun aikuisopiskelijat pääsevät sitsaamaan aidossa opiskelijajuhlatunnelmassa Bommarissa! \nSitsit ovat akateeminen pöytäjuhla\, jossa on laulua\, ruokaa\, juomaa\, yllätyksiä ja seurustelua. Lippu sisältää alku-\, pää- ja jälkiruoan sekä yhteisen alkujuoman (myös holiton). Näillä sitseillä tingitään sen verran perinteisistä tavoista\, että edullisimman mahdollisen yhteisen juomatarjoilun sijaan tuodaan omat juomat\, jotta kaikki saavat nautiskella mieleisistään juomista. Huomioithan\, että ruoka ei ole täyttävintä\, joten ethän saavu sitseille tyhjin vatsoin. Juhla kestää noin kolme tuntia. \nVirallista jatkopaikkaa ei ole valittu. Jos kiinnostuneita jatkoille lähtijöitä löytyy\, he voivat valita suuntansa mielensä mukaan. \nTilaan esteetön kulku tapahtuu Rakennustalon kautta\, josta alas pääsee hissillä ja kulku luiskaa pitkin. Tilasta ei kuitenkaan valitettavasti löydy esteetöntä vessaa (lähin inva-wc Tamppi-Areenalla). \nLisätietoja tapahtumasta ja kestävyyden huomioimisesta saat aikuisopiskelijatoimihenkilö Samolta: samo.pohja@tuni.fi tai Telegramissa @samoilija \nMuistathan ottaa tapahtumaan mukaan oman kestomukin! \nGRAFFAKIITOS: Victoria Patshijew \nStaabin tapahtumien löytötavaroita säilytetään 3kk tapahtuman jälkeen\, jonka jälkeen ne hävitetään kierrätysmahdollisuuksia hyödyntäen. Arvotavarat toimitetaan poliisille. \nMitä tehdä\, jos näet tai koet epäasiallista käytöstä Staabin toimintaympäristössä?\n– Tapahtumissa häirintä-\, kiusaamis ja epäasiallisissa tilanteissa yhteyshenkilönä toimivat palautetyöryhmän jäsenet. Palautetyöryhmään kuuluvat puheenjohtaja Ada Siikaluoma\, kolmiovastaava ja varapuheenjohtaja Ella Lavaste\, tuutor- ja yhdenvertaisuusvastaava Magdalena Honkasalo ja projektivastaava Akseli Laiho. Mikäli palautetyöryhmän jäseniä ei ole paikalla\, voit ottaa yhteyttä muuhun hallituksen jäseneen.\n– Tapahtumien jatkoina olevat baarit eivät kuulu Staabin viralliseen toimintaympäristöön\, jolloin häiritsevästä käyttäytymisestä tulee ilmoittaa ensisijaisesti ravintolan henkilökunnalle.\n– Tapahtuman ulkopuolella voit ottaa yhteyttä tukihenkilöön. Staabin tukihenkilöinä toimii Riikka Hämäläinen ja Ville Jaara. Tukihenkilöt käsittelevät  yhteydenotot tapahtuman ulkopuolella ja heidät tavoittaa parhaiten joko Telegramissa @riikkahamalainen ja @jaaraville tai sähköpostitse tukiriikka@staabi.fi ja tukiville@staabi.fi. .\n– Halutessasi voit myös ottaa yhteyttä TREY:n häirintäyhdyshenkilöön sähköpostilla\, puhelimitse tai TREYn häirintälomakkeella. Yhteystiedot löytyvät TREYn verkkosivuilta.\n– Häiritsevästä käytöksestä voit myös ilmoittaa Staabin verkkosivuilta löytyvän häirintälomakkeen kautta. Häirintälomakkeet menevät yhdenvertaisuusvastaavalle ja ovat vain yhdenvertaisuusvastaavan luettavissa. \nKokemukset ovat yksilöllisiä ja toimenpiteet tapauskohtaisia. Jokainen yhteydenotto käsitellään luottamuksellisesti ja jatkotoimenpiteisiin ryhdytään vain sinun suostumuksellasi.
URL:https://staabi.fi/kalenteri/aikuisopiskelijoidensitsit/
ATTACH;FMTTYPE=image/png:https://staabi.fi/wp-content/uploads/2024/10/aikuis_sitsit.png
END:VEVENT
END:VCALENDAR