BEGIN:VCALENDAR
VERSION:2.0
PRODID:-//Staabi ry - ECPv6.15.17.1//NONSGML v1.0//EN
CALSCALE:GREGORIAN
METHOD:PUBLISH
X-WR-CALNAME:Staabi ry
X-ORIGINAL-URL:https://staabi.fi
X-WR-CALDESC:Tapahtumat Staabi ry
REFRESH-INTERVAL;VALUE=DURATION:PT1H
X-Robots-Tag:noindex
X-PUBLISHED-TTL:PT1H
BEGIN:VTIMEZONE
TZID:Europe/Helsinki
BEGIN:DAYLIGHT
TZOFFSETFROM:+0200
TZOFFSETTO:+0300
TZNAME:EEST
DTSTART:20230326T010000
END:DAYLIGHT
BEGIN:STANDARD
TZOFFSETFROM:+0300
TZOFFSETTO:+0200
TZNAME:EET
DTSTART:20231029T010000
END:STANDARD
BEGIN:DAYLIGHT
TZOFFSETFROM:+0200
TZOFFSETTO:+0300
TZNAME:EEST
DTSTART:20240331T010000
END:DAYLIGHT
BEGIN:STANDARD
TZOFFSETFROM:+0300
TZOFFSETTO:+0200
TZNAME:EET
DTSTART:20241027T010000
END:STANDARD
BEGIN:DAYLIGHT
TZOFFSETFROM:+0200
TZOFFSETTO:+0300
TZNAME:EEST
DTSTART:20250330T010000
END:DAYLIGHT
BEGIN:STANDARD
TZOFFSETFROM:+0300
TZOFFSETTO:+0200
TZNAME:EET
DTSTART:20251026T010000
END:STANDARD
END:VTIMEZONE
BEGIN:VEVENT
DTSTART;TZID=Europe/Helsinki:20241112T120000
DTEND;TZID=Europe/Helsinki:20241112T140000
DTSTAMP:20260425T154044
CREATED:20241104T142843Z
LAST-MODIFIED:20241105T102213Z
UID:230212-1731412800-1731420000@staabi.fi
SUMMARY:Toimiston avajaiset
DESCRIPTION:In English below \nMITÄ? Staabin uuden toimiston avajaiset\nMISSÄ? Päätalo A027b\nMILLOIN? 12.11. klo 12-14\nMIKSI? Juhlistaaksemme historiallista siirtymää 40 neliöiseen ainejärjestötilaan \nArvoisa jäsenistön edustaja! Toivotamme sinut mitä lämpimämmin tervetulleeksi Staabi ry:n uudelle toimistolle osoitteeseen Päätalo A027b. Toimiston punainen nauha leikataan kello 12\, jonka jälkeen tarjolla on pullaa ja muuta herkullista leivonnaista\, pientä ohjelmaa sekä Staabin toimiston kuuluisaa kahvia. Tervetuloa! \nMikäli kysyttävää tai huolia herää tapahtumaan liittyen\, ole rohkeasti yhteydessä tapahtuman järjestäjään varapuheenjohtaja Ellaan laittamalla sähköpostia osoitteeseen kolmiovastaava@staabi.fi tai viestittämällä Telegramissa @kolmiotati. \n***\nEsteettömystiedot: Tilaan on esteetön kulku. Inva-wc löytyy sekä samasta kerroksesta kuin toimisto\, että kerrosta ylempää. \nGraffakiitos: Magdalena Honkasalo\n*** \nMitä tehdä\, jos näet tai koet epäasiallista käytöstä Staabin toimintaympäristössä?\n– Tapahtumissa häirintä-\, kiusaamis ja epäasiallisissa tilanteissa yhteyshenkilönä toimivat palautetyöryhmän jäsenet. Palautetyöryhmään kuuluvat puheenjohtaja Ada Siikaluoma\, kolmiovastaava ja varapuheenjohtaja Ella Lavaste\, tuutor- ja yhdenvertaisuusvastaava Magdalena Honkasalo ja projektivastaava Akseli Laiho. Mikäli palautetyöryhmän jäseniä ei ole paikalla\, voit ottaa yhteyttä muuhun hallituksen jäseneen.\n– Tapahtumien jatkoina olevat baarit eivät kuulu Staabin viralliseen toimintaympäristöön\, jolloin häiritsevästä käyttäytymisestä tulee ilmoittaa ensisijaisesti ravintolan henkilökunnalle.\n– Tapahtuman ulkopuolella voit ottaa yhteyttä tukihenkilöön. Staabin tukihenkilöinä toimii Riikka Hämäläinen ja Ville Jaara. Tukihenkilöt käsittelevät  yhteydenotot tapahtuman ulkopuolella ja heidät tavoittaa parhaiten joko Telegramissa @riikkahamalainen ja @jaaraville tai sähköpostitse tukiriikka@staabi.fi ja tukiville@staabi.fi. .\n– Halutessasi voit myös ottaa yhteyttä TREY:n häirintäyhdyshenkilöön sähköpostilla\, puhelimitse tai TREYn häirintälomakkeella. Yhteystiedot löytyvät TREYn verkkosivuilta.\n– Häiritsevästä käytöksestä voit myös ilmoittaa Staabin verkkosivuilta löytyvän häirintälomakkeen kautta. Häirintälomakkeet menevät yhdenvertaisuusvastaavalle ja ovat vain yhdenvertaisuusvastaavan luettavissa.\nKokemukset ovat yksilöllisiä ja toimenpiteet tapauskohtaisia. Jokainen yhteydenotto käsitellään luottamuksellisesti ja jatkotoimenpiteisiin ryhdytään vain sinun suostumuksellasi. \n—— \nWHAT?  The grand opening of Staabi’s new office\nWHERE?  Päätalo A027b\nWHEN?  12.11.  from 12:00 to 14:00\nWHY?  To celebrate our historic move to a 40-square-meter office \nDear member of Staabi!  We wish you a warm welcome to Staabi ry’s new office’s opening ceremony at Päätalo A027b.  The doors will open at 12 o’clock\, after which buns and other delicious pastries will be served alongside with Staabi’s famous coffee.  Welcome! \nFor extra questions regarding the event you can contact Staabi’s vice chair Ella at kolmiovastaava@staabi.fi or on Telegram @kolmiotati. \n***\nThe event space is accessible. \nThanks for the graphs go to Magdalena Honkasalo.\n*** \nWhat to do if you see or experience inappropriate behavior in Staabi’s operating environment?\n– For incidents of harassment\, bullying and inappropriate situations\, members of the feedback team are the contact point. The feedback team consists of Ada Siikaluoma (Chairperson)\, Ella Lavaste (Kolmiot Manager and Vice-Chairperson)\, Magdalena Honkasalo (Tutoring and Equality Manager)\, and Akseli Laiho (Project Manager). If the members of the feedback group are not present\, you can contact another board member.\n– Bars that are continuations of events are not part of Staabi’s official operating environment\, in which case disturbing behavior should be reported primarily to the restaurant’s staff.\n– Outside the event\, you can contact a support person. Staabi’s support persons are Riikka Hämäläinen and Ville Jaara. The support person handle contacts outside the events and are best reached on Telegram @riikkahamalainen and @jaaraville or by e-mail tukiriikka@staabi.fi and tukiville@staabi.fi.\n– If you wish\, you can also contact TREY’s harassment contact person by email\, phone or using TREY’s harassment form. Contact information can be found on TREY’s website.\n– You can also report disruptive behavior via the harassment form found on Staabi’s website. Harassment forms go to the equality officer and can only be read by the equality officer.\nExperiences are individual and measures are case-specific. Every contact is treated confidentially and further measures are taken only with your consent.
URL:https://staabi.fi/kalenteri/toimiston-avajaiset/
ATTACH;FMTTYPE=image/png:https://staabi.fi/wp-content/uploads/2024/11/Kappaleen-teksti-5.png
END:VEVENT
BEGIN:VEVENT
DTSTART;TZID=Europe/Helsinki:20241112T170000
DTEND;TZID=Europe/Helsinki:20241112T190000
DTSTAMP:20260425T154044
CREATED:20241104T143547Z
LAST-MODIFIED:20241104T143547Z
UID:230209-1731430800-1731438000@staabi.fi
SUMMARY:Minigolf-kokeilu
DESCRIPTION:In English below \nMITÄ? Minigolf kokeilu\nMISSÄ? Hohtogolf Ratina\nMILLOIN? 12.11 klo 17\nKENELLE? Staabeille\nMITÄ MAKSAA? 8 €\nMITÄ PUETAAN PÄÄLLE? Minigolffiin sopivat vaatteet\nKIDE.APP? Liput tulevat myyntiin 5.11 klo 12 https://kide.app/events/fefcf4c0-52e5-442d-a51d-833e9fd1bff9 \nHei! Kaipaatko pientä irtiottoa arjen kiireistä ja mukavaa tekemistä kavereiden kanssa? Tule mukaan kokeilemaan minigolfia ja anna itsellesi hetki rentoutumiseen sekä hauskanpitoon! Liikuntasektori on kuunnellut toiveitanne ja järjestää nyt minigolfin kokeilukerran\, jossa pääset näyttämään taitosi ja nauttimaan leikkimielisestä kisailusta! \nTapahtuma ei ole esteetön\, sillä tapahtuma on urheilutapahtuma. \nLisätietoa tapahtumasta saat liikuntatoimihenkilöltä Antti Kumpulainen\, antti.kumpulainen@tuni.fi\, Telegram: @AnttiKumpulainen \nRatinan Hohtogolfin sisäänkäynnin löydät kauppakeskuksen P1 kerroksesta. \nGRAFFAKIITOS: Victoria Patshijew \nMitä tehdä\, jos näet tai koet epäasiallista käytöstä Staabin toimintaympäristössä?\n– Tapahtumissa häirintä-\, kiusaamis ja epäasiallisissa tilanteissa yhteyshenkilönä toimivat palautetyöryhmän jäsenet. Palautetyöryhmään kuuluvat puheenjohtaja Ada Siikaluoma\, kolmiovastaava ja varapuheenjohtaja Ella Lavaste\, tuutor- ja yhdenvertaisuusvastaava Magdalena Honkasalo ja projektivastaava Akseli Laiho. Mikäli palautetyöryhmän jäseniä ei ole paikalla\, voit ottaa yhteyttä muuhun hallituksen jäseneen.\n– Tapahtumien jatkoina olevat baarit eivät kuulu Staabin viralliseen toimintaympäristöön\, jolloin häiritsevästä käyttäytymisestä tulee ilmoittaa ensisijaisesti ravintolan henkilökunnalle.\n– Tapahtuman ulkopuolella voit ottaa yhteyttä tukihenkilöön. Staabin tukihenkilöinä toimii Riikka Hämäläinen ja Ville Jaara. Tukihenkilöt käsittelevät yhteydenotot tapahtuman ulkopuolella ja heidät tavoittaa parhaiten joko Telegramissa @riikkahamalainen ja @jaaraville tai sähköpostitse tukiriikka@staabi.fi ja tukiville@staabi.fi. .\n– Halutessasi voit myös ottaa yhteyttä TREY:n häirintäyhdyshenkilöön sähköpostilla\, puhelimitse tai TREYn häirintälomakkeella. Yhteystiedot löytyvät TREYn verkkosivuilta.\n– Häiritsevästä käytöksestä voit myös ilmoittaa Staabin verkkosivuilta löytyvän häirintälomakkeen kautta. Häirintälomakkeet menevät yhdenvertaisuusvastaavalle ja ovat vain yhdenvertaisuusvastaavan luettavissa.\nKokemukset ovat yksilöllisiä ja toimenpiteet tapauskohtaisia. Jokainen yhteydenotto käsitellään luottamuksellisesti ja jatkotoimenpiteisiin ryhdytään vain sinun suostumuksellasi. \n————————– \nWHAT? Minigolf\nWHERE? Hohtogolf Ratina\nWHEN? 12.11 time 17.00\nTO WHOM? Staabi\nCOST? 8 euros\nWHAT TO WEAR? clothes\nKIDE.APP? tickets will be sold 5.11 at 12.00 \nHi! Need a break from the hustle and bustle of everyday life and want to have some fun with friends? Join us for a round of mini-golf and give yourself a moment to relax and enjoy! The sports sector has listened to your requests and is now organizing a mini-golf trial event\, where you can show off your skills and enjoy some friendly competition! \nThe event is not barrier-free\, as the event is a sporting event. \nYou can get more information about the event from sports officer Antti Kumpulainen\, antti.kumpulainen@tuni.fi\, Telegram: @AnttiKumpulainenhttps://kide.app/events/fefcf4c0-52e5-442d-a51d-833e9fd1bff9 \nWhat to do if you see or experience inappropriate behavior in Staabi’s operating environment?\n– For incidents of harassment\, bullying and inappropriate situations\, members of the feedback team are the contact point. The feedback team consists of Ada Siikaluoma (Chairperson)\, Ella Lavaste (Kolmiot Manager and Vice-Chairperson)\, Magdalena Honkasalo (Tutoring and Equality Manager)\, and Akseli Laiho (Project Manager). If the members of the feedback group are not present\, you can contact another board member.\n– Bars that are continuations of events are not part of Staabi’s official operating environment\, in which case disturbing behavior should be reported primarily to the restaurant’s staff.\n– Outside the event\, you can contact a support person. Staabi’s support persons are Riikka Hämäläinen and Ville Jaara. The support person handle contacts outside the events and are best reached on Telegram @riikkahamalainen and @jaaraville or by e-mail tukiriikka@staabi.fi and tukiville@staabi.fi.\n– If you wish\, you can also contact TREY’s harassment contact person by email\, phone or using TREY’s harassment form. Contact information can be found on TREY’s website.\n– You can also report disruptive behavior via the harassment form found on Staabi’s website. Harassment forms go to the equality officer and can only be read by the equality officer.\nExperiences are individual and measures are case-specific. Every contact is treated confidentially and further measures are taken only with your consent.Found items from Staabi’s events are stored for three months after the event\, after which they are disposed of using recycling opportunities. Valuables are delivered to the police.
URL:https://staabi.fi/kalenteri/minigolf-kokeilu/
ATTACH;FMTTYPE=image/png:https://staabi.fi/wp-content/uploads/2024/11/liikunta_marraskuu.png
END:VEVENT
END:VCALENDAR