BEGIN:VCALENDAR
VERSION:2.0
PRODID:-//Staabi ry - ECPv6.15.17.1//NONSGML v1.0//EN
CALSCALE:GREGORIAN
METHOD:PUBLISH
X-WR-CALNAME:Staabi ry
X-ORIGINAL-URL:https://staabi.fi
X-WR-CALDESC:Tapahtumat Staabi ry
REFRESH-INTERVAL;VALUE=DURATION:PT1H
X-Robots-Tag:noindex
X-PUBLISHED-TTL:PT1H
BEGIN:VTIMEZONE
TZID:Europe/Helsinki
BEGIN:DAYLIGHT
TZOFFSETFROM:+0200
TZOFFSETTO:+0300
TZNAME:EEST
DTSTART:20230326T010000
END:DAYLIGHT
BEGIN:STANDARD
TZOFFSETFROM:+0300
TZOFFSETTO:+0200
TZNAME:EET
DTSTART:20231029T010000
END:STANDARD
BEGIN:DAYLIGHT
TZOFFSETFROM:+0200
TZOFFSETTO:+0300
TZNAME:EEST
DTSTART:20240331T010000
END:DAYLIGHT
BEGIN:STANDARD
TZOFFSETFROM:+0300
TZOFFSETTO:+0200
TZNAME:EET
DTSTART:20241027T010000
END:STANDARD
BEGIN:DAYLIGHT
TZOFFSETFROM:+0200
TZOFFSETTO:+0300
TZNAME:EEST
DTSTART:20250330T010000
END:DAYLIGHT
BEGIN:STANDARD
TZOFFSETFROM:+0300
TZOFFSETTO:+0200
TZNAME:EET
DTSTART:20251026T010000
END:STANDARD
END:VTIMEZONE
BEGIN:VEVENT
DTSTART;TZID=Europe/Helsinki:20241105T100000
DTEND;TZID=Europe/Helsinki:20241107T170000
DTSTAMP:20260425T160027
CREATED:20240910T100533Z
LAST-MODIFIED:20240910T100533Z
UID:229889-1730800800-1730998800@staabi.fi
SUMMARY:Legendaarinen Ruotsin Excu 2024
DESCRIPTION:In English below \nMISSÄ: Silja Serenade \,TRE-HKI-STH-HKI-TRE\nMILLOIN: TI 5.11. – TO 7.11.\nMITEN MUKAAN: Staabin\, Iltakoulun ja Ma@gerin jäsenille lipunmyynti kide.appissa 19.9. klo 12\nMIKSI: Jotta lapsenlapsille olisi jotain kerrottavaa ja koska luulit\, että tällainen sekoilu on lopetettu\nKIDE.APP? https://kide.app/events/1709a714-2156-42e4-b586-f1f7ecce089f \nLegendaarinen Ruotsin Excu palaa jälleen! Tänä vuonna risteilylle lähtevät mukaan Boomi\, Staabi\, Iltakoulu ja Man@ger. Matka alkaa tiistaina 5.11. ja takaisin Tampereelle palataan torstaina 7.11. Perinteisellä Ruotsin Exculla pääset kokemaan muun muassa ruotsalaista kulttuuria\, hyttibileitä ja illallisbuffetin viinihanat. Kaikkea\, mistä on kuullut paljon\, mutta jonka voi täysin ymmärtää vasta osallistuttuaan! \nHintaa tälle elämykselle tulee Staabin jäsenille 95 €. Staabin\, Iltakoulun ja Man@gerin ilmoittautumiset ja lipunmyynti on sähköisesti Kide.App-palvelussa 19.9. klo 12:00 alkaen. Näiden ainejärjestöjen ilmoittautuminen ja lipunmyynti päättyy 21.9. klo 23:55. Tälle reissulle ei haalareita oteta mukaan\, vaan ne jätetään kotiin. Buffetissa pukukoodina cocktail!Jos haluat lisätietoja tapahtumasta\, voit ottaa yhteyttä sähköpostitse osoitteeseen matkat@boomi.fi \nNÄR BÖRJAR?! \nAIKATAULU JA OHJELMA\nTarkempi ja yksityiskohtaisempi tapahtuma-aikataulu julkaistaan myöhemmin. \nMITEN MUKAAN?\nStaabin\, Iltakoulun ja Man@gerin lipunmyynti:\nReissun hinta on 95 euroa sisältäen bussikuljetukset\, risteilyn hyttimajoituksella ja ensimmäisen illan buffet-ruokailun.\nLipunmyynti alkaa Kide.appissa 19.9. klo 12:00. Lipunmyynti päättyy 21.9. klo 23:55.\nNettilipunmyynnissä voit ostaa yhden (1)\, kaksi (2) tai neljä (4) lippua. Huomioithan\, että jokaisessa lippukategoriassa näkyvä hinta on yhden lipun hinta. Lopullinen hinta päivittyy automaattisesti valitun kategorian mukaan lisätessäsi tuotteen ostoskoriin.\nMikäli ostat lipun hyttikaverillesi niin varmistathan\, että sinulla on ostotapahtuman hetkellä kaikki tarvittavat tiedot lipun ostamiseen: matkustajien etu- ja sukunimet\, syntymäajat\, sähköpostit ja puhelinnumerot. Kun olet saanut lipun ostoskoriisi\, sinulla on 25 minuuttia aikaa täyttää matkustajien tiedot. Ajan ylittyessä lippu poistuu ostoskoristasi ja palautuu myyntiin. \nAinejärjestösi lipunmyynnissä voit ilmoittautua myös itsenäisesti ostamalla yksittäisen lipun\, mutta tällöin voimme yhdistellä hyttiporukoita suuremmiksi myös ainejärjestöjen välillä\, sillä hytit ovat neljän hengen hyttejä. Mikäli ostat nettilipunmyynnistä yksittäisiä lippuja\, niin ilmoitathan ostotapahtuman jälkeen mahdolliset toiveesi hyttikavereista osoitteeseen matkat@boomi.fi. \nHUOM TÄRKEÄÄ: Jos ostat lipun muun kuin oman ainejärjestön lipunmyynnistä\, lippu myydään eteenpäin eikä rahoja palauteta takaisin. Lipun ostaneen henkilön jäsenyys ko. ainejärjestöön tarkistetaan. Jos haluaa muodostaa sekahytin eri ainejärjestöjen kesken\, ostakaa liput omista lipunmyynneistänne ja ilmoittakaa hyttien yhdistämisestä matkat@boomi.fi. \nTAPAHTUMAN SÄÄNNÖT\nPidetään tapahtuma kaikille turvallisena ja häirinnästä vapaana. Boomilla on nollatoleranssihäirinnälle ja epäasialliselle kohtelulle. Jos kuitenkin havaitset epäsopivaa käytöstä\, voitottaa yhteyttä Boomin häirintätukihenkilöihin. Halutessasi voit myös ottaa yhteyttä TREY:nhäirintäyhdyshenkilöihin hairinta@trey.fi. Osallistumalla tapahtumaan sitoudut myösnoudattamaan Boomin turvallisemman tilanperiaatteita. Tapahtuman järjestäjällä on oikeuspoistaa häiritsevästi käyttäytyvä henkilötapahtumasta.\nOstamalla lipun tapahtumaan hyväksyt\, että olet tietoinen ja tutustunut Tallink konsernin järjestyssääntöihin\, jotka ovat voimassa Tallink Siljan laivoissa. Ostamalla tapahtuman lipun hyväksyt myös olevasi itse vastuussa järjestyssääntöjen noudattamisesta. Järjestyssääntöihin voit tutustua osoitteessa https://fi.tallink.com/jarjestyssaannot-laivoilla.\nMatkanjärjestäjä Boomi ry ei ole vastuussa matkustajan toiminnasta laivalla. Matkanjärjestäjä pidättää oikeuden kaikenlaisiin muutoksiin Ruotsin Excu 2024 -tapahtumaa koskien. \n////////// \nWHERE: Silja Serenade\, TRE-HKI-STH-HKI-TRE\nWHEN: 5.11. – 7.11.\nHOW TO JOIN: For members of Staabi\, Iltakoulu and Man@ger tickets from kide.app 19.9. 12.00.\nKIDE.APP? https://kide.app/events/1709a714-2156-42e4-b586-f1f7ecce089f \nThis traditional cruise to Stockholm brings together students from Tampere University.\nIn November Boomi\, Staabi\, Iltakoulu and Man@ger conquer the Baltic Sea with Tallink’s cruise ship Silja Symphony. The trip includes cabin parties with your friends\, a buffet dinner\, disco on board\, adventures in Stockholm etc… Departure to the cruise is on November 5th and we’ll return to Tampere on November 7th. You won’t need your overalls with you on this trip. The dress code for the buffet dinner is cocktail and for the rest of the trip it’s free dress! \nA more specific itinerary to follow! \nHOW CAN I JOIN TO THE TRIP?\nIf you are a member of Staabi\, iltakoulu or Man@ger\, you can buy tickets for 95€ from your organization’s kide.app sale from September 19th to September 21st or however long tickets last.\nThe cost of the ticket includes the whole cruise experience. Kide.app links are listed below.\nYou can either buy one or a total of 4 tickets. If you buy a ticket for your cabin mate\, please make sure that you have all the necessary information to buy a ticket at the time of purchase: passengers’ first and last names\, dates of birth\, e-mails\, and phone numbers. \nRULES\nLet’s keep the event safe for everyone and free from harassment. Boomi has zero tolerance for harassment and inappropriate behavior. However\, if you encounter inappropriate behavior\, you can contact Boomi’s harassment support staff. You can contact Boomi’s harassment support staff by email hairinta@boomi.fi. If you wish\, you can also contact TREY’s harassment contact persons harassment@trey.fi. By attending the event\, you also agree to comply with Boomi’s Safer Space Policy. The event organiser has the right to remove a disruptive person from the event.\nBy purchasing this ticket\, you accept that you are aware of and familiar with the rules & regulations of the Tallink Group\, which are valid on Tallink Silja’s cruisers. By purchasing this ticket\, you also accept that you are responsible for following the rules & regulations. You can find Tallink Group’s rules & regulations at https://fi.tallink.com/jarjestyssaannot-laivoilla\nThe tour event organizer reserves the right to make any changes regarding the Ruotsin Excu 2024 event. \nIf you want additional information about the event\, please contact me by e-mail at matkat@boomi.fi.
URL:https://staabi.fi/kalenteri/legendaarinen-ruotsin-excu-2024/
ATTACH;FMTTYPE=image/jpeg:https://staabi.fi/wp-content/uploads/2024/09/rexcubanneri.jpeg
END:VEVENT
END:VCALENDAR