BEGIN:VCALENDAR
VERSION:2.0
PRODID:-//Staabi ry - ECPv6.15.17.1//NONSGML v1.0//EN
CALSCALE:GREGORIAN
METHOD:PUBLISH
X-ORIGINAL-URL:https://staabi.fi
X-WR-CALDESC:Tapahtumat Staabi ry
REFRESH-INTERVAL;VALUE=DURATION:PT1H
X-Robots-Tag:noindex
X-PUBLISHED-TTL:PT1H
BEGIN:VTIMEZONE
TZID:Europe/Helsinki
BEGIN:DAYLIGHT
TZOFFSETFROM:+0200
TZOFFSETTO:+0300
TZNAME:EEST
DTSTART:20230326T010000
END:DAYLIGHT
BEGIN:STANDARD
TZOFFSETFROM:+0300
TZOFFSETTO:+0200
TZNAME:EET
DTSTART:20231029T010000
END:STANDARD
BEGIN:DAYLIGHT
TZOFFSETFROM:+0200
TZOFFSETTO:+0300
TZNAME:EEST
DTSTART:20240331T010000
END:DAYLIGHT
BEGIN:STANDARD
TZOFFSETFROM:+0300
TZOFFSETTO:+0200
TZNAME:EET
DTSTART:20241027T010000
END:STANDARD
BEGIN:DAYLIGHT
TZOFFSETFROM:+0200
TZOFFSETTO:+0300
TZNAME:EEST
DTSTART:20250330T010000
END:DAYLIGHT
BEGIN:STANDARD
TZOFFSETFROM:+0300
TZOFFSETTO:+0200
TZNAME:EET
DTSTART:20251026T010000
END:STANDARD
END:VTIMEZONE
BEGIN:VEVENT
DTSTART;TZID=Europe/Helsinki:20241024T180000
DTEND;TZID=Europe/Helsinki:20241024T220000
DTSTAMP:20260425T171901
CREATED:20240927T175439Z
LAST-MODIFIED:20240929T100711Z
UID:229948-1729792800-1729807200@staabi.fi
SUMMARY:TLK x Staabi -sitsit
DESCRIPTION:In English below \nMITÄ? TLK x Staabi -sitsit\nMISSÄ? Amos-klubilla\, os. Varastokatu 3\nMILLOIN? 24.10.2024 klo 18 alkaen\nKENELLE? Kaikille poikkitieteellisyydestä kiinnostuneille staabeille!\nMIKSI? Koska poikkitieteellisyys ja Halloween!\nMITÄ MAKSAA? 22€ kolmiolipun kanssa tai 16€ ilman kolmiolippua\nKIDE.APP? Liput tulevat myyntiin 7.10. klo 7.30 https://kide.app/events/51161329-b65b-451a-8f59-b11aa8645cef\nMITÄ PUETAAN PÄÄLLE? Halloween-teemaan sopivat kuteet + haalarit\nJATKOT? Kolmiot! \nOletko aina halunnut sitsata yhdessä tulevien lääkärien kanssa? Onko viime visiitistäsi Amos-klubille kulunut jo aikaa\, vai onko paikka kenties vielä täysin tuntematon? Haluaisitko päästä sitsaamaan muidenkin kuin staabien kanssa? Nyt tähän kaikkeen on mahdollisuus\, sillä lokakuussa sitsaamme yhdessä TLK:n kanssa Amos-klubilla! \nPoikkitieteelliset TLK x Staabi -sitsit järjestetään halloween-teemalla. Kaiva siis kaapin perällä lojuva halloween-rekvisiittasi esiin ja pukeudu teemaan! Liput sitseille myydään 7.10. klo 7.30. Lippuja on myynnissä kahdessa eri lipputyypissä: kolmiolipun kanssa (22€) sekä ilman kolmiolippua (16€). \nTapahtuma ei valitettavasti ole esteetön. Amos-klubille kuljetaan portaita pitkin eli hissiä ei ole. Lisätietoja tapahtumasta sekä sen kestävyyden huomioimisesta saat Staabin tapahtumavastaavilta Emmalta ja Hannalta osoitteesta tapahtumat@staabi.fi tai Telegrameista: @Emmajaakola sekä @boolipajala \nGRAFFAKIITOS: Aliisa Sorvari \nMitä tehdä\, jos näet tai koet epäasiallista käytöstä Staabin toimintaympäristössä? \n\nTapahtumissa häirintä-\, kiusaamis ja epäasiallisissa tilanteissa yhteyshenkilönä toimivat palautetyöryhmän jäsenet. Palautetyöryhmään kuuluvat puheenjohtaja Ada Siikaluoma\, kolmiovastaava ja varapuheenjohtaja Ella Lavaste\, tuutor- ja yhdenvertaisuusvastaava Magdalena Honkasalo ja projektivastaava Akseli Laiho. Mikäli palautetyöryhmän jäseniä ei ole paikalla\, voit ottaa yhteyttä muuhun hallituksen jäseneen.\nTapahtumien jatkoina olevat baarit eivät kuulu Staabin viralliseen toimintaympäristöön\, jolloin häiritsevästä käyttäytymisestä tulee ilmoittaa ensisijaisesti ravintolan henkilökunnalle.\nTapahtuman ulkopuolella voit ottaa yhteyttä tukihenkilöön. Staabin tukihenkilöinä toimii Riikka Hämäläinen ja Ville Jaara. Tukihenkilöt käsittelevät  yhteydenotot tapahtuman ulkopuolella ja heidät tavoittaa parhaiten joko Telegramissa @riikkahamalainen ja @jaaraville tai sähköpostitse tukiriikka@staabi.fi ja tukiville@staabi.fi. .\nHalutessasi voit myös ottaa yhteyttä TREY:n häirintäyhdyshenkilöön sähköpostilla\, puhelimitse tai TREYn häirintälomakkeella. Yhteystiedot löytyvät TREYn verkkosivuilta.\nHäiritsevästä käytöksestä voit myös ilmoittaa Staabin verkkosivuilta löytyvän häirintälomakkeen kautta. Häirintälomakkeet menevät yhdenvertaisuusvastaavalle ja ovat vain yhdenvertaisuusvastaavan luettavissa.\n\nKokemukset ovat yksilöllisiä ja toimenpiteet tapauskohtaisia. Jokainen yhteydenotto käsitellään luottamuksellisesti ja jatkotoimenpiteisiin ryhdytään vain sinun suostumuksellasi. \n————— \n\nWHAT? TLK x Staabi -sitsit\nWHERE? At Amos-klubi\, address: Varastokatu 3\nWHEN? October 24\, 2024\, starting at 6:00 PM\nTO WHOM? For all staabis interested in interdisciplinarity!\nWHY? Because interdisciplinarity and Halloween!\nCOST? €22 with Kolmiot-ticket or €16 without Kolmiot-ticket\nKIDE.APP? Tickets go on sale on October 7 at 7:30 AM https://kide.app/events/51161329-b65b-451a-8f59-b11aa8645cef\nWHAT TO WEAR? Halloween-themed outfits + overalls\nAFTERPARTY? At Kolmiot! \nHave you always wanted to sit together with future doctors? Has it been a while since you last visited Amos-klubi\, or is the place perhaps entirely unfamiliar to you? Would you like to sitz with others besides staabis? Now you have the chance\, as in October we will sitz together with TLK at Amos-klubi! \nThe interdisciplinary TLK x Staabi -sitzparty will be held with a Halloween theme. So dig out your Halloween gear from the back of your closet and dress accordingly! Tickets for the sitzparty go on sale on October 7 at 7:30 AM. Tickets are available in two types: with Kolmiot-ticket (22€) and without Kolmiot-ticket (16€).The event will be held only in Finnish. \nUnfortunately\, the event is not accessible. Access to Amos Club is via stairs\, so there is no elevator. For more information about the event and its sustainability considerations\, you can contact the event organizers Emma and Hanna at tapahtumat@staabi.fi or via Telegram: @Emmajaakola and @boolipajala. \nGRAPHIC DESIGN THANKS: Aliisa Sorvari \nWhat to do if you see or experience inappropriate behavior in Staabi’s operating environment? \n\nFor incidents of harassment\, bullying and inappropriate situations\, members of the feedback team are the contact point. The feedback team consists of Ada Siikaluoma (Chairperson)\, Ella Lavaste (Kolmiot Manager and Vice-Chairperson)\, Magdalena Honkasalo (Tutoring and Equality Manager)\, and Akseli Laiho (Project Manager). If the members of the feedback group are not present\, you can contact another board member.\nBars that are continuations of events are not part of Staabi’s official operating environment\, in which case disturbing behavior should be reported primarily to the restaurant’s staff.\nOutside the event\, you can contact a support person. Staabi’s support persons are Riikka Hämäläinen and Ville Jaara. The support person handle contacts outside the events and are best reached on Telegram @riikkahamalainen and @jaaraville or by e-mail tukiriikka@staabi.fi and tukiville@staabi.fi.\nIf you wish\, you can also contact TREY’s harassment contact person by email\, phone or using TREY’s harassment form. Contact information can be found on TREY’s website.\nYou can also report disruptive behavior via the harassment form found on Staabi’s website. Harassment forms go to the equality officer and can only be read by the equality officer.\n\nExperiences are individual and measures are case-specific. Every contact is treated confidentially and further measures are taken only with your consent.
URL:https://staabi.fi/kalenteri/tlk-x-staabi-sitsit/
ATTACH;FMTTYPE=image/png:https://staabi.fi/wp-content/uploads/2024/09/TLKxStaabi-sitsit.png
END:VEVENT
BEGIN:VEVENT
DTSTART;TZID=Europe/Helsinki:20241024T210000
DTEND;TZID=Europe/Helsinki:20241025T050000
DTSTAMP:20260425T171901
CREATED:20241002T115034Z
LAST-MODIFIED:20241002T115034Z
UID:229977-1729803600-1729832400@staabi.fi
SUMMARY:All Red -Kolmiot
DESCRIPTION:Syksyn illat tummenevat ja ensimmäinen periodi lähenee loppuaan\, mutta ei huolta! Lokakuun Kolmiot tulevat tuomaan punaista hehkua pimeneviin päiviisi Ranta & Porossa 24.10. sillä tällä kertaa teemana on All Red.Heittäydy täysillä mukaan pukeutumalla päästä varpaisiin punaiseen ja anna juhlahumun temmata mukaansa! \nMITÄ: All Red -Kolmiot\nMISSÄ: Ranta & Poro\, Hatanpään valtatie 1\nMILLOIN: 24.10. klo 21-05\nVAPAAEHTOINEN PUKUKOODI: Punaista\nENNAKKOLIPUT: maanantaina 21.10.\, hinta 6 € (sis. narikan)\nKlo 10 Kide.app\nKlo 12 Keskusta\, Päätalon ala-aula (Alakuppilan vieressä) & Hervanta\, Sähkötalon aula\nLIPUT OVELTA: Bilepäivänä hintaan 8 € (sis. narikan). Liputtomien jonosta kävijöitä otetaan sisälle klo 24 jälkeen\, tai tätä ennen\, jos lipullisten jonossa ei ole porukkaa! \n——— \nThe autumn evenings are getting darker\, and the first period is nearing its end\, but don’t worry! October Triangles are here to bring a red glow to your darkening days at Ranta & Poro on 24th October\, and this time the theme is All Red!  Embrace the theme fully by dressing in red from head to toe and let the party spirit take you away! \nWHAT: All Red -Triangles\nWHERE: Ranta & Poro\, Hatanpään valtatie 1\nWHEN: 24th October\, from 9 PM to 5 AM\nOPTIONAL DRESS CODE: Red\nPRESALE TICKETS: Monday\, 21st October\, price 6 € (incl. cloakroom)\n10 AM on Kide.app\n12 PM at Päätalo main lobby (next to Alakuppila) & Hervanta\, Sähkötalo lobby & City Center\nTICKETS AT THE DOOR: 8€ on the event day (incl. cloakroom). Guests without tickets will be let in after midnight\, or earlier if there’s no queue for ticket holders!
URL:https://staabi.fi/kalenteri/all-red-kolmiot/
ATTACH;FMTTYPE=image/png:https://staabi.fi/wp-content/uploads/2024/10/Nimeton-malli-3.png
END:VEVENT
END:VCALENDAR