BEGIN:VCALENDAR
VERSION:2.0
PRODID:-//Staabi ry - ECPv6.15.17.1//NONSGML v1.0//EN
CALSCALE:GREGORIAN
METHOD:PUBLISH
X-ORIGINAL-URL:https://staabi.fi
X-WR-CALDESC:Tapahtumat Staabi ry
REFRESH-INTERVAL;VALUE=DURATION:PT1H
X-Robots-Tag:noindex
X-PUBLISHED-TTL:PT1H
BEGIN:VTIMEZONE
TZID:Europe/Helsinki
BEGIN:DAYLIGHT
TZOFFSETFROM:+0200
TZOFFSETTO:+0300
TZNAME:EEST
DTSTART:20230326T010000
END:DAYLIGHT
BEGIN:STANDARD
TZOFFSETFROM:+0300
TZOFFSETTO:+0200
TZNAME:EET
DTSTART:20231029T010000
END:STANDARD
BEGIN:DAYLIGHT
TZOFFSETFROM:+0200
TZOFFSETTO:+0300
TZNAME:EEST
DTSTART:20240331T010000
END:DAYLIGHT
BEGIN:STANDARD
TZOFFSETFROM:+0300
TZOFFSETTO:+0200
TZNAME:EET
DTSTART:20241027T010000
END:STANDARD
BEGIN:DAYLIGHT
TZOFFSETFROM:+0200
TZOFFSETTO:+0300
TZNAME:EEST
DTSTART:20250330T010000
END:DAYLIGHT
BEGIN:STANDARD
TZOFFSETFROM:+0300
TZOFFSETTO:+0200
TZNAME:EET
DTSTART:20251026T010000
END:STANDARD
END:VTIMEZONE
BEGIN:VEVENT
DTSTART;TZID=Europe/Helsinki:20241018T180000
DTEND;TZID=Europe/Helsinki:20241019T230000
DTSTAMP:20260425T171814
CREATED:20240911T113739Z
LAST-MODIFIED:20240911T113739Z
UID:229912-1729274400-1729378800@staabi.fi
SUMMARY:Staabin 58. vuosijuhlat
DESCRIPTION:In English below \nOlet lämpimästi tervetullut juhlistamaan kanssamme Tampereen yliopiston hallintotieteitä opiskelevien yhdistyksen Staabi ry:n 58-vuotista taivalta perjantaina 18.10.2024 Nokian Kerholaan kello 18 alkaen. \nIllan aikana pääsemme nauttimaan kolmen ruokalajin illallisesta\, arvokkaista juhlapuheista sekä jakamaan ansaittuja tunnustuksia jäsenistöllemme. Kerholassa ei ole baaria\, mutta omien juomien tuominen iltajuhlatilaan on sallittua. Huomioithan kuitenkin juhlan arvokkaan luonteen harkitessasi mahdollisia omia juomia. \nKutsuvieraille tarkoitettu cocktail-tilaisuus järjestetään kello 16 alkaen Nokian Kerholassa. Seuraavana päivänä\, lauantaina 19.10.2024 jatkamme juhlintaa salaisessa lokaatiossa silliaamiaisen merkeissä. \nLipunmyynti vuosijuhlille alkaa maanantaina 23.9. klo 18. Ilmoittautuminen tapahtuu Kide.appin kautta ja itse maksu tulee suorittaa Staabin tilille. Illalliskortin hinta on Staabin jäsenelle (sis. alumnit) 100 euroa ja ei-staabille 120 euroa. Illalliskorttiin sisältyy myös seuraavan päivän silliaamiainen. Vuosijuhlien rajallisen kapasiteetin takia juhlat on suunnattu vuonna 2023 tai sitä aiemmin opintonsa aloittaneille. \nLisätietoa vuosijuhlista saat lähestymällä vuosijuhlavastaavaa sähköpostitse vuosijuhla@staabi.fi tai Telegramissa @veerasaukkonen \nMITÄ? Staabi ry:n 58. vuosijuhlat\nMISSÄ? Nokian Kerhola\, Souranderintie 13\, 37100 Nokia\nMILLOIN? Iltajuhla järjestetään perjantaina 18.10.2024 kello 18 alkaen\nLIPUT? https://kide.app/events/69fe00f3-fc72-49cf-8ad9-0ed5f1668f6d\nKENELLE? Opintonsa vuonna 2023 tai aiemmin aloittaneille\nMITÄ MAKSAA? 100 euroa Staabi ry:n jäsenelle (sis. alumnit) ja 120 euroa muille\nMITÄ PUETAAN PÄÄLLE? Iltajuhlan pukukoodi on tumma puku akateemisin kunniamerkein \nNokian Kerhola ei ole täysin esteetön. Pääsisäänkäynnillä on luiska ja ensimmäisestä kerroksesta löytyy inva-WC. Osassa tiloista on kuitenkin korkeita kynnyksiä. \nGRAFFAKIITOS: Niko Ranta \nTapahtumien kestävyyden huomioimisesta saat halutessasi tietoa vuosijuhlien järjestäjältä Telegramissa @veerasaukkonen \nStaabin tapahtumien löytötavaroita säilytetään 3kk tapahtuman jälkeen\, jonka jälkeen ne hävitetään kierrätysmahdollisuuksia hyödyntäen. Arvotavarat toimitetaan poliisille. \nMitä tehdä\, jos näet tai koet epäasiallista käytöstä Staabin toimintaympäristössä?\n– Tapahtumissa häirintä-\, kiusaamis ja epäasiallisissa tilanteissa yhteyshenkilönä toimivat palautetyöryhmän jäsenet. Palautetyöryhmään kuuluvat puheenjohtaja Ada Siikaluoma\, kolmiovastaava ja varapuheenjohtaja Ella Lavaste\, tuutor- ja yhdenvertaisuusvastaava Magdalena Honkasalo ja projektivastaava Akseli Laiho. Mikäli palautetyöryhmän jäseniä ei ole paikalla\, voit ottaa yhteyttä muuhun hallituksen jäseneen.\n– Tapahtumien jatkoina olevat baarit eivät kuulu Staabin viralliseen toimintaympäristöön\, jolloin häiritsevästä käyttäytymisestä tulee ilmoittaa ensisijaisesti ravintolan henkilökunnalle.\n– Tapahtuman ulkopuolella voit ottaa yhteyttä tukihenkilöön. Staabin tukihenkilöinä toimii Riikka Hämäläinen ja Ville Jaara. Tukihenkilöt käsittelevät yhteydenotot tapahtuman ulkopuolella ja heidät tavoittaa parhaiten joko Telegramissa @riikkahamalainen ja @jaaraville tai sähköpostitse tukiriikka@staabi.fi ja tukiville@staabi.fi.\n– Halutessasi voit myös ottaa yhteyttä TREY:n häirintäyhdyshenkilöön sähköpostilla\, puhelimitse tai TREYn häirintälomakkeella. Yhteystiedot löytyvät TREYn verkkosivuilta.\n– Häiritsevästä käytöksestä voit myös ilmoittaa Staabin verkkosivuilta löytyvän häirintälomakkeen kautta. Häirintälomakkeet menevät yhdenvertaisuusvastaavalle ja ovat vain yhdenvertaisuusvastaavan luettavissa.\nKokemukset ovat yksilöllisiä ja toimenpiteet tapauskohtaisia. Jokainen yhteydenotto käsitellään luottamuksellisesti ja jatkotoimenpiteisiin ryhdytään vain sinun suostumuksellasi. \n————————– \nWe welcome you to celebrate 58th anniversary of our beloved student association Staabi ry in the 58th annual celebration on the 18th at 6:00 PM at Nokian Kerhola and in the traditional “silliaamiainen” on 19th of October 2024. \nDuring the evening\, we get to enjoy a three-course dinner\, great speeches and see outstanding members of our association rewarded with awards! Nokian Kerhola does not have a bar\, but you are allowed to bring your own drinks to the evening party space. However\, please consider the dignified nature of the party when considering possible drinks of your own. \nThe 58th anniversary cocktail event will begin at 4PM for invited guests only at Nokian Kerhola. The next day celebrations continue in a secret location during the traditional brunch party “silliaamiainen”. \nTickets will come on sale on Monday\, Ticket sales for the annual party start on Monday\, September 23. at 6 pm. Registration for the event takes place via Kide.app and the payment itself must be made to Staabi’s account. The price of the dinner ticket is 100 euros for Staabi members (including alumni) and 120 euros for non-staabi members. The ticket price includes the galas dinner as well as the next day’s silliaamiainen (academic breakfast) in the secret location X. Due to the limited capacity of the annual party\, the party is aimed at those who started their studies in 2023 or earlier. \nIf you have any questions you can send them to vuosijuhla@staabi.fi or on Telegram @veerasaukkonenWHAT? Staabi ry 58th annual celebration \nWHERE? Nokian Kerhola (Souranderintie 13\, 37100 Nokia)\nWHEN? 18.-19.10.2024\nTO WHOM? To those who started their studies in 2023 or earlier\nCOST? 100 euros for Staabi members and 120 euros for non-staabi members\nTICKETS? https://kide.app/events/69fe00f3-fc72-49cf-8ad9-0ed5f1668f6d \nThe event will be held in Finnish only. \nNokian Kerhola is not completely barrier-free. There is a ramp at the main entrance and there is a disabled toilet on the first floor. However\, some premises have high thresholds. \nThanks for the graphs: Niko Ranta \nIf you want\, you can get information about considering the sustainability of events from the event organizer: Telegram @veerasaukkonen \nWhat to do if you see or experience inappropriate behavior in Staabi’s operating environment?\n– For incidents of harassment\, bullying and inappropriate situations\, members of the feedback team are the contact point. The feedback team consists of Ada Siikaluoma (Chairperson)\, Ella Lavaste (Kolmiot Manager and Vice-Chairperson)\, Magdalena Honkasalo (Tutoring and Equality Manager)\, and Akseli Laiho (Project Manager). If the members of the feedback group are not present\, you can contact another board member.\n– Bars that are continuations of events are not part of Staabi’s official operating environment\, in which case disturbing behavior should be reported primarily to the restaurant’s staff.\n– Outside the event\, you can contact a support person. Staabi’s support persons are Riikka Hämäläinen and Ville Jaara. The support person handles contacts outside the events and are best reached on Telegram @riikkahamalainen and @jaaraville or by e-mail tukiriikka@staabi.fi and tukiville@staabi.fi.\n– If you wish\, you can also contact TREY’s harassment contact person by email\, phone or using TREY’s harassment form. Contact information can be found on TREY’s website.\n– You can also report disruptive behavior via the harassment form found on Staabi’s website. Harassment forms go to the equality officer and can only be read by the equality officer.\nExperiences are individual and measures are case-specific. Every contact is treated confidentially and further measures are taken only with your consent.Found items from Staabi’s events are stored for three months after the event\, after which they are disposed of using recycling opportunities. Valuables are delivered to the police.
URL:https://staabi.fi/kalenteri/staabin-58-vuosijuhlat/
ATTACH;FMTTYPE=image/jpeg:https://staabi.fi/wp-content/uploads/2024/09/fb1200x628.jpg
END:VEVENT
BEGIN:VEVENT
DTSTART;TZID=Europe/Helsinki:20241019T120000
DTEND;TZID=Europe/Helsinki:20241019T200000
DTSTAMP:20260425T171814
CREATED:20241002T093619Z
LAST-MODIFIED:20241002T093619Z
UID:229964-1729339200-1729368000@staabi.fi
SUMMARY:Staabin 58. vuosijuhlien sillis
DESCRIPTION:Mitä? Staabi 58. vuosijuhlien syntinen sillis\nMissä? Salainen lokaatio X\nMilloin? Lauantaina 19.10.2024 alkaen klo 12 ja päättyen klo 20.\nMistä ja milloin liput? Sillis kuuluu illalliskortin ostaneille ja erillisen sillislipun voi ostaa 4.10.2024 klo 16 KideAppissa. Erillinen lippu kustantaa 20€ https://kide.app/events/b55d5ce7-2c3f-47ba-b20e-eb6fde235bb8\nPUKUKOODI: haalarit + syntinen pukeutuminen \nTervetuloa jatkamaan 58. vuosijuhlien juhlintaa lauantaina 19.10. perinteisen silliaamiaisen merkeissä! Sillisaamiainen kuuluu vuosijuhlien illalliskorttiin\, ja on saamiemme tietojen mukaan monelle vuosijuhlien kohokohta. Sillikselle on myös mahdollista ostaa erillinen lippu KideAppistä. \nTänä vuonna teemana on syntinen sillis\, joten valmistaudu kuumiin tunnelmiin. Pukukoodina toimii haalarit ja syntinen pukeutuminen jokaisen parhaaksi näkemällä tavalla. Silliksellä pääsemme nauttimaan salaisesta esiintyjästä klo 17 ja jo aiemmin sauna ja palju ovat lämpimänä. Näiden vuorot julkaistaan myöhemmin. \nEntä mitä kaikkea sillikselle tulisi muistaa ottaa mukaan? Ainakin haalarit\, paljukamat\, kestokuppi\, juominkeja tarpeen vaatiessa\, sisälle sopivat erilliset kengät tai villasukat\, saunakengät ja sillis fiilistä. \nSyntiselle silliskansalle on tarjolla ruokaa sekä juomaa\, mutta janoisimpien tulisi varautua omilla väkijuomillaan\, eli OPM pätee myös vujusillikseen! Silliksen päättyessä on hyvä aika siirtyä jatkoille Tampereen keskustaan Heidi’s bier bariin\, jossa karaokea ja isoa narikkaa on lupailtu. Kuitenkin suositellaan jättämään laukut kotiin ja varautumaan narikkamaksuun. \nMikäli sillikseen liittyviä kysymyksiä herää\, niin ne voi suunnata sillisvastaavalle Sani Tyynismaalle telegramissa @sanialexandra. Vuosijuhlille on myös oma Telegram ryhmä\, johon tulee tiedotusta vuosijuhlien aikana ja missä on mahdollista kysyä tarkentavia kysymyksiä. Telegram-ryhmän linkki tulee vuosijuhla kansalle sähköpostiin info viestin mukana. \n\nTapahtumien jatkoina olevat baarit eivät kuulu Staabin viralliseen toimintaympäristöön\, jolloin häiritsevästä käyttäytymisestä tulee ilmoittaa ensisijaisesti ravintolan henkilökunnalle.\nTapahtuman ulkopuolella voit ottaa yhteyttä tukihenkilöön. Staabin tukihenkilöinä toimii Riikka Hämäläinen ja Ville Jaara. Tukihenkilöt käsittelevät  yhteydenotot tapahtuman ulkopuolella ja heidät tavoittaa parhaiten joko Telegramissa @riikkahamalainen ja @jaaraville tai sähköpostitse tukiriikka@staabi.fi ja tukiville@staabi.fi. .\nHalutessasi voit myös ottaa yhteyttä TREY:n häirintäyhdyshenkilöön sähköpostilla\, puhelimitse tai TREYn häirintälomakkeella. Yhteystiedot löytyvät TREYn verkkosivuilta.\nHäiritsevästä käytöksestä voit myös ilmoittaa Staabin verkkosivuilta löytyvän häirintälomakkeen kautta. Häirintälomakkeet menevät yhdenvertaisuusvastaavalle ja ovat vain yhdenvertaisuusvastaavan luettavissa.\n\nKokemukset ovat yksilöllisiä ja toimenpiteet tapauskohtaisia. Jokainen yhteydenotto käsitellään luottamuksellisesti ja jatkotoimenpiteisiin ryhdytään vain sinun suostumuksellasi. \n——– \nWhat? Staabi 58. anniversary celebration Sinful Sillis\nWhere? Secret location X\nWhen? Saturday 19.10.2024. Starting at 12am until 8pm.\nWhere and when tickets? Sillis is part of the anniversary celebration ticket\, but you can also buy a separate ticket to Sillis on 4.10.2024 at 4pm on KideApp. Separate ticket costs 20 euros https://kide.app/events/b55d5ce7-2c3f-47ba-b20e-eb6fde235bb8\nDRESS CODE: overalls + sinful dress up \nWelcome to continue the 58th anniversary celebrations on 19.10. with a traditional sillis breakfast! Sillis is held at the secret location X. Sillis is a part of the celebration dinner ticket. It is also possible to buy a separate ticket to sillis on KideApp. \nThis year the theme is Sinful Sillis\, so prepare for a hot atmosphere. The dress code is overalls and Sinful dress up in a way that suits you. At sillis we get to enjoy a secret performer at 5 pm and even before that sauna and hot tub are warmed up. The schedule for the sauna and hot tub will be released later. \nWhat should you take with you to the Sillis? At least your overalls\, sauna equipment\, reusable cup\, more drinks if need be\, inside shoes or socks\, sauna shoes and a bunch of Sillis energy. \nAt Sinful Sillis there will be lots of drink and food for the people\, but the thirstiest people should be equipped with their own drinks. At the end of Sillis it is time to move towards central Tampere to Heidi’s bier bar where there will be karaoke and partying until late night. We recommend leaving bags and purses at home and being prepared to pay for the cloakroom. \nIf there are any questions about Sillis they should be directed to Sillis coordinator Sani Tyynismaa on Telegram @sanialexandra. Anniversary celebration has its own Telegram group\, which you can join from the info email. The email will be sent later on. \n\nBars that are continuations of events are not part of Staabi’s official operating environment\, in which case disturbing behavior should be reported primarily to the restaurant’s staff.\nOutside the event\, you can contact a support person. Staabi’s support persons are Riikka Hämäläinen and Ville Jaara. The support person handle contacts outside the events and are best reached on Telegram @riikkahamalainen and @jaaraville or by e-mail tukiriikka@staabi.fi and tukiville@staabi.fi.\nIf you wish\, you can also contact TREY’s harassment contact person by email\, phone or using TREY’s harassment form. Contact information can be found on TREY’s website.\nYou can also report disruptive behavior via the harassment form found on Staabi’s website. Harassment forms go to the equality officer and can only be read by the equality officer.\n\nExperiences are individual and measures are case-specific. Every contact is treated confidentially and further measures are taken only with your consent.
URL:https://staabi.fi/kalenteri/staabin-58-vuosijuhlien-sillis/
ATTACH;FMTTYPE=image/jpeg:https://staabi.fi/wp-content/uploads/2024/10/sillis960x540.jpg
END:VEVENT
END:VCALENDAR