BEGIN:VCALENDAR
VERSION:2.0
PRODID:-//Staabi ry - ECPv6.15.17.1//NONSGML v1.0//EN
CALSCALE:GREGORIAN
METHOD:PUBLISH
X-ORIGINAL-URL:https://staabi.fi
X-WR-CALDESC:Tapahtumat Staabi ry
REFRESH-INTERVAL;VALUE=DURATION:PT1H
X-Robots-Tag:noindex
X-PUBLISHED-TTL:PT1H
BEGIN:VTIMEZONE
TZID:Europe/Helsinki
BEGIN:DAYLIGHT
TZOFFSETFROM:+0200
TZOFFSETTO:+0300
TZNAME:EEST
DTSTART:20230326T010000
END:DAYLIGHT
BEGIN:STANDARD
TZOFFSETFROM:+0300
TZOFFSETTO:+0200
TZNAME:EET
DTSTART:20231029T010000
END:STANDARD
BEGIN:DAYLIGHT
TZOFFSETFROM:+0200
TZOFFSETTO:+0300
TZNAME:EEST
DTSTART:20240331T010000
END:DAYLIGHT
BEGIN:STANDARD
TZOFFSETFROM:+0300
TZOFFSETTO:+0200
TZNAME:EET
DTSTART:20241027T010000
END:STANDARD
BEGIN:DAYLIGHT
TZOFFSETFROM:+0200
TZOFFSETTO:+0300
TZNAME:EEST
DTSTART:20250330T010000
END:DAYLIGHT
BEGIN:STANDARD
TZOFFSETFROM:+0300
TZOFFSETTO:+0200
TZNAME:EET
DTSTART:20251026T010000
END:STANDARD
END:VTIMEZONE
BEGIN:VEVENT
DTSTART;TZID=Europe/Helsinki:20240925T170000
DTEND;TZID=Europe/Helsinki:20240925T200000
DTSTAMP:20260426T000441
CREATED:20240911T082756Z
LAST-MODIFIED:20240911T082756Z
UID:229899-1727283600-1727294400@staabi.fi
SUMMARY:Yhdistyksen ylimääräinen kokous
DESCRIPTION:In English below \nMITÄ? Staabi ry:n yhdistyksen ylimääräinen kokous\nMISSÄ? Tampereen yliopisto\, Päätalo A4 ja Zoom\nMILLOIN? Keskiviikko 25.9.2024 klo 17.00 alkaen\nKENELLE? Staabi ry:n jäsenille (huom! jäsenyys tarkistetaan kaikilta kokoukseen saapuvilta) \nSTAABI Tampereen yliopiston hallintotieteitä opiskelevien yhdistys ry:n yhdistyksen ylimääräinen kokous järjestetään keskiviikkona 25.9.2024 klo 17.00 alkaen. Fyysisenä kokouspaikkana toimii luentosali Päätalo A4\, Tampereen yliopisto (Kalevantie 4\, 33100 Tampere). Kaikilta kokoukseen saapuvilta henkilöiltä tarkistetaan Staabin jäsenyys. \nEtäosallistuminen ja ohjeet:\nYhdistyslain 17 § mukaan ”Hallitus tai yhdistyksen kokous voi päättää\, että 1 momentissa tarkoitettuun yhdistyksen kokoukseen saa osallistua myös siten\, että jäsen voi käyttää täysimääräisesti päätösvaltaansa tietoliikenneyhteyden ja muun teknisen apuvälineen avulla kokouksen aikana\, jollei säännöissä rajoiteta tai kielletä tällaisen kokouksen järjestämistä”. Staabin hallitus on kokouksessaan 21/2024 päättänyt\, että etäosallistuminen on mahdollista yhdistyksen ylimääräisessä kokouksessa. \nEtäosallistujilta vaaditaan oman laitteensa kautta osallistumista\, jotta äänivaltaisten määrä on mahdollista laskea. Lisäksi jokaiselta osallistujalta vaaditaan Zoom-nimeksi omaa nimeä\, jotta jäsenien tunnistaminen kokouksen aikana tapahtuu helpommin. Mahdollinen äänestäminen tapahtuu Zoomin reaktioilla. Jokaiselta kokoukseen osallistuvalta tarkistetaan Staabin jäsenyys ennen kokoukseen päästämistä. Etäosallistuminen onnistuu Zoomin kautta: \nSähköpostilistalle keskiviikkona 11.9.2024 tulleen viestin liitteistä löydätte kokouksen esityslistan ja hallituksen esityksen muutoksesta huomionosoitusohjesääntöön. \nNähdään yhdistyksen ylimääräisessä kokouksessa eli ylkossa! \nTapahtuma on esteetön. \nLisätietoja tapahtumasta saat puheenjohtaja Ada Siikaluomalta (puheenjohtaja@staabi.fi\, Telegram: adajuulia) \nGRAFFAKIITOS: Ada Siikaluoma \nMitä tehdä\, jos näet tai koet epäasiallista käytöstä Staabin toimintaympäristössä?\n– Tapahtumissa häirintä-\, kiusaamis ja epäasiallisissa tilanteissa yhteyshenkilönä toimivat palautetyöryhmän jäsenet. Palautetyöryhmään kuuluvat puheenjohtaja Ada Siikaluoma\, kolmiovastaava ja varapuheenjohtaja Ella Lavaste\, tuutor- ja yhdenvertaisuusvastaava Magdalena Honkasalo ja projektivastaava Akseli Laiho. Mikäli palautetyöryhmän jäseniä ei ole paikalla\, voit ottaa yhteyttä muuhun hallituksen jäseneen.\n– Tapahtumien jatkoina olevat baarit eivät kuulu Staabin viralliseen toimintaympäristöön\, jolloin häiritsevästä käyttäytymisestä tulee ilmoittaa ensisijaisesti ravintolan henkilökunnalle.\n– Tapahtuman ulkopuolella voit ottaa yhteyttä tukihenkilöön. Staabin tukihenkilöinä toimii Riikka Hämäläinen ja Ville Jaara. Tukihenkilöt käsittelevät  yhteydenotot tapahtuman ulkopuolella ja heidät tavoittaa parhaiten joko Telegramissa @riikkahamalainen ja @jaaraville tai sähköpostitse tukiriikka@staabi.fi ja tukiville@staabi.fi.\n– Halutessasi voit myös ottaa yhteyttä TREY:n häirintäyhdyshenkilöön sähköpostilla\, puhelimitse tai TREYn häirintälomakkeella. Yhteystiedot löytyvät TREYn verkkosivuilta.\n– Häiritsevästä käytöksestä voit myös ilmoittaa Staabin verkkosivuilta löytyvän häirintälomakkeen kautta. Häirintälomakkeet menevät yhdenvertaisuusvastaavalle ja ovat vain yhdenvertaisuusvastaavan luettavissa.\nKokemukset ovat yksilöllisiä ja toimenpiteet tapauskohtaisia. Jokainen yhteydenotto käsitellään luottamuksellisesti ja jatkotoimenpiteisiin ryhdytään vain sinun suostumuksellasi. \n——- \nEvent will be held in Finnish \nWHAT? Staabi ry’s additional general meeting\nWHERE? Tampere University\, Päätalo A4 and Zoom\nWHEN? September 24th\, 5.00 P.M\nTO WHOM? Members of Staabi ry (Note that the membership will be checked when entering the meeting room) \nStaabi ry is organizing the additional general meeting. The meeting’s agenda and other documents have been sent to the associations e-mail list. You can participate in the meeting also via Zoom due to the Associations Act clause 17. The link to the Zoom:\nhttps://tuni.zoom.us/j/64811605781?pwd=7pUn1DAODCJaUW3LTjaPJYoZOLpBJP.1 \nThe space is fully accessible. \nIf you have questions\, please contact the board’s chairman Ada Siikaluoma (puheenjohtaja@staabi.fi\, Telegram: adajuulia) \nThanks for the graphs: Ada Siikaluoma \nWhat to do if you see or experience inappropriate behavior in Staabi’s operating environment?\n– For incidents of harassment\, bullying and inappropriate situations\, members of the feedback team are the contact point. The feedback team consists of Ada Siikaluoma (Chairperson)\, Ella Lavaste (Kolmiot Manager and Vice-Chairperson)\, Magdalena Honkasalo (Tutoring and Equality Manager)\, and Akseli Laiho (Project Manager). If the members of the feedback group are not present\, you can contact another board member.\n– Bars that are continuations of events are not part of Staabi’s official operating environment\, in which case disturbing behavior should be reported primarily to the restaurant’s staff.\n– Outside the event\, you can contact a support person. Staabi’s support persons are Riikka Hämäläinen and Ville Jaara.\n– You can also contact TREY’s harassment contact person by email or using TREY’s harassment form. Contact information can be found on TREY’s website.\n– You can also report disruptive behavior via the harassment form found on Staabi’s website. Harassment forms go to the equality officer and can only be read by the equality officer.\n– Experiences are individual and measures are case-specific. Every contact is treated confidentially and further measures are taken only with your consent.
URL:https://staabi.fi/kalenteri/yhdistyksen-ylimaarainen-kokous/
ATTACH;FMTTYPE=image/png:https://staabi.fi/wp-content/uploads/2024/09/Nimeton-malli-3.png
END:VEVENT
END:VCALENDAR