BEGIN:VCALENDAR
VERSION:2.0
PRODID:-//Staabi ry - ECPv6.15.17.1//NONSGML v1.0//EN
CALSCALE:GREGORIAN
METHOD:PUBLISH
X-ORIGINAL-URL:https://staabi.fi
X-WR-CALDESC:Tapahtumat Staabi ry
REFRESH-INTERVAL;VALUE=DURATION:PT1H
X-Robots-Tag:noindex
X-PUBLISHED-TTL:PT1H
BEGIN:VTIMEZONE
TZID:Europe/Helsinki
BEGIN:DAYLIGHT
TZOFFSETFROM:+0200
TZOFFSETTO:+0300
TZNAME:EEST
DTSTART:20230326T010000
END:DAYLIGHT
BEGIN:STANDARD
TZOFFSETFROM:+0300
TZOFFSETTO:+0200
TZNAME:EET
DTSTART:20231029T010000
END:STANDARD
BEGIN:DAYLIGHT
TZOFFSETFROM:+0200
TZOFFSETTO:+0300
TZNAME:EEST
DTSTART:20240331T010000
END:DAYLIGHT
BEGIN:STANDARD
TZOFFSETFROM:+0300
TZOFFSETTO:+0200
TZNAME:EET
DTSTART:20241027T010000
END:STANDARD
BEGIN:DAYLIGHT
TZOFFSETFROM:+0200
TZOFFSETTO:+0300
TZNAME:EEST
DTSTART:20250330T010000
END:DAYLIGHT
BEGIN:STANDARD
TZOFFSETFROM:+0300
TZOFFSETTO:+0200
TZNAME:EET
DTSTART:20251026T010000
END:STANDARD
END:VTIMEZONE
BEGIN:VEVENT
DTSTART;TZID=Europe/Helsinki:20240919T210000
DTEND;TZID=Europe/Helsinki:20240920T050000
DTSTAMP:20260426T012051
CREATED:20240828T085542Z
LAST-MODIFIED:20240828T085542Z
UID:229834-1726779600-1726808400@staabi.fi
SUMMARY:SyysLove
DESCRIPTION:IN ENGLISH BELOW \nKaipaatko kunnon bileitä pitkän kuuman kesän jälkeen? SyysLove tulee taas! \nSyysLove järjestetään perinteisesti 19.9. Heidi’s Bier Barissa\, ja luvassa on mm. opiskelijahintaisia juomia\, hyvää musiikkia ja vielä parempaa seuraa sekä nopeimmille sydämenmuotoisia haalarimerkkejä!  \nMITÄ? SyysLove\nMISSÄ? Heidi’s Bier Bar\, Hämeenkatu 24\nMILLOIN? 19.9. klo 21-05\nENNAKKOLIPUT: 5.9. klo 12.00 Kide.appissa\, hinta 5€ tai ovelta 7€ (ei sisällä narikkamaksua)\nKide.app: https://kide.app/events/dabfc3a4-eae6-45e9-acce-f5261aca18d5 \nVoit myös viestiä parisuhdestatuksesi pimeässä hohtavilla rannekkeilla:\n vihreä = sinkku\n keltainen = säätöä/monimutkainen tilanne\n punainen = varattu \nNähdän SyysLovessa!  \nGraffakiitos: Sofia Heino \nTila ei valitettavasti ole esteetön. \nTapahtuma on häirinnästä ja syrjinnästä vapa. Jos koet tai näet tapahtumassa minkäänlaista syrjintää tai häirintää\, ota yhteyttä TREY:n häirintäyhdyshenkilöihin. Tapahtumassa noudatetaan TREY:n turvallisemman tilan periaatteita. Lisätietoa löydät osoitteesta: https://trey.fi/en/advocacy/help-regarding-harassment-discrimination-and-bullying?fbclid=IwAR2zmvF9LjA-jAZNbpHylT2srGAU8oITO7vth6KA1FAswk2uEslFMRXKH8c \n———– \nAre you craving a proper party after a long\, hot summer? SyysLove is back!SyysLove will traditionally be held on September 19th at Heidi’s Bier Bar\, and you can look forward to student-priced drinks\, good music\, even better company\, and heart-shaped overall patches for the fastest attendees!  \nWHAT? SyysLove\nWHERE? Heidi’s Bier Bar\, Hämeenkatu 24\nWHEN? September 19th\, from 9 PM to 5 AM\nADVANCE TICKETS: Available on September 5th at 12:00 PM on Kide.app\, priced at €5 or €7 at the door (cloakroom fee not included)\nKide.app: https://kide.app/events/dabfc3a4-eae6-45e9-acce-f5261aca18d5 \nYou can also signal your relationship status with glow-in-the-dark wristbands:\n Green = Single\n Yellow = It’s complicated\n Red = Taken \nSee you at SyysLove!  \nUnfortunately\, the venue is not accessible. \nThe event is free from harassment and discrimination. If you experience or witness any form of discrimination or harassment at the event\, please contact TREY’s harassment contact persons. The event follows TREY’s safer space principles. You can find more information at: https://trey.fi/en/advocacy/help-regarding-harassment-discrimination-and-bullying?fbclid=IwAR2zmvF9LjA-jAZNbpHylT2srGAU8oITO7vth6KA1FAswk2uEslFMRXKH8c
URL:https://staabi.fi/kalenteri/syyslove/
ATTACH;FMTTYPE=image/png:https://staabi.fi/wp-content/uploads/2024/08/SyysLove-tapahtumakalenteri.png
END:VEVENT
END:VCALENDAR