BEGIN:VCALENDAR
VERSION:2.0
PRODID:-//Staabi ry - ECPv6.15.17.1//NONSGML v1.0//EN
CALSCALE:GREGORIAN
METHOD:PUBLISH
X-WR-CALNAME:Staabi ry
X-ORIGINAL-URL:https://staabi.fi
X-WR-CALDESC:Tapahtumat Staabi ry
REFRESH-INTERVAL;VALUE=DURATION:PT1H
X-Robots-Tag:noindex
X-PUBLISHED-TTL:PT1H
BEGIN:VTIMEZONE
TZID:Europe/Helsinki
BEGIN:DAYLIGHT
TZOFFSETFROM:+0200
TZOFFSETTO:+0300
TZNAME:EEST
DTSTART:20230326T010000
END:DAYLIGHT
BEGIN:STANDARD
TZOFFSETFROM:+0300
TZOFFSETTO:+0200
TZNAME:EET
DTSTART:20231029T010000
END:STANDARD
BEGIN:DAYLIGHT
TZOFFSETFROM:+0200
TZOFFSETTO:+0300
TZNAME:EEST
DTSTART:20240331T010000
END:DAYLIGHT
BEGIN:STANDARD
TZOFFSETFROM:+0300
TZOFFSETTO:+0200
TZNAME:EET
DTSTART:20241027T010000
END:STANDARD
BEGIN:DAYLIGHT
TZOFFSETFROM:+0200
TZOFFSETTO:+0300
TZNAME:EEST
DTSTART:20250330T010000
END:DAYLIGHT
BEGIN:STANDARD
TZOFFSETFROM:+0300
TZOFFSETTO:+0200
TZNAME:EET
DTSTART:20251026T010000
END:STANDARD
END:VTIMEZONE
BEGIN:VEVENT
DTSTART;TZID=Europe/Helsinki:20240918T163000
DTEND;TZID=Europe/Helsinki:20240918T180000
DTSTAMP:20260426T011803
CREATED:20240909T073659Z
LAST-MODIFIED:20240909T073659Z
UID:229886-1726677000-1726682400@staabi.fi
SUMMARY:Fuksiexcu Pirhalle
DESCRIPTION:MITÄ? Fuksiexcursio Pirkanmaan hyvinvointialueelle\nMISSÄ? Tietotalolla\, Naulakatu 2 Tampere\nMILLOIN? 18.9. klo 16:30-18\nKENELLE? Kaikille Pirhan HR-puolesta kiinnostuneille!\nMITÄ MAKSAA? Ei mitään! \nTyöelämäsektori jatkaa fuksiviikkoja vierailulla Pirkanmaan hyvinvointialueelle\, jossa pääsemme tutustumaan heidän hallinnon ja HR:n puoleen ja kuulemaan uratarinoita juuri heillä työskentelevistä hallintotieteilijöistä. Jos olet miettinyt millaisiin työtehtäviin Staabin alumnit pääsevät\, niin tämä tapahtuma on sinulle! Pääsemme myös kuulemaan yleisesti hyvinvointialueen toiminnasta lisää. \nNappaa liput Kidestä https://kide.app/events/0d1560d4-afd1-4479-8dfd-41ce21483a07 \nHuomioithan\, että ilmoittautuminen on sitova ja fukseille ja vanhemmille opiskelijoille on omat kiintiönsä. \nLisätietoja tapahtumasta saat työelämätoimihenkilöltä Jenna Jääskeläiseltä telegramissa @jennajaask tai sähköpostitse tyoelama@staabi.fi \nGRAFFAKIITOS: Antti Palola \nUnfortunately this event will be held only in Finnish. \nTapahtumien kestävyyden ja esteettömyyden huomioimisesta saat halutessasi tietoa tapahtuman järjestäjältä: Jenna Jääskeläiseltä telegramissa @jennajaask tai sähköpostitse tyoelama@staabi.fi \nStaabin tapahtumien löytötavaroita säilytetään 3kk tapahtuman jälkeen\, jonka jälkeen ne hävitetään kierrätysmahdollisuuksia hyödyntäen. Arvotavarat toimitetaan poliisille. \nMitä tehdä\, jos näet tai koet epäasiallista käytöstä Staabin toimintaympäristössä?\n– Tapahtumissa häirintä-\, kiusaamis ja epäasiallisissa tilanteissa yhteyshenkilönä toimivat palautetyöryhmän jäsenet. Palautetyöryhmään kuuluvat puheenjohtaja Ada Siikaluoma\, kolmiovastaava ja varapuheenjohtaja Ella Lavaste\, tuutor- ja yhdenvertaisuusvastaava Magdalena Honkasalo ja projektivastaava Akseli Laiho. Mikäli palautetyöryhmän jäseniä ei ole paikalla\, voit ottaa yhteyttä muuhun hallituksen jäseneen.\n– Tapahtumien jatkoina olevat baarit eivät kuulu Staabin viralliseen toimintaympäristöön\, jolloin häiritsevästä käyttäytymisestä tulee ilmoittaa ensisijaisesti ravintolan henkilökunnalle.\n– Tapahtuman ulkopuolella voit ottaa yhteyttä tukihenkilöön. Staabin tukihenkilöinä toimii Riikka Hämäläinen ja Ville Jaara. Tukihenkilöt käsittelevät  yhteydenotot tapahtuman ulkopuolella ja heidät tavoittaa parhaiten joko Telegramissa @riikkahamalainen ja @jaaraville tai sähköpostitse tukiriikka@staabi.fi ja tukiville@staabi.fi.\n– Halutessasi voit myös ottaa yhteyttä TREY:n häirintäyhdyshenkilöön sähköpostilla\, puhelimitse tai TREYn häirintälomakkeella. Yhteystiedot löytyvät TREYn verkkosivuilta.\n– Häiritsevästä käytöksestä voit myös ilmoittaa Staabin verkkosivuilta löytyvän häirintälomakkeen kautta. Häirintälomakkeet menevät yhdenvertaisuusvastaavalle ja ovat vain yhdenvertaisuusvastaavan luettavissa. \nKokemukset ovat yksilöllisiä ja toimenpiteet tapauskohtaisia. Jokainen yhteydenotto käsitellään luottamuksellisesti ja jatkotoimenpiteisiin ryhdytään vain sinun suostumuksellasi.
URL:https://staabi.fi/kalenteri/fuksiexcu-pirhalle/
ATTACH;FMTTYPE=image/png:https://staabi.fi/wp-content/uploads/2024/09/Pirhaexcu.png
END:VEVENT
END:VCALENDAR