BEGIN:VCALENDAR
VERSION:2.0
PRODID:-//Staabi ry - ECPv6.15.17.1//NONSGML v1.0//EN
CALSCALE:GREGORIAN
METHOD:PUBLISH
X-WR-CALNAME:Staabi ry
X-ORIGINAL-URL:https://staabi.fi
X-WR-CALDESC:Tapahtumat Staabi ry
REFRESH-INTERVAL;VALUE=DURATION:PT1H
X-Robots-Tag:noindex
X-PUBLISHED-TTL:PT1H
BEGIN:VTIMEZONE
TZID:Europe/Helsinki
BEGIN:DAYLIGHT
TZOFFSETFROM:+0200
TZOFFSETTO:+0300
TZNAME:EEST
DTSTART:20230326T010000
END:DAYLIGHT
BEGIN:STANDARD
TZOFFSETFROM:+0300
TZOFFSETTO:+0200
TZNAME:EET
DTSTART:20231029T010000
END:STANDARD
BEGIN:DAYLIGHT
TZOFFSETFROM:+0200
TZOFFSETTO:+0300
TZNAME:EEST
DTSTART:20240331T010000
END:DAYLIGHT
BEGIN:STANDARD
TZOFFSETFROM:+0300
TZOFFSETTO:+0200
TZNAME:EET
DTSTART:20241027T010000
END:STANDARD
BEGIN:DAYLIGHT
TZOFFSETFROM:+0200
TZOFFSETTO:+0300
TZNAME:EEST
DTSTART:20250330T010000
END:DAYLIGHT
BEGIN:STANDARD
TZOFFSETFROM:+0300
TZOFFSETTO:+0200
TZNAME:EET
DTSTART:20251026T010000
END:STANDARD
END:VTIMEZONE
BEGIN:VEVENT
DTSTART;TZID=Europe/Helsinki:20240905T180000
DTEND;TZID=Europe/Helsinki:20240905T220000
DTSTAMP:20260426T011801
CREATED:20240816T090327Z
LAST-MODIFIED:20240816T090327Z
UID:229816-1725559200-1725573600@staabi.fi
SUMMARY:Harkkasitsit
DESCRIPTION:In English below \nMITÄ? Staabin Harkkasitsit vol 2024\nMISSÄ? Messukylän työväentalolla\, os. Messukylänkatu 47\nMILLOIN? 5.9. klo 18 alkaen\nKENELLE? Staabin uusille fukseille sekä akateemisesti vanhemmille staabeille\nMIKSI? Koska sitsit!\nMITÄ MAKSAA? 15€\nMITÄ PUETAAN PÄÄLLE? kotipaikkakuntaasi kuvastavat vaatteet (+haalarit\, jos on)\nLIPUT? Myydään Kide.appissa 22.8. klo 10 https://kide.app/events/34360f67-0ae5-4e1b-a7f7-8adf451bc7c4\nJATKOT? Tullikamarin Klubilla\, os. Tullikamarin aukio 2 \nMist sä tuut? Mist muut tulevat? Mikä on tämä akateeminen pöytäjuhla\, jota sitseiksikin kutsutaan? Nämä sitsit ovat tarkoitettu erityisesti Staabin uusille fukseille\, heidän tuutoreilleen sekä muille akateemisesti vanhemmille staabeille. \nSitseillä lauletaan\, syödään\, juodaan\, kisaillaan sekä tutustutaan sitsien sääntöihin sekä muutenkin Staabin sitsikulttuuriin! Sitsien jälkeen jatkamme iltaa Tullikamarin Klubille. Sitseille on myynnissä lippuja kahdessa eri lipputyypissä. Toisen lipputyypin liput ovat varattu fukseille ja toisen lipputyypin liput taas muille akateemisesti vanhemmille opiskelijoille. Kummankin lipputyypin liput maksavat 15€. Tarkistathan lippua ostaessasi\, että olet ostamassa lippua oikeasta lipputyypistä (eli esimerkiksi fuksina olet ostamassa lippuasi fuksien lipputyypistä). Lipun ostamista varten sinun tulee olla kirjautunut Kide.app-sovellukseen. Ostaessasi sinun tulee myös valita ruoka- ja juomatoiveesi sekä ilmoittaa mahdolliset erityisruokavalio- tai ruoka-aineallergiasi. \nHarkkasitsit ovat nimensä mukaisesti tarkoitettu sitsien ja sitsaamisen harjoitteluun\, joten vaikka sitsit sisältävätkin tavanomaisesti yllätyksiä ja heittäytymisen mahdollisuuksia\, älä suotta jännitä! Sitsien kulku ja esimerkiksi säännöt käydään kyllä läpi paikan päällä. Vaikka sitsilippuun sisältyy ruokaa ja juomaa\, kannattaa ennen sitsejä silti syödä hyvin\, sillä ruoka ei ole kovin täyttävää. Halutessasi voit ottaa myös juomapuolen täydennystä\, eli harjoittaa OPM-taktiikkaa (Oma Pullo Mukaan). Sitseillä on käytössä lauluvihkonen\, eli läsy\, joten fuksien ei kannata ostaa Staabin (pian vanhentuvaa) laulukirjaa näitä sitsejä varten. Akateemisesti vanhemmat staabit voivat ottaa laulukirjan mukaan niin halutessaan. \nTärkeintä on\, että olet paikalla ajoissa: saavu Messukylän työväentalolle siis jo ennen kuutta\, jotta ehdit tarkistaa istumapaikkasi ja olet valmis astumaan saliin kello kuudelta. Jos myöhästytkin sitseiltä\, neuvoo sitsien henkilökunta miten on sopivaa liittyä muiden sitsaajien joukkoon. \nTapahtuma ei valitettavasti ole esteetön\, sillä Messukylän työväentaloon vievät jyrkät portaat\, eikä paikalla ole inva-wc:tä. \nLisätietoja tapahtumasta sekä sen kestävyyden huomioimisesta saat tapahtumavastaavilta Emmalta ja Hannalta: tapahtumat@staabi.fi tai Telegramista: @Emmajaakola ja @boolipajala . \nGraffakiitos: Aliisa Sorvari \nStaabin tapahtumien löytötavaroita säilytetään 3kk tapahtuman jälkeen\, jonka jälkeen ne hävitetään kierrätysmahdollisuuksia hyödyntäen. Arvotavarat toimitetaan poliisille. \nMitä tehdä\, jos näet tai koet epäasiallista käytöstä Staabin toimintaympäristössä? \n\nTapahtumissa häirintä-\, kiusaamis ja epäasiallisissa tilanteissa yhteyshenkilönä toimivat palautetyöryhmän jäsenet. Palautetyöryhmään kuuluvat puheenjohtaja Ada Siikaluoma\, kolmiovastaava ja varapuheenjohtaja Ella Lavaste\, tuutor- ja yhdenvertaisuusvastaava Magdalena Honkasalo ja projektivastaava Akseli Laiho. Mikäli palautetyöryhmän jäseniä ei ole paikalla\, voit ottaa yhteyttä muuhun hallituksen jäseneen.\nTapahtumien jatkoina olevat baarit eivät kuulu Staabin viralliseen toimintaympäristöön\, jolloin häiritsevästä käyttäytymisestä tulee ilmoittaa ensisijaisesti ravintolan henkilökunnalle.\nTapahtuman ulkopuolella voit ottaa yhteyttä tukihenkilöön. Staabin tukihenkilöinä toimii Riikka Hämäläinen ja Ville Jaara. Tukihenkilöt käsittelevät  yhteydenotot tapahtuman ulkopuolella ja heidät tavoittaa parhaiten joko Telegramissa @riikkahamalainen ja @jaaraville tai sähköpostitse tukiriikka@staabi.fi ja tukiville@staabi.fi. .\nHalutessasi voit myös ottaa yhteyttä TREY:n häirintäyhdyshenkilöön sähköpostilla\, puhelimitse tai TREYn häirintälomakkeella. Yhteystiedot löytyvät TREYn verkkosivuilta.\nHäiritsevästä käytöksestä voit myös ilmoittaa Staabin verkkosivuilta löytyvän häirintälomakkeen kautta. Häirintälomakkeet menevät yhdenvertaisuusvastaavalle ja ovat vain yhdenvertaisuusvastaavan luettavissa.\n\n\nKokemukset ovat yksilöllisiä ja toimenpiteet tapauskohtaisia. Jokainen yhteydenotto käsitellään luottamuksellisesti ja jatkotoimenpiteisiin ryhdytään vain sinun suostumuksellasi. \n———————- \nWHAT? Staabi’s Practice Sits / Harkkasitsit vol. 2024\nWHERE? Messukylän työväentalo\, address: Messukylänkatu 47\nWHEN? September 5th\, starting at 18:00\nFOR WHOM? Staabi’s new freshmen and academically senior Staabi members\nWHY? Because sits!\nCOST? 15€\nWHAT TO WEAR? Clothes representing your hometown (+overalls\, if you have them)\nTICKETS? Available on Kide.app starting August 22nd at 10:00 https://kide.app/events/34360f67-0ae5-4e1b-a7f7-8adf451bc7c4\nAFTERPARTY? Tullikamarin Klubi\, address: Tullikamarin aukio 2 \nWhere are you from? Where do others come from? What is this academic table party\, also known as ’sitsit’? These sitsit are especially intended for Staabi’s new freshers and academically senior Staabi members. \nAt the sitsit\, we sing\, eat\, drink\, compete\, and get acquainted with the rules of sitsit as well as Staabi’s sitsit culture in general! After the sitsit\, we’ll continue the evening at Tullikamarin Klubi. \nThere are two different ticket types available for the sits. One type of ticket is reserved for freshers\, and the other type is for academically senior students. Both ticket types cost 15€. Please make sure when purchasing your ticket that you are buying from the correct ticket type (for example\, as a fresher\, you should buy your ticket from the fresher ticket type). You need to be logged into the Kide.app to purchase a ticket. When purchasing\, you will also need to select your food and drink preferences and indicate any special dietary needs or food allergies. \nAs the name suggests\, Practice Sits / Harkkasitsit are intended for practicing the sits tradition\, so even though sits usually include surprises and opportunities to get involved\, there’s no need to be nervous! The course of the sits and\, for example\, the rules will be explained on-site. Although the sits ticket includes food and drink\, it’s a good idea to eat well beforehand\, as the food is not very filling. If you wish\, you can also bring your own drinks to supplement what is provided (known as the OPM tactic\, ”Bring Your Own Bottle”). There will be a songbook\, known as a ”läsy\,” available at the sits\, so freshmen do not need to purchase Staabi’s (soon-to-be outdated) songbook for this event. Academically senior Staabi members can bring their songbook if they wish. \nThe most important thing is to be on time: arrive at Messukylän työväentalo before six so that you have time to check your seating and be ready to enter the hall at six o’clock. If you do arrive late\, the sits staff will advise you on how to appropriately join the other attendees. \nUnfortunately\, the venue is not accessible\, as steep stairs lead to the Messukylän työväentalo\, and there is no accessible restroom on-site. The event will be held only in Finnish. \nFor more information about the event and sustainability considerations\, you can contact the event coordinators\, Emma and Hanna\, at: tapahtumat@staabi.fi or on Telegram: @Emmajaakola and @boolipajala. \nThanks for the graphs: Aliisa Sorvari \nWhat to do if you see or experience inappropriate behavior in Staabi’s operating environment? \n\nFor incidents of harassment\, bullying and inappropriate situations\, members of the feedback team are the contact point. The feedback team consists of Ada Siikaluoma (Chairperson)\, Ella Lavaste (Kolmiot Manager and Vice-Chairperson)\, Magdalena Honkasalo (Tutoring and Equality Manager)\, and Akseli Laiho (Project Manager). If the members of the feedback group are not present\, you can contact another board member.\nBars that are continuations of events are not part of Staabi’s official operating environment\, in which case disturbing behavior should be reported primarily to the restaurant’s staff.\nOutside the event\, you can contact a support person. Staabi’s support persons are Riikka Hämäläinen and Ville Jaara. The support person handle contacts outside the events and are best reached on Telegram @riikkahamalainen and @jaaraville or by e-mail tukiriikka@staabi.fi and tukiville@staabi.fi.\nIf you wish\, you can also contact TREY’s harassment contact person by email\, phone or using TREY’s harassment form. Contact information can be found on TREY’s website.\nYou can also report disruptive behavior via the harassment form found on Staabi’s website. Harassment forms go to the equality officer and can only be read by the equality officer.\n\nExperiences are individual and measures are case-specific. Every contact is treated confidentially and further measures are taken only with your consent.Found items from Staabi’s events are stored for three months after the event\, after which they are disposed of using recycling opportunities. Valuables are delivered to the police.
URL:https://staabi.fi/kalenteri/harkkasitsit/
ATTACH;FMTTYPE=image/png:https://staabi.fi/wp-content/uploads/2024/08/Harkkasitsit.png
END:VEVENT
END:VCALENDAR