BEGIN:VCALENDAR
VERSION:2.0
PRODID:-//Staabi ry - ECPv6.15.17.1//NONSGML v1.0//EN
CALSCALE:GREGORIAN
METHOD:PUBLISH
X-WR-CALNAME:Staabi ry
X-ORIGINAL-URL:https://staabi.fi
X-WR-CALDESC:Tapahtumat Staabi ry
REFRESH-INTERVAL;VALUE=DURATION:PT1H
X-Robots-Tag:noindex
X-PUBLISHED-TTL:PT1H
BEGIN:VTIMEZONE
TZID:Europe/Helsinki
BEGIN:DAYLIGHT
TZOFFSETFROM:+0200
TZOFFSETTO:+0300
TZNAME:EEST
DTSTART:20230326T010000
END:DAYLIGHT
BEGIN:STANDARD
TZOFFSETFROM:+0300
TZOFFSETTO:+0200
TZNAME:EET
DTSTART:20231029T010000
END:STANDARD
BEGIN:DAYLIGHT
TZOFFSETFROM:+0200
TZOFFSETTO:+0300
TZNAME:EEST
DTSTART:20240331T010000
END:DAYLIGHT
BEGIN:STANDARD
TZOFFSETFROM:+0300
TZOFFSETTO:+0200
TZNAME:EET
DTSTART:20241027T010000
END:STANDARD
BEGIN:DAYLIGHT
TZOFFSETFROM:+0200
TZOFFSETTO:+0300
TZNAME:EEST
DTSTART:20250330T010000
END:DAYLIGHT
BEGIN:STANDARD
TZOFFSETFROM:+0300
TZOFFSETTO:+0200
TZNAME:EET
DTSTART:20251026T010000
END:STANDARD
END:VTIMEZONE
BEGIN:VEVENT
DTSTART;TZID=Europe/Helsinki:20240829T170000
DTEND;TZID=Europe/Helsinki:20240829T210000
DTSTAMP:20260426T011744
CREATED:20240813T092315Z
LAST-MODIFIED:20240813T092315Z
UID:229796-1724950800-1724965200@staabi.fi
SUMMARY:Fuksipiknik
DESCRIPTION:In English below \nMITÄ? Hengailua ja herkkuja staabi seurassa.  Tietysti myös haalareiden sovitusta ja merkkien myyntiä\nMISSÄ? Sorsapuistossa\nMILLOIN? 29.8. klo 17 →\nKENELLE? Kaikille staabeille\nMITÄ MAKSAA? Ei mitään\nMITÄ PUETAAN PÄÄLLE? Säänmukaiset vaatteet \nPerinteinen fuksipiknik järjestetään tänäkin vuonna Sorsapuistossa. Rennon hengailun lomassa on mahdollista tutustua niin toisiimme kuin Staabin pääainejärjestöihin Spatikkaan\, Fiskukseen\, Ad Hociin\, Halloihin ja Jujuun. \nPaikan päällä pientä syötävää.  OTATHAN MUKAAN OMAN MUKIN TAI/JA JUOMAPULLON. Voit napata mukaan oman piknikviltin tai retkituolin sekä isompaan nälkään omaa evästä. \nPiknikillä pääset sovittamaan haalareita sekä ostamaan pääainejärjestöjen merkkejä. Kenties voit myös voittaa kaverisi mölkyssä. 😉 \nTapahtuma on esteetön. Sorsapuistosta löytyy invavessa eikä puistossa ole kynnyksiä. \nLisätietoja tapahtumasta ja sen kestävyydestä saat liikunta- ja vapaa-aikavastaavalta telegrammin kautta @aavaluoma. \nGRAFFAKIITOS: Antti-Tuomas Palola \nStaabin tapahtumien löytötavaroita säilytetään 3kk tapahtuman jälkeen\, jonka jälkeen ne hävitetään kierrätysmahdollisuuksia hyödyntäen. Arvotavarat toimitetaan poliisille. \nMitä tehdä\, jos näet tai koet epäasiallista käytöstä Staabin toimintaympäristössä?\n– Tapahtumissa häirintä-\, kiusaamis ja epäasiallisissa tilanteissa yhteyshenkilönä toimivat palautetyöryhmän jäsenet. Palautetyöryhmään kuuluvat puheenjohtaja Ada Siikaluoma\, kolmiovastaava ja varapuheenjohtaja Ella Lavaste\, tuutor- ja yhdenvertaisuusvastaava Magdalena Honkasalo ja projektivastaava Akseli Laiho. Mikäli palautetyöryhmän jäseniä ei ole paikalla\, voit ottaa yhteyttä muuhun hallituksen jäseneen.\n– Tapahtumien jatkoina olevat baarit eivät kuulu Staabin viralliseen toimintaympäristöön\, jolloin häiritsevästä käyttäytymisestä tulee ilmoittaa ensisijaisesti ravintolan henkilökunnalle.\n– Tapahtuman ulkopuolella voit ottaa yhteyttä tukihenkilöön. Staabin tukihenkilöinä toimii Riikka Hämäläinen ja Ville Jaara. Tukihenkilöt käsittelevät  yhteydenotot tapahtuman ulkopuolella ja heidät tavoittaa parhaiten joko Telegramissa @riikkahamalainen ja @jaaraville tai sähköpostitse tukiriikka@staabi.fi ja tukiville@staabi.fi. .\n– Halutessasi voit myös ottaa yhteyttä TREY:n häirintäyhdyshenkilöön sähköpostilla\, puhelimitse tai TREYn häirintälomakkeella. Yhteystiedot löytyvät TREYn verkkosivuilta.\n– Häiritsevästä käytöksestä voit myös ilmoittaa Staabin verkkosivuilta löytyvän häirintälomakkeen kautta. Häirintälomakkeet menevät yhdenvertaisuusvastaavalle ja ovat vain yhdenvertaisuusvastaavan luettavissa.\nKokemukset ovat yksilöllisiä ja toimenpiteet tapauskohtaisia. Jokainen yhteydenotto käsitellään luottamuksellisesti ja jatkotoimenpiteisiin ryhdytään vain sinun suostumuksellasi. \n————————– \nWHAT? Freshman picnic\nWHERE? Sorsapuisto Park\nWHEN? August 29th at 5:00 PM →\nFOR WHOM? All Staabi members\nCOST? Free of charge\nWHAT TO WEAR? Weather-appropriate clothing \nThe traditional freshman picnic will be held again this year at Sorsapuisto Park. During this relaxed hangout\, you’ll have the opportunity to get to know each other and the main student organizations of Staabi: Spatikka\, Fiskus\, Ad Hoc\, Hallat\, and Juju. \nThere will be some snacks available on site. PLEASE BRING YOUR OWN MUG OR/AND WATER BOTTLE. You can also bring your own picnic blanket and some extra snacks if needed. \nAt the picnic\, you can try on overalls and buy badges from the main student organizations. You might even beat your friends in the game of Mölkky. 😉 \nThe event is accessible. Sorsapuisto Park has an accessible restroom and no thresholds. \nFor more information about the event and its duration\, please contact Aava via Telegram @aavaluoma. \nThanks for the graphs: Antti-Tuomas Palola \nWhat to do if you see or experience inappropriate behavior in Staabi’s operating environment?\n– For incidents of harassment\, bullying and inappropriate situations\, members of the feedback team are the contact point. The feedback team consists of Ada Siikaluoma (Chairperson)\, Ella Lavaste (Kolmiot Manager and Vice-Chairperson)\, Magdalena Honkasalo (Tutoring and Equality Manager)\, and Akseli Laiho (Project Manager). If the members of the feedback group are not present\, you can contact another board member.\n– Bars that are continuations of events are not part of Staabi’s official operating environment\, in which case disturbing behavior should be reported primarily to the restaurant’s staff.\n– Outside the event\, you can contact a support person. Staabi’s support persons are Riikka Hämäläinen and Ville Jaara. The support person handle contacts outside the events and are best reached on Telegram @riikkahamalainen and @jaaraville or by e-mail tukiriikka@staabi.fi and tukiville@staabi.fi.\n– If you wish\, you can also contact TREY’s harassment contact person by email\, phone or using TREY’s harassment form. Contact information can be found on TREY’s website.\n– You can also report disruptive behavior via the harassment form found on Staabi’s website. Harassment forms go to the equality officer and can only be read by the equality officer.\nExperiences are individual and measures are case-specific. Every contact is treated confidentially and further measures are taken only with your consent.Found items from Staabi’s events are stored for three months after the event\, after which they are disposed of using recycling opportunities. Valuables are delivered to the police.
URL:https://staabi.fi/kalenteri/fuksipiknik/
ATTACH;FMTTYPE=image/png:https://staabi.fi/wp-content/uploads/2024/08/Fuksipiknik.png
END:VEVENT
END:VCALENDAR