BEGIN:VCALENDAR
VERSION:2.0
PRODID:-//Staabi ry - ECPv6.15.17.1//NONSGML v1.0//EN
CALSCALE:GREGORIAN
METHOD:PUBLISH
X-WR-CALNAME:Staabi ry
X-ORIGINAL-URL:https://staabi.fi
X-WR-CALDESC:Tapahtumat Staabi ry
REFRESH-INTERVAL;VALUE=DURATION:PT1H
X-Robots-Tag:noindex
X-PUBLISHED-TTL:PT1H
BEGIN:VTIMEZONE
TZID:Europe/Helsinki
BEGIN:DAYLIGHT
TZOFFSETFROM:+0200
TZOFFSETTO:+0300
TZNAME:EEST
DTSTART:20230326T010000
END:DAYLIGHT
BEGIN:STANDARD
TZOFFSETFROM:+0300
TZOFFSETTO:+0200
TZNAME:EET
DTSTART:20231029T010000
END:STANDARD
BEGIN:DAYLIGHT
TZOFFSETFROM:+0200
TZOFFSETTO:+0300
TZNAME:EEST
DTSTART:20240331T010000
END:DAYLIGHT
BEGIN:STANDARD
TZOFFSETFROM:+0300
TZOFFSETTO:+0200
TZNAME:EET
DTSTART:20241027T010000
END:STANDARD
BEGIN:DAYLIGHT
TZOFFSETFROM:+0200
TZOFFSETTO:+0300
TZNAME:EEST
DTSTART:20250330T010000
END:DAYLIGHT
BEGIN:STANDARD
TZOFFSETFROM:+0300
TZOFFSETTO:+0200
TZNAME:EET
DTSTART:20251026T010000
END:STANDARD
END:VTIMEZONE
BEGIN:VEVENT
DTSTART;TZID=Europe/Helsinki:20240827T160000
DTEND;TZID=Europe/Helsinki:20240827T200000
DTSTAMP:20260426T011743
CREATED:20240812T123512Z
LAST-MODIFIED:20240819T132601Z
UID:229787-1724774400-1724788800@staabi.fi
SUMMARY:Boomi x Staabi Suuri Kaupunkiseikkailu
DESCRIPTION:In English below \nMITÄ: Boomi x Staabi Suuri Kaupunkiseikkailu\nMILLOIN: tiistaina 27.8.2024 klo 16:15 alkaen\nMISSÄ: ympäri Tampereen keskustaa\, lähtö Sorsapuistosta\nKENELLE: Staabin ja Boomin uusille fukseille ja tutoreille!\nMITÄ MUKAAN: voittajamieli + säänmukainen vaatetus \nUutuudenviehätystä\, kaunis alkusyksyinen Tampere\, sinivihreät fuksit… jännitystä ja räjähdyksiä on tiedossa\, kun jo legendaariseksi perinteeksi muodostunut Boomin ja Staabin Suuri Kaupunkiseikkailu valloittaa Tampereen tiistaina 27.8.! \nHallintotieteilijät ja kauppatieteilijät pääsevät yhdistämään voimansa ennennäkemättömässä kilpailussa\, jossa kuljetaan läpi Tampereen kuuluisien nähtävyyksien\, sekä nautitaan uusista tuttavuuksista hauskojen rastiaktiviteettien parissa. Pakkaa mukaasi siis rutkasti seikkailumieltä\, nokkeluutta sekä kilpailuhenkeä\, ja heittäydy Suuren Kaupunkiseikkailun vietäväksi! \nTapahtumassa fuksiryhmiä sekoitetaan niin\, että jokaisella on sekä tuttuja että uusia tuttavuuksia ryhmässä. Tapahtuma alkaa yhteisellä kokoontumisella klo 16:15 Sorsapuistossa\, jonne voi halutessaan jättää tavaroita säilöön. Rastien suoritusaika päättyy 19:30\, ja voittaja julkistetaan klo 20 Sorsapuistossa\, joka on myös rastikierroksen maali. \nTapahtuma ei ole täysin esteetön. Tapahtuman rastit sijoittuvat ympäri Tampereen keskustaa\, jolloin esim. invavessan saatavuutta ei voida taata. Osa rasteista myös vaatii fyysistä suorittamista. \nLisätietoja tapahtumasta saat Staabin tuutorvastaavalta tuutorointi@staabi.fi tai Telegramissa @rapatintti.\nTapahtumien kestävyyden huomioimisesta saat halutessasi tietoa tapahtuman järjestäjältä: @rapatintti. \nGraffakiitos: Magdalena Honkasalo ja Milla Jylhänkallio \nStaabin tapahtumien löytötavaroita säilytetään 3kk tapahtuman jälkeen\, jonka jälkeen ne hävitetään kierrätysmahdollisuuksia hyödyntäen. Arvotavarat toimitetaan poliisille. \nMitä tehdä\, jos näet tai koet epäasiallista käytöstä Staabin toimintaympäristössä?\n– Tapahtumissa häirintä-\, kiusaamis ja epäasiallisissa tilanteissa yhteyshenkilönä toimivat palautetyöryhmän jäsenet. Palautetyöryhmään kuuluvat puheenjohtaja Ada Siikaluoma\, kolmiovastaava ja varapuheenjohtaja Ella Lavaste\, tuutor- ja yhdenvertaisuusvastaava Magdalena Honkasalo ja projektivastaava Akseli Laiho. Mikäli palautetyöryhmän jäseniä ei ole paikalla\, voit ottaa yhteyttä muuhun hallituksen jäseneen.\n– Tapahtumien jatkoina olevat baarit eivät kuulu Staabin viralliseen toimintaympäristöön\, jolloin häiritsevästä käyttäytymisestä tulee ilmoittaa ensisijaisesti ravintolan henkilökunnalle.\n– Tapahtuman ulkopuolella voit ottaa yhteyttä tukihenkilöön. Staabin tukihenkilöinä toimii Riikka Hämäläinen ja Ville Jaara. Tukihenkilöt käsittelevät  yhteydenotot tapahtuman ulkopuolella ja heidät tavoittaa parhaiten joko Telegramissa @riikkahamalainen ja @jaaraville tai sähköpostitse tukiriikka@staabi.fi ja tukiville@staabi.fi. .\n– Halutessasi voit myös ottaa yhteyttä TREY:n häirintäyhdyshenkilöön sähköpostilla\, puhelimitse tai TREYn häirintälomakkeella. Yhteystiedot löytyvät TREYn verkkosivuilta.\n– Häiritsevästä käytöksestä voit myös ilmoittaa Staabin verkkosivuilta löytyvän häirintälomakkeen kautta. Häirintälomakkeet menevät yhdenvertaisuusvastaavalle ja ovat vain yhdenvertaisuusvastaavan luettavissa.\nKokemukset ovat yksilöllisiä ja toimenpiteet tapauskohtaisia. Jokainen yhteydenotto käsitellään luottamuksellisesti ja jatkotoimenpiteisiin ryhdytään vain sinun suostumuksellasi. \n————- \nWHAT: Boomi x Staabi Great City Adventure\nWHEN: Tuesday August 27th from 16:15\nWHERE: around the centre of Tampere\, starting from Sorsapuisto\nWHO: new students and tutors of Boomi and Staabi!\nWHAT TO TAKE: winner’s attitude + weatherproof clothing \nBeautiful early autumn Tampere\, new students representing blue and green… excitement and explosions are in store when the Boomi x Staabi Great City Adventure takes over Tampere on Tuesday 27 August! \nBusiness and administrative sciences students will join forces in an unprecedented competition to discover Tampere’s famous sights and make new acquaintances through fun activities. So pack your adventurous spirit\, your wit and your competitive spirit and join the Great City Adventure! \nAt the event\, the tutoring groups will be mixed so that everyone has both familiar and new acquaintances in the group. The event starts with a joint meeting at 16:15 in Sorsapuisto\, where you can leave your belongings for storage if you wish. The races finish at 19:30 and the winner will be announced at 20:00 in the Sorsapuisto\, which is also the final stop of the race. \nPlease note that the materials of the event will be in Finnish. \nAccessibility: the event is not entirely accessible. The event takes place around the city of Tampere\, so the presence of a disabled toilet can not be guaranteed. Some of the event’s pitstops require physical performance. \nContact information: tuutorointi@staabi.fi / TG: @rapatintti \nWhat to do if you see or experience inappropriate behavior in Staabi’s operating environment?\n– For incidents of harassment\, bullying and inappropriate situations\, members of the feedback team are the contact point. The feedback team consists of Ada Siikaluoma (Chairperson)\, Ella Lavaste (Kolmiot Manager and Vice-Chairperson)\, Magdalena Honkasalo (Tutoring and Equality Manager)\, and Akseli Laiho (Project Manager). If the members of the feedback group are not present\, you can contact another board member.\n– Bars that are continuations of events are not part of Staabi’s official operating environment\, in which case disturbing behavior should be reported primarily to the restaurant’s staff.\n– Outside the event\, you can contact a support person. Staabi’s support persons are Riikka Hämäläinen and Ville Jaara. The support person handle contacts outside the events and are best reached on Telegram @riikkahamalainen and @jaaraville or by e-mail tukiriikka@staabi.fi and tukiville@staabi.fi.\n– If you wish\, you can also contact TREY’s harassment contact person by email\, phone or using TREY’s harassment form. Contact information can be found on TREY’s website.\n– You can also report disruptive behavior via the harassment form found on Staabi’s website. Harassment forms go to the equality officer and can only be read by the equality officer.\nExperiences are individual and measures are case-specific. Every contact is treated confidentially and further measures are taken only with your consent. \nFound items from Staabi’s events are stored for three months after the event\, after which they are disposed of using recycling opportunities. Valuables are delivered to the police.
URL:https://staabi.fi/kalenteri/boomi-x-staabi-suuri-kaupunkiseikkailu/
ATTACH;FMTTYPE=image/jpeg:https://staabi.fi/wp-content/uploads/2024/08/Staabin-ja-Boomin-kaupunkiseikkkailu.jpg
END:VEVENT
END:VCALENDAR