BEGIN:VCALENDAR
VERSION:2.0
PRODID:-//Staabi ry - ECPv6.15.17.1//NONSGML v1.0//EN
CALSCALE:GREGORIAN
METHOD:PUBLISH
X-ORIGINAL-URL:https://staabi.fi
X-WR-CALDESC:Tapahtumat Staabi ry
REFRESH-INTERVAL;VALUE=DURATION:PT1H
X-Robots-Tag:noindex
X-PUBLISHED-TTL:PT1H
BEGIN:VTIMEZONE
TZID:Europe/Helsinki
BEGIN:DAYLIGHT
TZOFFSETFROM:+0200
TZOFFSETTO:+0300
TZNAME:EEST
DTSTART:20230326T010000
END:DAYLIGHT
BEGIN:STANDARD
TZOFFSETFROM:+0300
TZOFFSETTO:+0200
TZNAME:EET
DTSTART:20231029T010000
END:STANDARD
BEGIN:DAYLIGHT
TZOFFSETFROM:+0200
TZOFFSETTO:+0300
TZNAME:EEST
DTSTART:20240331T010000
END:DAYLIGHT
BEGIN:STANDARD
TZOFFSETFROM:+0300
TZOFFSETTO:+0200
TZNAME:EET
DTSTART:20241027T010000
END:STANDARD
BEGIN:DAYLIGHT
TZOFFSETFROM:+0200
TZOFFSETTO:+0300
TZNAME:EEST
DTSTART:20250330T010000
END:DAYLIGHT
BEGIN:STANDARD
TZOFFSETFROM:+0300
TZOFFSETTO:+0200
TZNAME:EET
DTSTART:20251026T010000
END:STANDARD
END:VTIMEZONE
BEGIN:VEVENT
DTSTART;TZID=Europe/Helsinki:20240820T160000
DTEND;TZID=Europe/Helsinki:20240820T230000
DTSTAMP:20260426T023324
CREATED:20240811T151307Z
LAST-MODIFIED:20240815T110604Z
UID:229758-1724169600-1724194800@staabi.fi
SUMMARY:Kerrostalosuunnistus
DESCRIPTION:In English below \nMITÄ? Staabin legendaarinen fuksiviikkojen Kerrostalosuunnistus eli Kersu\nMISSÄ? Tuutoreiden asunnoissa\, keskustan tuntumassa\nMILLOIN? 20.8. klo 16 alkaen\nKENELLE? Staabin uusille fukseille!\nMIKSI? Koska Kersut on kerran vuodessa vaan!\nMITÄ MAKSAA? Ei mitään!\nJATKOT? Kaijakka! \nOletko jo tutustunut oman tuutorryhmäsi fukseihin? Haluaisitko nähdä\, millaista nurmi on aidan toisella puolella? Nyt siihen on loistomahdollisuus! Tässä\, monen staabin lempitapahtumassa\, fuksit jaetaan sekaryhmiin\, jotka eivät siis ole omat tuutorryhmät. Tämä mahdollistaa siis tutustumisen paitsi toisiin fukseihin\, myös muihin (kuin omiin) tuutoreihin sekä tuutoreiden asuntoihin! \nTapahtuma alkaa klo 16 Tullikamarin aukiolta\, Bar Passionin edestä\, ja jatkuu perinteisesti iltamyöhään. Kun viimeinenkin rasti (eli asunto) on kierretty\, siirrytään jatkoille Kaijakkaan\, jossa Staabissa suurta suosiota nauttiva karaoke viihdyttää kersukansaa. \nTapahtuma ei ole täysin esteetön. Kaikki asunnot eivät ole esteettömiä. Otathan yhteyttä tapahtuman järjestäjiin jos liikut pyörätuolilla\, tai esteettömyyttä tarvitsee muutoin osaltasi huomioida\, niin pyrimme huomioimaan asian. \nGraffakiitos: Victoria Patshijew \nLisätietoja tapahtumasta sekä sen kestävyyden huomioimisesta saat tapahtumavastaavilta Emmalta ja Hannalta (Telegramit: @Emmajaakola ja @boolipajala) sekä sähköpostista tapahtumat@staabi.fi. \nMuistathan ottaa tapahtumaan mukaan oman kestomukin! \nStaabin tapahtumien löytötavaroita säilytetään 3kk tapahtuman jälkeen\, jonka jälkeen ne hävitetään kierrätysmahdollisuuksia hyödyntäen. Arvotavarat toimitetaan poliisille. \nMitä tehdä\, jos näet tai koet epäasiallista käytöstä Staabin toimintaympäristössä? \n\nTapahtumissa häirintä-\, kiusaamis ja epäasiallisissa tilanteissa yhteyshenkilönä toimivat palautetyöryhmän jäsenet. Palautetyöryhmään kuuluvat puheenjohtaja Ada Siikaluoma\, kolmiovastaava ja varapuheenjohtaja Ella Lavaste\, tuutor- ja yhdenvertaisuusvastaava Magdalena Honkasalo ja projektivastaava Akseli Laiho. Mikäli palautetyöryhmän jäseniä ei ole paikalla\, voit ottaa yhteyttä muuhun hallituksen jäseneen.\nTapahtumien jatkoina olevat baarit eivät kuulu Staabin viralliseen toimintaympäristöön\, jolloin häiritsevästä käyttäytymisestä tulee ilmoittaa ensisijaisesti ravintolan henkilökunnalle.\nTapahtuman ulkopuolella voit ottaa yhteyttä tukihenkilöön. Staabin tukihenkilöinä toimii Riikka Hämäläinen ja Ville Jaara. Tukihenkilöt käsittelevät  yhteydenotot tapahtuman ulkopuolella ja heidät tavoittaa parhaiten joko Telegramissa @riikkahamalainen ja @jaaraville tai sähköpostitse tukiriikka@staabi.fi ja tukiville@staabi.fi. .\nHalutessasi voit myös ottaa yhteyttä TREY:n häirintäyhdyshenkilöön sähköpostilla\, puhelimitse tai TREYn häirintälomakkeella. Yhteystiedot löytyvät TREYn verkkosivuilta.\nHäiritsevästä käytöksestä voit myös ilmoittaa Staabin verkkosivuilta löytyvän häirintälomakkeen kautta. Häirintälomakkeet menevät yhdenvertaisuusvastaavalle ja ovat vain yhdenvertaisuusvastaavan luettavissa.\n\n\nKokemukset ovat yksilöllisiä ja toimenpiteet tapauskohtaisia. Jokainen yhteydenotto käsitellään luottamuksellisesti ja jatkotoimenpiteisiin ryhdytään vain sinun suostumuksellasi. \n————————– \nWHAT? Staabi’s legendary Freshers’ Week Apartment Orienteering\, also known as Kersu\nWHERE? At the tutors’ apartments\, near the city center\nWHEN? August 20th\, starting at 4 PM\nTO WHOM? For Staabi’s new freshmen!\nWHY? Because Kersu only happens once a year!\nCOST? Free!\nAFTERPARTY? Kaijakka! \nHave you already gotten to know the freshers in your own tutor group? Would you like to see what the grass is like on the other side of the fence? Now’s your perfect chance! In this favorite event of many Staabi members\, freshers are divided into mixed groups\, which are not your own tutor groups. This allows you to get to know not only other freshers but also other tutors (besides your own) and the tutors’ apartments!\nThe event starts at 4 pm at Tullikamari Square (Tullikamarin aukio)\, in front of Bar Passion\, and traditionally continues until late in the evening. After visiting the last checkpoint (meaning an apartment)\, the afterparty will be held in Kaijakka\, where the karaoke\, which is very popular in Staabi\, will entertain the participants. \nThe event is not fully accessible. Not all apartments are accessible. Please contact the event organizers if you use a wheelchair or otherwise require accessibility considerations\, and we will do our best to accommodate you. \nFor more information about the event and its sustainability\, you can contact the event coordinators Emma and Hanna (Telegram: @Emmajaakola and @boolipajala) or email tapahtumat@staabi.fi. \nThanks for the graphs: Victoria Patshijew \nRemember to bring your own reusable cup to the event! \nLost and found items from Staabi events are kept for 3 months after the event\, after which they are disposed of using recycling options. Valuables are handed over to the police. \nWhat to do if you see or experience inappropriate behavior in Staabi’s operating environment? \n\nFor incidents of harassment\, bullying and inappropriate situations\, members of the feedback team are the contact point. The feedback team consists of Ada Siikaluoma (Chairperson)\, Ella Lavaste (Kolmiot Manager and Vice-Chairperson)\, Magdalena Honkasalo (Tutoring and Equality Manager)\, and Akseli Laiho (Project Manager). If the members of the feedback group are not present\, you can contact another board member.\nBars that are continuations of events are not part of Staabi’s official operating environment\, in which case disturbing behavior should be reported primarily to the restaurant’s staff.\nOutside the event\, you can contact a support person. Staabi’s support persons are Riikka Hämäläinen and Ville Jaara. The support person handle contacts outside the events and are best reached on Telegram @riikkahamalainen and @jaaraville or by e-mail tukiriikka@staabi.fi and tukiville@staabi.fi.\nIf you wish\, you can also contact TREY’s harassment contact person by email\, phone or using TREY’s harassment form. Contact information can be found on TREY’s website.\nYou can also report disruptive behavior via the harassment form found on Staabi’s website. Harassment forms go to the equality officer and can only be read by the equality officer.\n\nExperiences are individual and measures are case-specific. Every contact is treated confidentially and further measures are taken only with your consent.Found items from Staabi’s events are stored for three months after the event\, after which they are disposed of using recycling opportunities. Valuables are delivered to the police.
URL:https://staabi.fi/kalenteri/kerrostalosuunnistus/
ATTACH;FMTTYPE=image/png:https://staabi.fi/wp-content/uploads/2024/08/kersu24.png
END:VEVENT
END:VCALENDAR