BEGIN:VCALENDAR
VERSION:2.0
PRODID:-//Staabi ry - ECPv6.15.17.1//NONSGML v1.0//EN
CALSCALE:GREGORIAN
METHOD:PUBLISH
X-ORIGINAL-URL:https://staabi.fi
X-WR-CALDESC:Tapahtumat Staabi ry
REFRESH-INTERVAL;VALUE=DURATION:PT1H
X-Robots-Tag:noindex
X-PUBLISHED-TTL:PT1H
BEGIN:VTIMEZONE
TZID:Europe/Helsinki
BEGIN:DAYLIGHT
TZOFFSETFROM:+0200
TZOFFSETTO:+0300
TZNAME:EEST
DTSTART:20230326T010000
END:DAYLIGHT
BEGIN:STANDARD
TZOFFSETFROM:+0300
TZOFFSETTO:+0200
TZNAME:EET
DTSTART:20231029T010000
END:STANDARD
BEGIN:DAYLIGHT
TZOFFSETFROM:+0200
TZOFFSETTO:+0300
TZNAME:EEST
DTSTART:20240331T010000
END:DAYLIGHT
BEGIN:STANDARD
TZOFFSETFROM:+0300
TZOFFSETTO:+0200
TZNAME:EET
DTSTART:20241027T010000
END:STANDARD
BEGIN:DAYLIGHT
TZOFFSETFROM:+0200
TZOFFSETTO:+0300
TZNAME:EEST
DTSTART:20250330T010000
END:DAYLIGHT
BEGIN:STANDARD
TZOFFSETFROM:+0300
TZOFFSETTO:+0200
TZNAME:EET
DTSTART:20251026T010000
END:STANDARD
END:VTIMEZONE
BEGIN:VEVENT
DTSTART;TZID=Europe/Helsinki:20240818T170000
DTEND;TZID=Europe/Helsinki:20240818T220000
DTSTAMP:20260426T023237
CREATED:20240704T101533Z
LAST-MODIFIED:20240815T110443Z
UID:229719-1724000400-1724018400@staabi.fi
SUMMARY:Ensitapaaminen
DESCRIPTION:In English below\n \nMITÄ? Staabin Ensitapaaminen vol 2024!\nMISSÄ? Oman tuutorryhmän kesken tuutorien ilmoittamassa paikassa ja sen jälkeen koko porukalla Messukylän työväentalolla\, os. Messukylänkatu 47\nMILLOIN? 18.8. klo 17 (tuutoriryhmän kesken) ja klo 19.30 (Messukylässä)\nKENELLE? Staabin uusille fukseille + heidän tuutoreilleen\nMIKSI? Koska Staabin fuksiviikot alkavat tästä!\nMITÄ MAKSAA? Ei mitään (paitsi mahdollinen\, omakustanteinen ravintolaruokailu)\nMITÄ PUETAAN PÄÄLLE? Vapaavalintaiset vaatteet \nTervetuloa Staabiin! Tässä perinteisessä tapahtumassa Staabin fuksit (=ensimmäisen vuoden opiskelijat) toivotetaan tervetulleiksi Staabiin ja Staabin fuksiviikoille! Ensitapaaminen alkaa oman tuutorryhmän kesken tapaamisella\, jonka sijainnista oman ryhmän tuutorit kertovat tuutoroitaville fukseilleen. Oman ryhmän tutustumisen jälkeen kaikki fuksit tuutoreineen siirtyvät Messukylän työväentalolle\, jossa on vielä yhteistä ohjelmaa. \nTapahtuma ei ole täysin esteetön. Tuutorryhmäkohtaisissa tapaamisispaikoissa saattaa olla portaita – kysy omalta tuutoriltasi tapaamispaikastanne. Messukylän työväentalo ei valitettavasti ole esteetön\, sillä paikan sisälle vievät vain jyrkät portaat\, eikä inva-wc:tä ole. \nGraffakiitos: Victoria Patshijew \nLisätietoja tapahtumasta saat tapahtumavastaavilta Emma Jaakolalta (Telegram: @Emmajaakola) sekä Hanna Pajalalta (Telegram: @boolipajala) tai sähköpostista tapahtumat@staabi.fi . Myös tapahtuman kestävyyden huomioimisesta saat halutessasi tietoa tapahtuman järjestäjiltä: (@Emmajaakola & @boolipajala). \nStaabin tapahtumien löytötavaroita säilytetään 3kk tapahtuman jälkeen\, jonka jälkeen ne hävitetään kierrätysmahdollisuuksia hyödyntäen. Arvotavarat toimitetaan poliisille. \nMitä tehdä\, jos näet tai koet epäasiallista käytöstä Staabin toimintaympäristössä? \n\nTapahtumissa häirintä-\, kiusaamis ja epäasiallisissa tilanteissa yhteyshenkilönä toimivat palautetyöryhmän jäsenet. Palautetyöryhmään kuuluvat puheenjohtaja Ada Siikaluoma\, kolmiovastaava ja varapuheenjohtaja Ella Lavaste\, tuutor- ja yhdenvertaisuusvastaava Magdalena Honkasalo ja projektivastaava Akseli Laiho. Mikäli palautetyöryhmän jäseniä ei ole paikalla\, voit ottaa yhteyttä muuhun hallituksen jäseneen.\nTapahtumien jatkoina olevat baarit eivät kuulu Staabin viralliseen toimintaympäristöön\, jolloin häiritsevästä käyttäytymisestä tulee ilmoittaa ensisijaisesti ravintolan henkilökunnalle.\nTapahtuman ulkopuolella voit ottaa yhteyttä tukihenkilöön. Staabin tukihenkilöinä toimii Riikka Hämäläinen ja Ville Jaara. Tukihenkilöt käsittelevät  yhteydenotot tapahtuman ulkopuolella ja heidät tavoittaa parhaiten joko Telegramissa @riikkahamalainen ja @jaaraville tai sähköpostitse tukiriikka@staabi.fi ja tukiville@staabi.fi. .\nHalutessasi voit myös ottaa yhteyttä TREY:n häirintäyhdyshenkilöön sähköpostilla\, puhelimitse tai TREYn häirintälomakkeella. Yhteystiedot löytyvät TREYn verkkosivuilta.\nHäiritsevästä käytöksestä voit myös ilmoittaa Staabin verkkosivuilta löytyvän häirintälomakkeen kautta. Häirintälomakkeet menevät yhdenvertaisuusvastaavalle ja ovat vain yhdenvertaisuusvastaavan luettavissa.\n\nKokemukset ovat yksilöllisiä ja toimenpiteet tapauskohtaisia. Jokainen yhteydenotto käsitellään luottamuksellisesti ja jatkotoimenpiteisiin ryhdytään vain sinun suostumuksellasi. \n\n\n————————– \nWHAT? Staabi’s First Meeting vol 2024!\nWHERE? With your own tutor group at the location announced by your tutors\, and then all together at Messukylän työväentalo\, address Messukylänkatu 47.\nWHEN? August 18th at 5 pm (restaurant meeting) and at 7.30 pm (Messukylän työväentalo).\nTO WHOM? New Staabi freshers + their tutors.\nWHY? Because Staabi’s Freshers’ Weeks start here!\nCOST? Free (except for possible self-paid restaurant meals/drinks).\nWHAT TO WEAR? Casual clothes. \nWelcome to Staabi! In this traditional event\, Staabi freshers (first-year students) are welcomed to Staabi and Staabi’s Freshers’ weeks! The first meeting begins with a gathering of your own tutor group at a location your group tutors will inform you about. After the group gathering\, all freshers and their tutors will move to Messukylän työväentalo for more activities. \nThe event is not fully accessible. There may be stairs at the tutor group meeting locations – ask your tutor about your meeting place. Unfortunately\, Messukylän työväentalo is not accessible\, as the only way inside is via steep stairs\, and there is no accessible restroom. \nFor more information about the event\, you can contact the event coordinators Emma Jaakola (Telegram: @Emmajaakola) and Hanna Pajala (Telegram: @boolipajala) or email tapahtumat@staabi.fi. You can also inquire about the event’s sustainability from the organizers (@Emmajaakola & @boolipajala). \nThanks for the graphs: Victoria Patshijew \nLost and found items from Staabi events are kept for 3 months after the event\, after which they are disposed of using recycling options. Valuables are handed over to the police. \n\nWhat to do if you see or experience inappropriate behavior in Staabi’s operating environment? \n\nFor incidents of harassment\, bullying and inappropriate situations\, members of the feedback team are the contact point. The feedback team consists of Ada Siikaluoma (Chairperson)\, Ella Lavaste (Kolmiot Manager and Vice-Chairperson)\, Magdalena Honkasalo (Tutoring and Equality Manager)\, and Akseli Laiho (Project Manager). If the members of the feedback group are not present\, you can contact another board member.\nBars that are continuations of events are not part of Staabi’s official operating environment\, in which case disturbing behavior should be reported primarily to the restaurant’s staff.\nOutside the event\, you can contact a support person. Staabi’s support persons are Riikka Hämäläinen and Ville Jaara. The support person handle contacts outside the events and are best reached on Telegram @riikkahamalainen and @jaaraville or by e-mail tukiriikka@staabi.fi and tukiville@staabi.fi.\nIf you wish\, you can also contact TREY’s harassment contact person by email\, phone or using TREY’s harassment form. Contact information can be found on TREY’s website.\nYou can also report disruptive behavior via the harassment form found on Staabi’s website. Harassment forms go to the equality officer and can only be read by the equality officer.\n\nExperiences are individual and measures are case-specific. Every contact is treated confidentially and further measures are taken only with your consent.Found items from Staabi’s events are stored for three months after the event\, after which they are disposed of using recycling opportunities. Valuables are delivered to the police. \n\n 
URL:https://staabi.fi/kalenteri/ensitapaaminen/
ATTACH;FMTTYPE=image/png:https://staabi.fi/wp-content/uploads/2024/07/ensitapaaminen24.png
END:VEVENT
END:VCALENDAR